BEGIN:VCALENDAR
PRODID:NingEventWidget-v1
VERSION:2.0
METHOD:PUBLISH
BEGIN:VTIMEZONE
TZID:America/New_York
X-LIC-LOCATION:America/New_York
BEGIN:DAYLIGHT
TZOFFSETFROM:-0500
TZOFFSETTO:-0400
TZNAME:EDT
DTSTART:19700308T020000
RRULE:FREQ=YEARLY;BYMONTH=3;BYDAY=2SU
END:DAYLIGHT
BEGIN:STANDARD
TZOFFSETFROM:-0400
TZOFFSETTO:-0500
TZNAME:EST
DTSTART:19701101T020000
RRULE:FREQ=YEARLY;BYMONTH=11;BYDAY=1SU
END:STANDARD
END:VTIMEZONE
BEGIN:VEVENT
UID:2938326:Event:564469
DTSTAMP:20260421T052620Z
SUMMARY:Dieci Uomo Salon Happy Hour CANCELED
DESCRIPTION:This event has been canceled. We needed 10 men to book any
  service. ZERO men booked services so we assume there was not much of 
 an interest.\n\nTime for the fellas to get a little TLC! Join us for a
  special ‘boys night out’ open house at Dieci Uomo: Salon for Men.
  Enjoy complimentary cocktails and light bites all evening long. Plus,
  if you book one of Dieci Uomo’s salon services 24 hours pre-event, 
 you’ll receive a comp’d express manicure, shoe shine, AND chair ma
 ssage. You can read about everything they offer here http://www.dieciu
 omo.com/#!services/c22f6 because everyone deserves to be pampered.  W
 ho Can Attend: NJYP MALE Members and their MALE guests. This event is 
 an open house so bring your guy friends, brothers, fathers, and any ot
 her man you know who needs to de-stress a little.  \n\nCost: There is 
 no cost to attend.  If you book a service 24 hours pre-event you will 
 receive a complimentary manicure, shoe shine, and chair massage! To b
 ook a service call (973) 535-1400 or email info@dieciuomo.com and let 
 them know you are part of the NJYP Open House.  Directions: Compliment
 ary valet parking on premise for all guests. http://www.dieciuomo.com
 /#!appointments/con8\n\n\n\n\nFor more information visit http://njyp.o
 rg/events/dieci-uomo-salon-happy-hour
DTSTART;TZID=America/New_York:20140619T180000
DTEND;TZID=America/New_York:20140619T200000
CATEGORIES:"essex county", social
LOCATION:Dieci Uomo Salon for Men
WEBSITE:http://www.dieciuomo.com/
URL:http://www.dieciuomo.com/
CONTACT:
ORGANIZER;CN="Brian and Mike":http://njyp.org/profile/BrianMike
ATTACH;FMTTYPE="image/jpeg":http://storage.ning.com/topology/rest/1.0/
 file/get/1088977460?profile=original
ATTENDEE;ROLE=REQ-PARTICIPANT;PARTSTAT=ACCEPTED;RSVP=TRUE;CN="Dennis L
 ee":http://njyp.org/profile/leeden
ATTENDEE;ROLE=REQ-PARTICIPANT;PARTSTAT=ACCEPTED;RSVP=TRUE;CN=Matthew:h
 ttp://njyp.org/profile/Matthew32
ATTENDEE;ROLE=REQ-PARTICIPANT;PARTSTAT=ACCEPTED;RSVP=TRUE;CN=Steven:ht
 tp://njyp.org/profile/Steven66
ATTENDEE;ROLE=REQ-PARTICIPANT;PARTSTAT=ACCEPTED;RSVP=TRUE;CN=Kevin:htt
 p://njyp.org/profile/Kevin164
ATTENDEE;ROLE=REQ-PARTICIPANT;PARTSTAT=ACCEPTED;RSVP=TRUE;CN=James:htt
 p://njyp.org/profile/JamesShow
ATTENDEE;ROLE=REQ-PARTICIPANT;PARTSTAT=ACCEPTED;RSVP=TRUE;CN="Brian an
 d Mike":http://njyp.org/profile/BrianMike
ATTENDEE;ROLE=REQ-PARTICIPANT;PARTSTAT=TENTATIVE;RSVP=TRUE;CN=Edward:h
 ttp://njyp.org/profile/EKotwica
END:VEVENT
END:VCALENDAR
