BEGIN:VCALENDAR
PRODID:NingEventWidget-v1
VERSION:2.0
METHOD:PUBLISH
BEGIN:VTIMEZONE
TZID:America/New_York
X-LIC-LOCATION:America/New_York
BEGIN:DAYLIGHT
TZOFFSETFROM:-0500
TZOFFSETTO:-0400
TZNAME:EDT
DTSTART:19700308T020000
RRULE:FREQ=YEARLY;BYMONTH=3;BYDAY=2SU
END:DAYLIGHT
BEGIN:STANDARD
TZOFFSETFROM:-0400
TZOFFSETTO:-0500
TZNAME:EST
DTSTART:19701101T020000
RRULE:FREQ=YEARLY;BYMONTH=11;BYDAY=1SU
END:STANDARD
END:VTIMEZONE
BEGIN:VEVENT
UID:2938326:Event:430432
DTSTAMP:20260421T120157Z
SUMMARY:DMC's BootCamp in Morristown
DESCRIPTION:So sorry but this was canceled due to lack of interest. We
  needed a bigger group to sign up for the private boot camp.\n\nWarm-u
 p. Workout. Cool-down. DMC’s BootCamp is a ground breaking program t
 hat takes exercises developed by our highly qualified physical therapi
 sts and uses them to benefit individuals looking to achieve their fitn
 ess and wellness goals. Expect a fun, upbeat, full body workout  that
  is JUST for Young Professionals.    Who Can Attend: Members only can
  attend.  Cost/Tickets: $5, payable at the door.  What to Wear: Gym cl
 othes and clean workout sneakers. Bring water.  Directions “We have 
 a front and a rear entrance to the building. Our rear entrance is loca
 ted off of Pine Street, behind the Dublin Pub. You will see the DMC At
 hletics and Rehabilitation sign, just pull into the driveway and proce
 ed towards the rear of the parking lot. Help yourself to any parking s
 pot (regardless of what the signs say) and take advantage of the FREE 
 parking.” Morristown Location -  http://dmcrehab.com/location\n\nFo
 r more information visit http://njyp.org/events/dmc-s-bootcamp-in-morr
 istown
DTSTART;TZID=America/New_York:20130414T100000
DTEND;TZID=America/New_York:20130414T110000
CATEGORIES:"morris county", athletic, bbc
LOCATION:DMC
WEBSITE:http://dmcrehab.com/location
URL:http://dmcrehab.com/location
CONTACT:
ORGANIZER;CN="Brian and Mike":http://njyp.org/profile/BrianMike
ATTACH;FMTTYPE="image/jpeg":http://storage.ning.com/topology/rest/1.0/
 file/get/1088681692?profile=original
ATTENDEE;ROLE=REQ-PARTICIPANT;PARTSTAT=ACCEPTED;RSVP=TRUE;CN="Lindsay 
 Glassman":http://njyp.org/profile/LindsayGlassman
ATTENDEE;ROLE=REQ-PARTICIPANT;PARTSTAT=ACCEPTED;RSVP=TRUE;CN="Lisa E":
 http://njyp.org/profile/Lisa816
ATTENDEE;ROLE=REQ-PARTICIPANT;PARTSTAT=TENTATIVE;RSVP=TRUE;CN=Eric:htt
 p://njyp.org/profile/EricSieck
ATTENDEE;ROLE=REQ-PARTICIPANT;PARTSTAT=TENTATIVE;RSVP=TRUE;CN=Larry:ht
 tp://njyp.org/profile/LarryYang
ATTENDEE;ROLE=REQ-PARTICIPANT;PARTSTAT=TENTATIVE;RSVP=TRUE;CN=Christen
 :http://njyp.org/profile/Christen750
END:VEVENT
END:VCALENDAR
