BEGIN:VCALENDAR
PRODID:NingEventWidget-v1
VERSION:2.0
METHOD:PUBLISH
BEGIN:VTIMEZONE
TZID:America/New_York
X-LIC-LOCATION:America/New_York
BEGIN:DAYLIGHT
TZOFFSETFROM:-0500
TZOFFSETTO:-0400
TZNAME:EDT
DTSTART:19700308T020000
RRULE:FREQ=YEARLY;BYMONTH=3;BYDAY=2SU
END:DAYLIGHT
BEGIN:STANDARD
TZOFFSETFROM:-0400
TZOFFSETTO:-0500
TZNAME:EST
DTSTART:19701101T020000
RRULE:FREQ=YEARLY;BYMONTH=11;BYDAY=1SU
END:STANDARD
END:VTIMEZONE
BEGIN:VEVENT
UID:2938326:Event:149877
DTSTAMP:20260420T032333Z
SUMMARY:DMC's BootCamp in Morristown
DESCRIPTION:Warm-up. Workout. Cool-down. DMC’s BootCamp is a ground 
 breaking program that takes exercises developed by our highly qualifie
 d physical therapists and uses them to benefit individuals looking to 
 achieve their fitness and wellness goals. Expect a fun, upbeat, full b
 ody workout  that is JUST for Young Professionals.  Who Can Attend:A
 nyone who is 21 to 39 years old. Members and Non-Members may attend.Yo
 u must be in good athletic shape, aka fit enough to run up a flight of
  steps without getting winded.Cost/Tickets:$25Call 973-984-0200 or con
 tact Andrew@dmcrehab.com to buy a ticket.Schedule:6:30   Sign in6:45
    Brief Introduction7:00   Class Begins8:00   Class Ends/ Able 
 to Tour the facility.People who attend will be able to use the shower 
 facilities and continue to use the private parking lot if they choose 
 to enjoy the Morristown night life after the event.What to Wear:Gym cl
 othes and clean workout sneakers. Water and towels will be provided.Di
 rections“We have a front and a rear entrance to the building. Our re
 ar entrance is located off of Pine Street, behind the Dublin Pub. You 
 will see the DMC Athletics and Rehabilitation sign, just pull into the
  driveway and proceed towards the rear of the parking lot. Help yourse
 lf to any parking spot (regardless of what the signs say) and take adv
 antage of the FREE parking.”Morristown Location -  http://dmcrehab.
 com/location\n\nFor more information visit http://njyp.org/events/dmcs
 -bootcamp-in-morristown
DTSTART;TZID=America/New_York:20110330T183000
DTEND;TZID=America/New_York:20110330T200000
CATEGORIES:"morris county", athletic
LOCATION:DMC
WEBSITE:http://dmcrehab.com/location
URL:http://dmcrehab.com/location
CONTACT:
ORGANIZER;CN="Brian and Mike":http://njyp.org/profile/BrianMike
ATTACH;FMTTYPE="image/jpeg":http://storage.ning.com/topology/rest/1.0/
 file/get/1088681692?profile=original
ATTENDEE;ROLE=REQ-PARTICIPANT;PARTSTAT=ACCEPTED;RSVP=TRUE;CN=Keri:http
 ://njyp.org/profile/Keri690
ATTENDEE;ROLE=REQ-PARTICIPANT;PARTSTAT=ACCEPTED;RSVP=TRUE;CN=Kelly:htt
 p://njyp.org/profile/Kelly389
ATTENDEE;ROLE=REQ-PARTICIPANT;PARTSTAT=ACCEPTED;RSVP=TRUE;CN=Dharm:htt
 p://njyp.org/profile/DharmeshMistry
ATTENDEE;ROLE=REQ-PARTICIPANT;PARTSTAT=ACCEPTED;RSVP=TRUE;CN=David:htt
 p://njyp.org/profile/David212
ATTENDEE;ROLE=REQ-PARTICIPANT;PARTSTAT=ACCEPTED;RSVP=TRUE;CN=Ben:http:
 //njyp.org/profile/Ben
ATTENDEE;ROLE=REQ-PARTICIPANT;PARTSTAT=ACCEPTED;RSVP=TRUE;CN="Brian an
 d Mike":http://njyp.org/profile/BrianMike
ATTENDEE;ROLE=REQ-PARTICIPANT;PARTSTAT=TENTATIVE;RSVP=TRUE;CN=Heather:
 http://njyp.org/profile/Heather196
ATTENDEE;ROLE=REQ-PARTICIPANT;PARTSTAT=TENTATIVE;RSVP=TRUE;CN="Lauren 
 Greenfield":http://njyp.org/profile/LaurenG
ATTENDEE;ROLE=REQ-PARTICIPANT;PARTSTAT=TENTATIVE;RSVP=TRUE;CN=Dan:http
 ://njyp.org/profile/Dan808
ATTENDEE;ROLE=REQ-PARTICIPANT;PARTSTAT=TENTATIVE;RSVP=TRUE;CN=Dennis:h
 ttp://njyp.org/profile/Dennis711
ATTENDEE;ROLE=REQ-PARTICIPANT;PARTSTAT=TENTATIVE;RSVP=TRUE;CN="Lillian
  T.":http://njyp.org/profile/LillianT
ATTENDEE;ROLE=REQ-PARTICIPANT;PARTSTAT=TENTATIVE;RSVP=TRUE;CN=Kristan:
 http://njyp.org/profile/Kristan
ATTENDEE;ROLE=REQ-PARTICIPANT;PARTSTAT=TENTATIVE;RSVP=TRUE;CN="Kevin H
 aughwout":http://njyp.org/profile/KevinHaughwout
ATTENDEE;ROLE=REQ-PARTICIPANT;PARTSTAT=TENTATIVE;RSVP=TRUE;CN=Jenn:htt
 p://njyp.org/profile/Jenn231
ATTENDEE;ROLE=REQ-PARTICIPANT;PARTSTAT=TENTATIVE;RSVP=TRUE;CN=Lizzie:h
 ttp://njyp.org/profile/ElizabethKuhns
ATTENDEE;ROLE=REQ-PARTICIPANT;PARTSTAT=TENTATIVE;RSVP=TRUE;CN="Jon Ber
 rian":http://njyp.org/profile/JonBerrian
END:VEVENT
END:VCALENDAR
