BEGIN:VCALENDAR
PRODID:NingEventWidget-v1
VERSION:2.0
METHOD:PUBLISH
BEGIN:VTIMEZONE
TZID:America/New_York
X-LIC-LOCATION:America/New_York
BEGIN:DAYLIGHT
TZOFFSETFROM:-0500
TZOFFSETTO:-0400
TZNAME:EDT
DTSTART:19700308T020000
RRULE:FREQ=YEARLY;BYMONTH=3;BYDAY=2SU
END:DAYLIGHT
BEGIN:STANDARD
TZOFFSETFROM:-0400
TZOFFSETTO:-0500
TZNAME:EST
DTSTART:19701101T020000
RRULE:FREQ=YEARLY;BYMONTH=11;BYDAY=1SU
END:STANDARD
END:VTIMEZONE
BEGIN:VEVENT
UID:2938326:Event:23833
DTSTAMP:20260420T123805Z
SUMMARY:Eddie Kowalczyk of LIVE, Art Alexakis of EVERCLEAR  and Leigh 
 Nash of SIXPENCE NONE THE RICHER
DESCRIPTION:Three of music's most innovative guitarists perform solo a
 coustic versions of the hits that made their groups among the most pop
 ular rock acts of the 1990s: Eddie Kowalczyk of Live (\"I Alone,\" \"L
 ightning Crashes\"), Art Alexakis of Everclear (\"Wonderful,\" \"Santa
  Monica\") and Leigh Nash of Sixpence None the Richer (\"Kiss Me,\" \"
 There She Goes\").\n\n$25 Tickets* (normally $37)\n*B Section Only\nPl
 ease use promo code 10NJYP to get the discount.\nCall (973) 539-8008\n
 \nYou will not be seated together unless tickets are purchased togethe
 r.\n\nMore Information:\nhttp://www.eddieklive.com/\nhttp://www.evercl
 earonline.com/\nhttp://www.myspace.com/sixpencethericher\n\n\n\n\nBack
 ground:\nIn the words of Eddie Kowalczyk...\n\"As a songwriter and a s
 inger in a successful rock band, I have had the good fortune of being 
 surrounded by incredible musicians, lots of wonderful production on bo
 th record and onstage and plenty of VOLUME! But did you know that the 
 story of your favorite songs often originates in a much different envi
 ronment? Open Wings-Broken Strings is an opportunity for you to get to
  the heart of your favorite artists and their songs in a unique and co
 mpelling way. Stripped down, intimate and acoustic, you’ll hear the 
 strings on the guitar vibrate and buzz, the vocal chords hum and pulsa
 te as the songs you love come to life like you never knew they could. 
 In this intimate environment, the rockstar steps out from behind the l
 ayers of decibel and drama to greet you with the essence, the story, a
 nd the song. Quiet, just might be the new loud.\"\n\n-Eddie Kowalczyk 
 of Live\n\nDirections:\nhttp://www.mayoarts.org\n\nFor more informatio
 n visit http://njyp.org/events/eddie-kowalczyk-of-live-art
DTSTART;TZID=America/New_York:20091024T200000
DTEND;TZID=America/New_York:20091024T230000
CATEGORIES:"morris county", arts
LOCATION:Community Theatre at Mayo Center for the Performing Arts
WEBSITE:http://www.mayoarts.org
URL:http://www.mayoarts.org
CONTACT:(973) 539-8008
ORGANIZER;CN="Brian and Mike":http://njyp.org/profile/BrianMike
ATTACH;FMTTYPE="image/jpeg":http://storage.ning.com/topology/rest/1.0/
 file/get/1088567643?profile=original
ATTENDEE;ROLE=REQ-PARTICIPANT;PARTSTAT=ACCEPTED;RSVP=TRUE;CN="Leora Gr
 eenhaus":http://njyp.org/profile/LeoraDagani
ATTENDEE;ROLE=REQ-PARTICIPANT;PARTSTAT=ACCEPTED;RSVP=TRUE;CN="Eugene G
 eis":http://njyp.org/profile/EugeneGeis
ATTENDEE;ROLE=REQ-PARTICIPANT;PARTSTAT=ACCEPTED;RSVP=TRUE;CN="Jennifer
  L. Campbell":http://njyp.org/profile/JenniferLCampbell
ATTENDEE;ROLE=REQ-PARTICIPANT;PARTSTAT=ACCEPTED;RSVP=TRUE;CN="Rob Rizz
 o":http://njyp.org/profile/RobertRizzoJr
ATTENDEE;ROLE=REQ-PARTICIPANT;PARTSTAT=ACCEPTED;RSVP=TRUE;CN="Jacqueli
 ne Durett":http://njyp.org/profile/JacquelineDurett
ATTENDEE;ROLE=REQ-PARTICIPANT;PARTSTAT=TENTATIVE;RSVP=TRUE;CN="Kristin
  Kopec":http://njyp.org/profile/KristinKopec
END:VEVENT
END:VCALENDAR
