BEGIN:VCALENDAR
PRODID:NingEventWidget-v1
VERSION:2.0
METHOD:PUBLISH
BEGIN:VTIMEZONE
TZID:America/New_York
X-LIC-LOCATION:America/New_York
BEGIN:DAYLIGHT
TZOFFSETFROM:-0500
TZOFFSETTO:-0400
TZNAME:EDT
DTSTART:19700308T020000
RRULE:FREQ=YEARLY;BYMONTH=3;BYDAY=2SU
END:DAYLIGHT
BEGIN:STANDARD
TZOFFSETFROM:-0400
TZOFFSETTO:-0500
TZNAME:EST
DTSTART:19701101T020000
RRULE:FREQ=YEARLY;BYMONTH=11;BYDAY=1SU
END:STANDARD
END:VTIMEZONE
BEGIN:VEVENT
UID:2938326:Event:707060
DTSTAMP:20260422T083250Z
SUMMARY:End of Fall Party in Hoboken
DESCRIPTION:Update: ~30 tickets sold as of Wed! Expecting 60+\n\nMembe
 r Cost: $8 online until 11.27.15 (11:59PM) $10 online, $12 at the do
 or\nNon-Member Cost: $15 online or at the door\nCelebrate the end of 
 fall in the private, backroom with dedicated DJ at Mulligan's in Hobok
 en! The big backroom has a long bar, lots of seating, and dance floor,
  where we will mix and mingle all night.\nNJYP-only Drink Specials: 
 $4 drafts and $5 mixed drinks\nWho can attend:\nYoung professionals, s
 ingle or married, who are 21-39 years of age.  Tickets: All sales are 
 final. A limited number of tickets will be sold.  This event is rain 
 or shine.  How to get there:\nMulligan's is at 159 First Street. There
  are parking garages in town and some street parking, but we highly en
 courage taking public transportation. Mulligan's is very close to the 
 train station (both NJ Transit and the PATH are available), with both 
 methods running frequently on the Friday.   How to find the group: We
  have the private backroom!\n\n\nFor more information visit http://njy
 p.org/events/end-of-fall-party-in-hoboken
DTSTART;TZID=America/New_York:20151204T200000
DTEND;TZID=America/New_York:20151204T230000
CATEGORIES:"hudson county", social, fall, winter, party, fest, private
 , specials
LOCATION:Mulligan's Hoboken
WEBSITE:
URL:
CONTACT:
ORGANIZER;CN="Michael Park":http://njyp.org/profile/MichaelPark
ATTACH;FMTTYPE="image/jpeg":http://storage.ning.com/topology/rest/1.0/
 file/get/1089087008?profile=original
ATTENDEE;ROLE=REQ-PARTICIPANT;PARTSTAT=ACCEPTED;RSVP=TRUE;CN=Sarah:htt
 p://njyp.org/profile/Sarah867
ATTENDEE;ROLE=REQ-PARTICIPANT;PARTSTAT=ACCEPTED;RSVP=TRUE;CN=Marcin:ht
 tp://njyp.org/profile/Marcin
ATTENDEE;ROLE=REQ-PARTICIPANT;PARTSTAT=ACCEPTED;RSVP=TRUE;CN="Vincent 
 \"Matthew\" Vigorita":http://njyp.org/profile/VincentMatthewVigorita
ATTENDEE;ROLE=REQ-PARTICIPANT;PARTSTAT=ACCEPTED;RSVP=TRUE;CN=Gina:http
 ://njyp.org/profile/Gina655
ATTENDEE;ROLE=REQ-PARTICIPANT;PARTSTAT=ACCEPTED;RSVP=TRUE;CN="Brian Me
 lnick":http://njyp.org/profile/Brian1218
ATTENDEE;ROLE=REQ-PARTICIPANT;PARTSTAT=ACCEPTED;RSVP=TRUE;CN=Dhruv:htt
 p://njyp.org/profile/DhruvM
ATTENDEE;ROLE=REQ-PARTICIPANT;PARTSTAT=ACCEPTED;RSVP=TRUE;CN=Deep:http
 ://njyp.org/profile/Deep
ATTENDEE;ROLE=REQ-PARTICIPANT;PARTSTAT=ACCEPTED;RSVP=TRUE;CN="Dmitry L
 apin":http://njyp.org/profile/DmitryLapin
ATTENDEE;ROLE=REQ-PARTICIPANT;PARTSTAT=ACCEPTED;RSVP=TRUE;CN="Chintan 
 Kamdar":http://njyp.org/profile/Chintan
ATTENDEE;ROLE=REQ-PARTICIPANT;PARTSTAT=ACCEPTED;RSVP=TRUE;CN=Kevin:htt
 p://njyp.org/profile/Kevin164
ATTENDEE;ROLE=REQ-PARTICIPANT;PARTSTAT=ACCEPTED;RSVP=TRUE;CN="Michael 
 Park":http://njyp.org/profile/MichaelPark
ATTENDEE;ROLE=REQ-PARTICIPANT;PARTSTAT=TENTATIVE;RSVP=TRUE;CN=Damien:h
 ttp://njyp.org/profile/DamienCaillault
ATTENDEE;ROLE=REQ-PARTICIPANT;PARTSTAT=TENTATIVE;RSVP=TRUE;CN=Mae:http
 ://njyp.org/profile/Mae
ATTENDEE;ROLE=REQ-PARTICIPANT;PARTSTAT=TENTATIVE;RSVP=TRUE;CN=Tonye:ht
 tp://njyp.org/profile/Tonye
ATTENDEE;ROLE=REQ-PARTICIPANT;PARTSTAT=TENTATIVE;RSVP=TRUE;CN=Rae:http
 ://njyp.org/profile/Rae783
ATTENDEE;ROLE=REQ-PARTICIPANT;PARTSTAT=TENTATIVE;RSVP=TRUE;CN=Pete:htt
 p://njyp.org/profile/Pete592
ATTENDEE;ROLE=REQ-PARTICIPANT;PARTSTAT=TENTATIVE;RSVP=TRUE;CN=Mike:htt
 p://njyp.org/profile/Mike663
ATTENDEE;ROLE=REQ-PARTICIPANT;PARTSTAT=TENTATIVE;RSVP=TRUE;CN=Rachel:h
 ttp://njyp.org/profile/Rachel853
ATTENDEE;ROLE=REQ-PARTICIPANT;PARTSTAT=TENTATIVE;RSVP=TRUE;CN=Walter:h
 ttp://njyp.org/profile/Walter
END:VEVENT
END:VCALENDAR
