BEGIN:VCALENDAR
PRODID:NingEventWidget-v1
VERSION:2.0
METHOD:PUBLISH
BEGIN:VTIMEZONE
TZID:America/New_York
X-LIC-LOCATION:America/New_York
BEGIN:DAYLIGHT
TZOFFSETFROM:-0500
TZOFFSETTO:-0400
TZNAME:EDT
DTSTART:19700308T020000
RRULE:FREQ=YEARLY;BYMONTH=3;BYDAY=2SU
END:DAYLIGHT
BEGIN:STANDARD
TZOFFSETFROM:-0400
TZOFFSETTO:-0500
TZNAME:EST
DTSTART:19701101T020000
RRULE:FREQ=YEARLY;BYMONTH=11;BYDAY=1SU
END:STANDARD
END:VTIMEZONE
BEGIN:VEVENT
UID:2938326:Event:15451
DTSTAMP:20260420T104121Z
SUMMARY:Entrepreneur Exposé
DESCRIPTION:Join us on October 24th at the Hamilton Park Conference Ce
 nter for an all-day, inspirational event for and about women entrepren
 eurs!\n\nEntrepreneur Exposé was developed in an effort to support wo
 men who want to start a business or who own a business and want to gro
 w an empire. The launch event will consist of business exhibitors, pan
 el presentations, image makeovers and inspirational speakers who will 
 tell their entrepreneurial success stories!\n\nSchedule:\n8:30 AM – 
 REGISTRATION\n• Open Exhibit area; Video running; Networking etc…\
 n9:15 – Opening Remarks\n9:30 – Speaker–Lori Matheus, VP NJEDA, 
 Regional Business Development\n• Opportunities and importance of Ent
 repreneurship to stimulate the economy\n10:00 – 10:15 – BREAK\n10:
 15 – 11:15 – BREAK-OUT SESSION\n11:15 – 11:30 – Meet The Break
 -Out Session Panelists\n11:30 - 12:30 – Lunch/Expo/Networking/Media 
 Interviews\n12:30- 1:15 – Key Note Speaker: NANCY MICHAELS, Author o
 f 5 books\non marketing for small businesses\n“Stripped to the core
 a hope revolution for women”\n1:15 – 2:15 – Governor Candidate
 s\n2:15 – 3:00 – “She Works Hard for the Money”\n• Testimoni
 al Panel of successful women entrepreneurs\n3:00 – 3:15 – Wrap-Up\
 n• Invitation to move upstairs for Networking, Media Interviews to c
 ontinue.\n3:30- 5:30 - Network & Media Interviews\n\nAbout the Breakou
 t Sessions\n“Let Get The Party Started”\nStart-Up Options- Intra-P
 renuerial, Franchise, Start-Up information including: financing, legal
  issues, taxes, start-up marketing do’s & don’ts, partnerships, cr
 eating a brand, evaluating if you have a good idea for a business, cre
 ating an Advisory Team, networking, technology today…\n\n“Money, M
 oney, Money”\nHandling Your Account’s Receivables; Loans, Credit, 
 Grants, Investors, Lease vs. Buy, Paying Yourself, Partnerships, Taxes
 , What to do with a surplus?\n\n“I Will Survive”\nRecession Proof 
 Marketing & Sales Strategies: Social Media, PR, Advertising, Internet,
  Website, Community Marketing Options, Networking\n\n“Simply The Bes
 t”\nHR Issues, Growing Too Fast?; How to be prepared for delivering 
 your goods/services; Lease vs. Buy; Legal Issues as you grow; Technolo
 gical Needs as You Grow.\n\nRegistration:\nNJYP Members save 10% off t
 he ticket price!\nUse Code ‘EE09NJYP02’ when registering.\nClick h
 ere for the REGISTRATION form.\n\nCost:\n$75 early registration until 
 October 1\n$100 thereafter.\nGroup Rate $500 for 8 tickets.\nNJYP Memb
 ers save 10% off the above prices.\nUse Code ‘EE09NJYP02’ when reg
 istering.\n\nHow to Find NJYPers:\nNJYP members will not be seated tog
 ether. If you do want to attend alone contact others on the RSVP list 
 or bring a friend.\n\nFor more information visit http://njyp.org/event
 s/entrepreneur-expose
DTSTART;TZID=America/New_York:20091024T083000
DTEND;TZID=America/New_York:20091024T170000
CATEGORIES:"morris county", networking, educational, "women only"
LOCATION:Hamilton Park Conference Center
WEBSITE:http://www.hamiltonparkhotel.com/location.php
URL:http://www.hamiltonparkhotel.com/location.php
CONTACT:
ORGANIZER;CN="Brian and Mike":http://njyp.org/profile/BrianMike
ATTACH;FMTTYPE="image/jpeg":http://storage.ning.com/topology/rest/1.0/
 file/get/1088560062?profile=original
ATTENDEE;ROLE=REQ-PARTICIPANT;PARTSTAT=ACCEPTED;RSVP=TRUE;CN=Shirley:h
 ttp://njyp.org/profile/shirleyzuniga
ATTENDEE;ROLE=REQ-PARTICIPANT;PARTSTAT=TENTATIVE;RSVP=TRUE;CN="Gabriel
 a Salamanca":http://njyp.org/profile/GabrielaSalamanca
ATTENDEE;ROLE=REQ-PARTICIPANT;PARTSTAT=TENTATIVE;RSVP=TRUE;CN="Stephan
 ie Coutros":http://njyp.org/profile/StephanieCoutros
ATTENDEE;ROLE=REQ-PARTICIPANT;PARTSTAT=TENTATIVE;RSVP=TRUE;CN=Michelle
 :http://njyp.org/profile/MichelleB
ATTENDEE;ROLE=REQ-PARTICIPANT;PARTSTAT=TENTATIVE;RSVP=TRUE;CN="Sonja C
 hartowich":http://njyp.org/profile/SonjaChartowich
END:VEVENT
END:VCALENDAR
