BEGIN:VCALENDAR
PRODID:NingEventWidget-v1
VERSION:2.0
METHOD:PUBLISH
BEGIN:VTIMEZONE
TZID:America/New_York
X-LIC-LOCATION:America/New_York
BEGIN:DAYLIGHT
TZOFFSETFROM:-0500
TZOFFSETTO:-0400
TZNAME:EDT
DTSTART:19700308T020000
RRULE:FREQ=YEARLY;BYMONTH=3;BYDAY=2SU
END:DAYLIGHT
BEGIN:STANDARD
TZOFFSETFROM:-0400
TZOFFSETTO:-0500
TZNAME:EST
DTSTART:19701101T020000
RRULE:FREQ=YEARLY;BYMONTH=11;BYDAY=1SU
END:STANDARD
END:VTIMEZONE
BEGIN:VEVENT
UID:2938326:Event:732298
DTSTAMP:20260421T014341Z
SUMMARY:Fairfield Co-Ed Volleyball League
DESCRIPTION:New Co-Ed Vollyeball League for Adults 21+ forming in Fair
 field this fall! Games on Thursday nights at 360 Fitness (nj360fitness
 .com). \r\nJoin with a group of your friends or sign up as a \"Free Ag
 ent\" to be placed on a team. Complete information and registration a
 t www.bamsocialsports.com/leagues\r\n The deadline to register is Oct
 ober 6th.  The season will begin October 19th.\r\n Any questions? Ema
 il Brian@bamsocialsports.com\r\n\r\nNOTE: An RSVP to this event DOES N
 OT reserve your spot in the league. To officially join the league you 
 must register at www.bamsocialsports.com/leagues\r\n\r\n*There is no e
 vent at the facility on 10/6, this event page is meant to give informa
 tion about the league and to note 10/6 as the registration deadline.\n
 \nFor more information visit http://njyp.org/events/fairfield-co-ed-vo
 lleyball-league
DTSTART;TZID=America/New_York:20171006T190000
DTEND;TZID=America/New_York:20171006T200000
CATEGORIES:volleyball, sports, league
LOCATION:360 Fitness Performance Sports
WEBSITE:http://nj360fitness.com/
URL:http://nj360fitness.com/
CONTACT:
ORGANIZER;CN="Brian Melnick":http://njyp.org/profile/Brian1218
ATTACH;FMTTYPE="image/jpeg":http://storage.ning.com/topology/rest/1.0/
 file/get/1089155436?profile=original
ATTENDEE;ROLE=REQ-PARTICIPANT;PARTSTAT=ACCEPTED;RSVP=TRUE;CN="Brian Me
 lnick":http://njyp.org/profile/Brian1218
ATTENDEE;ROLE=REQ-PARTICIPANT;PARTSTAT=TENTATIVE;RSVP=TRUE;CN=Bill:htt
 p://njyp.org/profile/BillVivino
END:VEVENT
END:VCALENDAR
