BEGIN:VCALENDAR
PRODID:NingEventWidget-v1
VERSION:2.0
METHOD:PUBLISH
BEGIN:VTIMEZONE
TZID:America/New_York
X-LIC-LOCATION:America/New_York
BEGIN:DAYLIGHT
TZOFFSETFROM:-0500
TZOFFSETTO:-0400
TZNAME:EDT
DTSTART:19700308T020000
RRULE:FREQ=YEARLY;BYMONTH=3;BYDAY=2SU
END:DAYLIGHT
BEGIN:STANDARD
TZOFFSETFROM:-0400
TZOFFSETTO:-0500
TZNAME:EST
DTSTART:19701101T020000
RRULE:FREQ=YEARLY;BYMONTH=11;BYDAY=1SU
END:STANDARD
END:VTIMEZONE
BEGIN:VEVENT
UID:2938326:Event:715329
DTSTAMP:20260420T032331Z
SUMMARY:Feel Good Friday in Hoboken
DESCRIPTION:Update: 25 tix sold as of 4/20! Expecting 50+ at the event
 . Get tix now!\nFeel Good Friday - Join us for a big Hoboken party on 
 the recently renovated 2nd floor of The Dubliner! We'll have the whole
  floor private to our party, with DJ, bartenders, and drink/food speci
 als. More details to come.\nCome to the second floor.\nSpecials: $3 Be
 ers, $5 Mixed Drinks, $6 personal pizza ($2 off regular price)\nMembe
 r Cost: $5.99 Early Bird until 4/22 $8.99 4/23+, $14.99 at the door\nN
 on-Member Cost: $12.99 online and $14.99 at the door.  Who can attend:
  Young professionals, single or married, who are 21-39 years of age. 
  Tickets: There are a limited number of Tickets for sale. Tickets are
  not mailed, but your name will be kept at the door. All sales are fin
 al.  Directions: Just a block from the PATH. Dubliner is on the corne
 r of 1st St. and River St. We have the second floor private for NJYP. 
 \n\n\nFor more information visit http://njyp.org/events/feel-good-frid
 ay-in-hoboken
DTSTART;TZID=America/New_York:20160429T200000
DTEND;TZID=America/New_York:20160429T223000
CATEGORIES:"hudson county", social, friday, feel, good, hoboken, speci
 als
LOCATION:The Dubliner
WEBSITE:https://www.eventbrite.com/e/feel-good-friday-in-hoboken-ticke
 ts-21730651965
URL:https://www.eventbrite.com/e/feel-good-friday-in-hoboken-tickets-2
 1730651965
CONTACT:
ORGANIZER;CN="Michael Park":http://njyp.org/profile/MichaelPark
ATTACH;FMTTYPE="image/jpeg":http://storage.ning.com/topology/rest/1.0/
 file/get/1089107033?profile=original
ATTENDEE;ROLE=REQ-PARTICIPANT;PARTSTAT=ACCEPTED;RSVP=TRUE;CN=Thomas:ht
 tp://njyp.org/profile/Thomas955
ATTENDEE;ROLE=REQ-PARTICIPANT;PARTSTAT=ACCEPTED;RSVP=TRUE;CN=Grace:htt
 p://njyp.org/profile/Grace24
ATTENDEE;ROLE=REQ-PARTICIPANT;PARTSTAT=ACCEPTED;RSVP=TRUE;CN=Jessica:h
 ttp://njyp.org/profile/Jessica916
ATTENDEE;ROLE=REQ-PARTICIPANT;PARTSTAT=ACCEPTED;RSVP=TRUE;CN="Brian Me
 lnick":http://njyp.org/profile/Brian1218
ATTENDEE;ROLE=REQ-PARTICIPANT;PARTSTAT=ACCEPTED;RSVP=TRUE;CN=Keith:htt
 p://njyp.org/profile/Keith873
ATTENDEE;ROLE=REQ-PARTICIPANT;PARTSTAT=ACCEPTED;RSVP=TRUE;CN=Elise:htt
 p://njyp.org/profile/EliseAntoine
ATTENDEE;ROLE=REQ-PARTICIPANT;PARTSTAT=ACCEPTED;RSVP=TRUE;CN=Daphnee:h
 ttp://njyp.org/profile/Daphnee
ATTENDEE;ROLE=REQ-PARTICIPANT;PARTSTAT=ACCEPTED;RSVP=TRUE;CN="Michael 
 Park":http://njyp.org/profile/MichaelPark
ATTENDEE;ROLE=REQ-PARTICIPANT;PARTSTAT=TENTATIVE;RSVP=TRUE;CN=Viktoria
 :http://njyp.org/profile/Viktoria
ATTENDEE;ROLE=REQ-PARTICIPANT;PARTSTAT=TENTATIVE;RSVP=TRUE;CN=Zakkiyya
 :http://njyp.org/profile/ZakkiyyaTaylor
ATTENDEE;ROLE=REQ-PARTICIPANT;PARTSTAT=TENTATIVE;RSVP=TRUE;CN=Zee:http
 ://njyp.org/profile/Zee687
ATTENDEE;ROLE=REQ-PARTICIPANT;PARTSTAT=TENTATIVE;RSVP=TRUE;CN=Kevin:ht
 tp://njyp.org/profile/Kevin164
ATTENDEE;ROLE=REQ-PARTICIPANT;PARTSTAT=TENTATIVE;RSVP=TRUE;CN=Oded:htt
 p://njyp.org/profile/Oded
END:VEVENT
END:VCALENDAR
