BEGIN:VCALENDAR
PRODID:NingEventWidget-v1
VERSION:2.0
METHOD:PUBLISH
BEGIN:VTIMEZONE
TZID:America/New_York
X-LIC-LOCATION:America/New_York
BEGIN:DAYLIGHT
TZOFFSETFROM:-0500
TZOFFSETTO:-0400
TZNAME:EDT
DTSTART:19700308T020000
RRULE:FREQ=YEARLY;BYMONTH=3;BYDAY=2SU
END:DAYLIGHT
BEGIN:STANDARD
TZOFFSETFROM:-0400
TZOFFSETTO:-0500
TZNAME:EST
DTSTART:19701101T020000
RRULE:FREQ=YEARLY;BYMONTH=11;BYDAY=1SU
END:STANDARD
END:VTIMEZONE
BEGIN:VEVENT
UID:2938326:Event:428347
DTSTAMP:20260420T204751Z
SUMMARY:Fencing 101
DESCRIPTION:Enguard! NJYP has teamed up with Hub City Fencing for a sp
 ecial, members only fencing class. It doesn’t matter if you are an a
 vid fencing fan or can’t tell the difference between an épée and a
  foil - Hub City will break down the basics in an engaging class targe
 ted toward beginners. Plus, you'll get to practice with actual fencing
  equipment on real people (well, maybe)!  Who can Attend: Members who 
 are 21 to 39 years old. This will be a private event for NJYPers.  Wha
 t to bring: All equipment will be provided. You must wear sneakers. Br
 ing water.  Cost: $0 for Better Body Challenge participants $5 for eve
 ryone else Payable at the door  Are you a Sideliner or Player? Go here
  for ticket discount info, http://www.njyp.org/group/the-better-body-c
 hallenge-2013  Tickets: There are a limited number of Tickets for sale
 . Tickets are not mailed, but your name will be kept at the door. All 
 sales are final.  Directions: http://hubcityfencing.com/ The building 
 is located directly behind the Edison Municipal Public Works Garage. P
 articipants will drive down a long driveway, and make a right. Then th
 ey can park in the diagonal parking spaces.\n\nFor more information vi
 sit http://njyp.org/events/fencing-101
DTSTART;TZID=America/New_York:20130406T150000
DTEND;TZID=America/New_York:20130406T160000
CATEGORIES:"middlesex county", athletic, bbc
LOCATION:Hub City Fencing
WEBSITE:http://hubcityfencing.com/
URL:http://hubcityfencing.com/
CONTACT:
ORGANIZER;CN="Brian and Mike":http://njyp.org/profile/BrianMike
ATTACH;FMTTYPE="image/jpeg":http://storage.ning.com/topology/rest/1.0/
 file/get/1088850940?profile=original
ATTENDEE;ROLE=REQ-PARTICIPANT;PARTSTAT=ACCEPTED;RSVP=TRUE;CN=Deep:http
 ://njyp.org/profile/Deep
ATTENDEE;ROLE=REQ-PARTICIPANT;PARTSTAT=ACCEPTED;RSVP=TRUE;CN=Ken:http:
 //njyp.org/profile/Ken547
ATTENDEE;ROLE=REQ-PARTICIPANT;PARTSTAT=ACCEPTED;RSVP=TRUE;CN="Ed H":ht
 tp://njyp.org/profile/EdH
ATTENDEE;ROLE=REQ-PARTICIPANT;PARTSTAT=ACCEPTED;RSVP=TRUE;CN="Olga Ch"
 :http://njyp.org/profile/OlgaChaban
ATTENDEE;ROLE=REQ-PARTICIPANT;PARTSTAT=ACCEPTED;RSVP=TRUE;CN=Vanessa:h
 ttp://njyp.org/profile/Vanessa505
ATTENDEE;ROLE=REQ-PARTICIPANT;PARTSTAT=ACCEPTED;RSVP=TRUE;CN="George M
 orcos":http://njyp.org/profile/GeorgeMorcos
ATTENDEE;ROLE=REQ-PARTICIPANT;PARTSTAT=TENTATIVE;RSVP=TRUE;CN=Matt:htt
 p://njyp.org/profile/Matt471
ATTENDEE;ROLE=REQ-PARTICIPANT;PARTSTAT=TENTATIVE;RSVP=TRUE;CN=Janene:h
 ttp://njyp.org/profile/Janene
ATTENDEE;ROLE=REQ-PARTICIPANT;PARTSTAT=TENTATIVE;RSVP=TRUE;CN=Katie:ht
 tp://njyp.org/profile/Katie563
ATTENDEE;ROLE=REQ-PARTICIPANT;PARTSTAT=TENTATIVE;RSVP=TRUE;CN=James:ht
 tp://njyp.org/profile/JamesShow
ATTENDEE;ROLE=REQ-PARTICIPANT;PARTSTAT=TENTATIVE;RSVP=TRUE;CN=Geoff:ht
 tp://njyp.org/profile/Geoff
ATTENDEE;ROLE=REQ-PARTICIPANT;PARTSTAT=TENTATIVE;RSVP=TRUE;CN=Dylan:ht
 tp://njyp.org/profile/Dylan
ATTENDEE;ROLE=REQ-PARTICIPANT;PARTSTAT=TENTATIVE;RSVP=TRUE;CN=Diana:ht
 tp://njyp.org/profile/Diana437
ATTENDEE;ROLE=REQ-PARTICIPANT;PARTSTAT=TENTATIVE;RSVP=TRUE;CN=Anysa:ht
 tp://njyp.org/profile/Any
ATTENDEE;ROLE=REQ-PARTICIPANT;PARTSTAT=TENTATIVE;RSVP=TRUE;CN="Kevin H
 aughwout":http://njyp.org/profile/KevinHaughwout
ATTENDEE;ROLE=REQ-PARTICIPANT;PARTSTAT=TENTATIVE;RSVP=TRUE;CN=Jen:http
 ://njyp.org/profile/Jen264
ATTENDEE;ROLE=REQ-PARTICIPANT;PARTSTAT=TENTATIVE;RSVP=TRUE;CN=Dar:http
 ://njyp.org/profile/Darlene
END:VEVENT
END:VCALENDAR
