BEGIN:VCALENDAR
PRODID:NingEventWidget-v1
VERSION:2.0
METHOD:PUBLISH
BEGIN:VTIMEZONE
TZID:America/New_York
X-LIC-LOCATION:America/New_York
BEGIN:DAYLIGHT
TZOFFSETFROM:-0500
TZOFFSETTO:-0400
TZNAME:EDT
DTSTART:19700308T020000
RRULE:FREQ=YEARLY;BYMONTH=3;BYDAY=2SU
END:DAYLIGHT
BEGIN:STANDARD
TZOFFSETFROM:-0400
TZOFFSETTO:-0500
TZNAME:EST
DTSTART:19701101T020000
RRULE:FREQ=YEARLY;BYMONTH=11;BYDAY=1SU
END:STANDARD
END:VTIMEZONE
BEGIN:VEVENT
UID:2938326:Event:62800
DTSTAMP:20260419T105507Z
SUMMARY:Foodies: Bobby's Burger Palace
DESCRIPTION:For this month's NJYP Foodie event we are going to check o
 ut Bobby's Burger Palace in Paramus. BBP is one of the many new burger
  joints to hit New Jersey over the last year. Do you think it will sta
 ck up to the rest of them? Join us to taste, talk, and take-up much of
  this restaurant.\n\nAbout NJYP Foodies:\nNJYP Foodies is a new event 
 series where Members will travel the state in search of the Best of th
 e Best.\n\nWho Can Attend:\nThis will be a Members only event, aka you
  paid your Membership Dues. Do not bring your Non-Member friends to th
 is.\n\nRSVPing:\nPlease RSVP on NJYP.org if you plan to attend. If we 
 see that a lot of people are no-showing we may require deposits for fu
 ture events so please keep your RSVP up to date.\n\nCost:\nOnly the co
 st of your meal.\n\nHost:\nIf you can host email Laura@NJYP.org\n\nHow
  to Find the Group:\nAs long as it is NOT raining out we will meet out
 side of the restaurant. Look for signs and please arrive on time so th
 ey can do our best to sit us together. If you arrive late look for lar
 ge scattered groups of YPs.\n\nDirections/Parking:\nBBP is located in 
 Bergen Town Center (former Bergen Mall). It is on the same side as Tar
 get and Whole Foods.\nTONS of free parking.\n\nFor more information vi
 sit http://njyp.org/events/foodies-bobbys-burger-palace
DTSTART;TZID=America/New_York:20100524T183000
DTEND;TZID=America/New_York:20100524T193000
CATEGORIES:"bergen county", social
LOCATION:Bobby's Burger Palace
WEBSITE:http://maps.google.com/maps?hl=en&rlz=1B3GGGL_enUS323US323&um=
 1&ie=UTF-8&cid=0,0,10020734925213514349&fb=1&hq=bobby%27s+burger+palac
 e&hnear=Ridgewood,+NJ&gl=us&daddr=Bergen+Town+Center%0A610+Bergen+Town
 +Center%0AParamus,+NJ+07652&geocode=476972071457133339,40.914858,-74.0
 59191&ei=MGm6S5ajNoGB8ga2ubn9CQ&sa=X&oi=local_result&ct=directions-to&
 resnum=1&ved=0CAkQngIwAA
URL:http://maps.google.com/maps?hl=en&rlz=1B3GGGL_enUS323US323&um=1&ie
 =UTF-8&cid=0,0,10020734925213514349&fb=1&hq=bobby%27s+burger+palace&hn
 ear=Ridgewood,+NJ&gl=us&daddr=Bergen+Town+Center%0A610+Bergen+Town+Cen
 ter%0AParamus,+NJ+07652&geocode=476972071457133339,40.914858,-74.05919
 1&ei=MGm6S5ajNoGB8ga2ubn9CQ&sa=X&oi=local_result&ct=directions-to&resn
 um=1&ved=0CAkQngIwAA
CONTACT:
ORGANIZER;CN="Brian and Mike":http://njyp.org/profile/BrianMike
ATTACH;FMTTYPE="image/jpeg":http://storage.ning.com/topology/rest/1.0/
 file/get/1088610129?profile=original
ATTENDEE;ROLE=REQ-PARTICIPANT;PARTSTAT=ACCEPTED;RSVP=TRUE;CN=Todd:http
 ://njyp.org/profile/Todd391
ATTENDEE;ROLE=REQ-PARTICIPANT;PARTSTAT=ACCEPTED;RSVP=TRUE;CN=Joseph:ht
 tp://njyp.org/profile/Joseph
ATTENDEE;ROLE=REQ-PARTICIPANT;PARTSTAT=ACCEPTED;RSVP=TRUE;CN=Luke:http
 ://njyp.org/profile/Luke
ATTENDEE;ROLE=REQ-PARTICIPANT;PARTSTAT=ACCEPTED;RSVP=TRUE;CN="Jessica 
 Gill":http://njyp.org/profile/JessicaGill
ATTENDEE;ROLE=REQ-PARTICIPANT;PARTSTAT=ACCEPTED;RSVP=TRUE;CN="Aaron De
  Los Reyes":http://njyp.org/profile/AaronDeLosReyes
ATTENDEE;ROLE=REQ-PARTICIPANT;PARTSTAT=ACCEPTED;RSVP=TRUE;CN="Joanna V
 ogel":http://njyp.org/profile/JoannaVogel
ATTENDEE;ROLE=REQ-PARTICIPANT;PARTSTAT=ACCEPTED;RSVP=TRUE;CN=Edward:ht
 tp://njyp.org/profile/EKotwica
ATTENDEE;ROLE=REQ-PARTICIPANT;PARTSTAT=ACCEPTED;RSVP=TRUE;CN=Nita:http
 ://njyp.org/profile/NitaSilimkhan
ATTENDEE;ROLE=REQ-PARTICIPANT;PARTSTAT=ACCEPTED;RSVP=TRUE;CN="Alix Fos
 ter":http://njyp.org/profile/AlixFoster
ATTENDEE;ROLE=REQ-PARTICIPANT;PARTSTAT=ACCEPTED;RSVP=TRUE;CN="Paul N":
 http://njyp.org/profile/PaulN
ATTENDEE;ROLE=REQ-PARTICIPANT;PARTSTAT=ACCEPTED;RSVP=TRUE;CN=Jessica:h
 ttp://njyp.org/profile/JessicaNatalizio
ATTENDEE;ROLE=REQ-PARTICIPANT;PARTSTAT=ACCEPTED;RSVP=TRUE;CN="Niraj Ch
 habra":http://njyp.org/profile/nirajchhabra
ATTENDEE;ROLE=REQ-PARTICIPANT;PARTSTAT=ACCEPTED;RSVP=TRUE;CN="Dan Smit
 h":http://njyp.org/profile/DanSmith
ATTENDEE;ROLE=REQ-PARTICIPANT;PARTSTAT=ACCEPTED;RSVP=TRUE;CN=Darius:ht
 tp://njyp.org/profile/Darius
ATTENDEE;ROLE=REQ-PARTICIPANT;PARTSTAT=ACCEPTED;RSVP=TRUE;CN="Lisa F":
 http://njyp.org/profile/LisaF
ATTENDEE;ROLE=REQ-PARTICIPANT;PARTSTAT=ACCEPTED;RSVP=TRUE;CN="NIcole V
 innal":http://njyp.org/profile/NIcoleVinnal
ATTENDEE;ROLE=REQ-PARTICIPANT;PARTSTAT=ACCEPTED;RSVP=TRUE;CN=Carina:ht
 tp://njyp.org/profile/CarinaHayek
ATTENDEE;ROLE=REQ-PARTICIPANT;PARTSTAT=ACCEPTED;RSVP=TRUE;CN="Elizabet
 h Gonzalez":http://njyp.org/profile/ElizabethGonzalez992
ATTENDEE;ROLE=REQ-PARTICIPANT;PARTSTAT=ACCEPTED;RSVP=TRUE;CN="Jenny M"
 :http://njyp.org/profile/JennyMulcahy
ATTENDEE;ROLE=REQ-PARTICIPANT;PARTSTAT=ACCEPTED;RSVP=TRUE;CN="Kevin Ha
 ughwout":http://njyp.org/profile/KevinHaughwout
ATTENDEE;ROLE=REQ-PARTICIPANT;PARTSTAT=ACCEPTED;RSVP=TRUE;CN=Elizabeth
 :http://njyp.org/profile/Quirky3
ATTENDEE;ROLE=REQ-PARTICIPANT;PARTSTAT=ACCEPTED;RSVP=TRUE;CN="Brian an
 d Mike":http://njyp.org/profile/BrianMike
ATTENDEE;ROLE=REQ-PARTICIPANT;PARTSTAT=TENTATIVE;RSVP=TRUE;CN=Rochelle
 :http://njyp.org/profile/Rochelle
ATTENDEE;ROLE=REQ-PARTICIPANT;PARTSTAT=TENTATIVE;RSVP=TRUE;CN=Jason:ht
 tp://njyp.org/profile/Jason358
ATTENDEE;ROLE=REQ-PARTICIPANT;PARTSTAT=TENTATIVE;RSVP=TRUE;CN="Dana Ge
 orge":http://njyp.org/profile/DanaGeorge
ATTENDEE;ROLE=REQ-PARTICIPANT;PARTSTAT=TENTATIVE;RSVP=TRUE;CN=Vincent:
 http://njyp.org/profile/Vincent
ATTENDEE;ROLE=REQ-PARTICIPANT;PARTSTAT=TENTATIVE;RSVP=TRUE;CN=Pam:http
 ://njyp.org/profile/PamStomel
ATTENDEE;ROLE=REQ-PARTICIPANT;PARTSTAT=TENTATIVE;RSVP=TRUE;CN="Heidi K
 olb":http://njyp.org/profile/HeidiKolb
ATTENDEE;ROLE=REQ-PARTICIPANT;PARTSTAT=TENTATIVE;RSVP=TRUE;CN=Jennifer
 :http://njyp.org/profile/JenniferC
ATTENDEE;ROLE=REQ-PARTICIPANT;PARTSTAT=TENTATIVE;RSVP=TRUE;CN="Ryan Zi
 eja":http://njyp.org/profile/RyanZieja
ATTENDEE;ROLE=REQ-PARTICIPANT;PARTSTAT=TENTATIVE;RSVP=TRUE;CN="rachel 
 irene":http://njyp.org/profile/rachel_irene
ATTENDEE;ROLE=REQ-PARTICIPANT;PARTSTAT=TENTATIVE;RSVP=TRUE;CN=Aimee:ht
 tp://njyp.org/profile/Aimee
ATTENDEE;ROLE=REQ-PARTICIPANT;PARTSTAT=TENTATIVE;RSVP=TRUE;CN="John B"
 :http://njyp.org/profile/johnb
ATTENDEE;ROLE=REQ-PARTICIPANT;PARTSTAT=TENTATIVE;RSVP=TRUE;CN="Christi
 na Hage":http://njyp.org/profile/ChristinaHage
ATTENDEE;ROLE=REQ-PARTICIPANT;PARTSTAT=TENTATIVE;RSVP=TRUE;CN="David A
 very":http://njyp.org/profile/DavidAvery
ATTENDEE;ROLE=REQ-PARTICIPANT;PARTSTAT=TENTATIVE;RSVP=TRUE;CN="Dennis 
 Lee":http://njyp.org/profile/leeden
ATTENDEE;ROLE=REQ-PARTICIPANT;PARTSTAT=TENTATIVE;RSVP=TRUE;CN=John:htt
 p://njyp.org/profile/JohnCastro
END:VEVENT
END:VCALENDAR
