BEGIN:VCALENDAR
PRODID:NingEventWidget-v1
VERSION:2.0
METHOD:PUBLISH
BEGIN:VTIMEZONE
TZID:America/New_York
X-LIC-LOCATION:America/New_York
BEGIN:DAYLIGHT
TZOFFSETFROM:-0500
TZOFFSETTO:-0400
TZNAME:EDT
DTSTART:19700308T020000
RRULE:FREQ=YEARLY;BYMONTH=3;BYDAY=2SU
END:DAYLIGHT
BEGIN:STANDARD
TZOFFSETFROM:-0400
TZOFFSETTO:-0500
TZNAME:EST
DTSTART:19701101T020000
RRULE:FREQ=YEARLY;BYMONTH=11;BYDAY=1SU
END:STANDARD
END:VTIMEZONE
BEGIN:VEVENT
UID:2938326:Event:95980
DTSTAMP:20260420T123808Z
SUMMARY:Foodies: Max's Famous Hot Dogs
DESCRIPTION:Sorry, this event is CANCELED due to lack of interest.\n\n
 Hello Foodies! Join us as we venture over to Max's Famous Hot Dogs. Ma
 x's has been around since 1928 and they certainly have a strong follow
 ing. But do these dog stand up to the hype? Meet up with us to taste, 
 talk, and take-up much of this restaurant.\n\nAbout NJYP Foodies:\nNJY
 P Foodies is an event series where Members will travel the state in se
 arch of the Best of the Best.\n\nWho Can Attend:\nThis will be a Membe
 rs only event, aka you paid your Membership Dues. Do not bring your No
 n-Member friends to this.\n\nCost:\nOnly the cost of your meal.\nPleas
 e RSVP on NJYP.org if you plan to attend.\nEveryone will be given sepa
 rate checks, CASH is a must!\n\nHost:\nIf you can host email Laura@NJY
 P.org\n\nHow to Find the Group:\nAs long as it is NOT raining out we w
 ill meet outside of the restaurant from 6:30 to 6:45. If you want to s
 it with us, please be on time.\n\nDirections:\nhttp://www.maxsfamousho
 tdogs.com/\n\nFor information on their late night events\nhttp://www.f
 acebook.com/group.php?gid=49218065903#!/group.php?gid=49218065903&v=wa
 ll>\n\nFor more information visit http://njyp.org/events/foodies-maxs-
 famous-hot-dogs
DTSTART;TZID=America/New_York:20100928T183000
DTEND;TZID=America/New_York:20100928T200000
CATEGORIES:"monmouth county", social
LOCATION:Max's Famous Hot Dogs
WEBSITE:http://www.maxsfamoushotdogs.com/
URL:http://www.maxsfamoushotdogs.com/
CONTACT:
ORGANIZER;CN="Brian and Mike":http://njyp.org/profile/BrianMike
ATTACH;FMTTYPE="image/jpeg":http://storage.ning.com/topology/rest/1.0/
 file/get/1088636856?profile=original
ATTENDEE;ROLE=REQ-PARTICIPANT;PARTSTAT=ACCEPTED;RSVP=TRUE;CN=Angelique
 :http://njyp.org/profile/Angelique
ATTENDEE;ROLE=REQ-PARTICIPANT;PARTSTAT=ACCEPTED;RSVP=TRUE;CN="Neel Aro
 on":http://njyp.org/profile/NeelAroon
ATTENDEE;ROLE=REQ-PARTICIPANT;PARTSTAT=TENTATIVE;RSVP=TRUE;CN=Marisa:h
 ttp://njyp.org/profile/MarisaA
ATTENDEE;ROLE=REQ-PARTICIPANT;PARTSTAT=TENTATIVE;RSVP=TRUE;CN="William
  Rodriguez":http://njyp.org/profile/WilliamRodriguez
ATTENDEE;ROLE=REQ-PARTICIPANT;PARTSTAT=TENTATIVE;RSVP=TRUE;CN=James:ht
 tp://njyp.org/profile/JamesShow
ATTENDEE;ROLE=REQ-PARTICIPANT;PARTSTAT=TENTATIVE;RSVP=TRUE;CN="Rachel 
 O!":http://njyp.org/profile/RachelOrtiga
ATTENDEE;ROLE=REQ-PARTICIPANT;PARTSTAT=TENTATIVE;RSVP=TRUE;CN=Jess:htt
 p://njyp.org/profile/Jess
ATTENDEE;ROLE=REQ-PARTICIPANT;PARTSTAT=TENTATIVE;RSVP=TRUE;CN="Christo
 pher Dingman":http://njyp.org/profile/ChristopherDingman
ATTENDEE;ROLE=REQ-PARTICIPANT;PARTSTAT=TENTATIVE;RSVP=TRUE;CN="Anu Kha
 re":http://njyp.org/profile/AnuKhare
ATTENDEE;ROLE=REQ-PARTICIPANT;PARTSTAT=TENTATIVE;RSVP=TRUE;CN="Mike Gr
 ossman":http://njyp.org/profile/MikeGrossman
ATTENDEE;ROLE=REQ-PARTICIPANT;PARTSTAT=TENTATIVE;RSVP=TRUE;CN="Alycia 
 Yerves":http://njyp.org/profile/AlyciaYerves
ATTENDEE;ROLE=REQ-PARTICIPANT;PARTSTAT=TENTATIVE;RSVP=TRUE;CN="Thomas 
 Bozza":http://njyp.org/profile/ThomasBozza
ATTENDEE;ROLE=REQ-PARTICIPANT;PARTSTAT=TENTATIVE;RSVP=TRUE;CN="Gregory
  Egan":http://njyp.org/profile/GregoryEgan
ATTENDEE;ROLE=REQ-PARTICIPANT;PARTSTAT=TENTATIVE;RSVP=TRUE;CN=Phil:htt
 p://njyp.org/profile/Phil484
ATTENDEE;ROLE=REQ-PARTICIPANT;PARTSTAT=TENTATIVE;RSVP=TRUE;CN=Maggie:h
 ttp://njyp.org/profile/Maggie980
ATTENDEE;ROLE=REQ-PARTICIPANT;PARTSTAT=TENTATIVE;RSVP=TRUE;CN=Stacy:ht
 tp://njyp.org/profile/StacyStraczynski
END:VEVENT
END:VCALENDAR
