BEGIN:VCALENDAR
PRODID:NingEventWidget-v1
VERSION:2.0
METHOD:PUBLISH
BEGIN:VTIMEZONE
TZID:America/New_York
X-LIC-LOCATION:America/New_York
BEGIN:DAYLIGHT
TZOFFSETFROM:-0500
TZOFFSETTO:-0400
TZNAME:EDT
DTSTART:19700308T020000
RRULE:FREQ=YEARLY;BYMONTH=3;BYDAY=2SU
END:DAYLIGHT
BEGIN:STANDARD
TZOFFSETFROM:-0400
TZOFFSETTO:-0500
TZNAME:EST
DTSTART:19701101T020000
RRULE:FREQ=YEARLY;BYMONTH=11;BYDAY=1SU
END:STANDARD
END:VTIMEZONE
BEGIN:VEVENT
UID:2938326:Event:536776
DTSTAMP:20260420T093218Z
SUMMARY:Founder Friday: Morristown CANCELED
DESCRIPTION:Due to lack of interest this event has been canceled.\n\nJ
 oin us for Founder Friday, a networking lunch for Business Owners and 
 Entrepreneurs. Exchange ideas, goals, challenges, and resources in a c
 onfidential setting with your self-employed peers. Both new and establ
 ished business owners are welcome, but please no direct sales, MLM, or
  licensed professionals. Plus, don’t worry about networking on an em
 pty stomach - your meal, tax, and tip are all included in the ticket p
 rice.  Who Can Attend: Professionals who are 21 to 39 years old. Estab
 lished owners or those just about to launch their business. Please, NO
  direct sales, MLM or licensed professionals such as realtors or finan
 cial advisors.  How to Register: Tickets are required. No walk-ins due
  to limited space. All sales are final.  What You Get: Shared appetize
 rs and a lunch from this menu, http://www.njyp.org/page/founder-friday
 -morristown-menu Cost also already includes tax and tip.\n\n\n\nMembe
 r Cost: $20 by 4.4.14 at 11:59pm $25 from 4.5.14 to 4.11.14 at 10am So
 rry, no walk-ins  Non Member Cost: $30 by 4.11.14 at 10am Sorry, no wa
 lk-ins  Finding the Group: Ask for NJYP once you arrive.  Directions: 
 http://www.georgeandmarthas.com/george-and-marthas-bar-restaurant-dire
 ctions.aspx Public lot behind George and Marthas. Bring quarters.\n\n
 For more information visit http://njyp.org/events/founder-friday-morri
 stown
DTSTART;TZID=America/New_York:20140411T123000
DTEND;TZID=America/New_York:20140411T140000
CATEGORIES:"morris county", networking, njybo
LOCATION:George and Martha's
WEBSITE:http://www.georgeandmarthas.com/george-and-marthas-bar-restaur
 ant-directions.aspx
URL:http://www.georgeandmarthas.com/george-and-marthas-bar-restaurant-
 directions.aspx
CONTACT:
ORGANIZER;CN="Brian and Mike":http://njyp.org/profile/BrianMike
ATTACH;FMTTYPE="image/jpeg":http://storage.ning.com/topology/rest/1.0/
 file/get/1088895814?profile=original
ATTENDEE;ROLE=REQ-PARTICIPANT;PARTSTAT=ACCEPTED;RSVP=TRUE;CN="Brian an
 d Mike":http://njyp.org/profile/BrianMike
ATTENDEE;ROLE=REQ-PARTICIPANT;PARTSTAT=ACCEPTED;RSVP=TRUE;CN=Melanie:h
 ttp://njyp.org/profile/Melanie457
ATTENDEE;ROLE=REQ-PARTICIPANT;PARTSTAT=TENTATIVE;RSVP=TRUE;CN=Imel:htt
 p://njyp.org/profile/Imel
END:VEVENT
END:VCALENDAR
