BEGIN:VCALENDAR
PRODID:NingEventWidget-v1
VERSION:2.0
METHOD:PUBLISH
BEGIN:VTIMEZONE
TZID:America/New_York
X-LIC-LOCATION:America/New_York
BEGIN:DAYLIGHT
TZOFFSETFROM:-0500
TZOFFSETTO:-0400
TZNAME:EDT
DTSTART:19700308T020000
RRULE:FREQ=YEARLY;BYMONTH=3;BYDAY=2SU
END:DAYLIGHT
BEGIN:STANDARD
TZOFFSETFROM:-0400
TZOFFSETTO:-0500
TZNAME:EST
DTSTART:19701101T020000
RRULE:FREQ=YEARLY;BYMONTH=11;BYDAY=1SU
END:STANDARD
END:VTIMEZONE
BEGIN:VEVENT
UID:2938326:Event:530360
DTSTAMP:20260419T203812Z
SUMMARY:Founder Friday: Montclair CANCELED
DESCRIPTION:Sorry everyone, this event has been canceled. We needed 5 
 tickets to pre-sell and only 2 tickets sold. Refunds will be sent on F
 riday.\n\nJoin us for Founder Friday, a networking lunch for Business 
 Owners and Entrepreneurs. Exchange ideas, goals, challenges, and resou
 rces in a confidential setting with your self-employed peers. Both new
  and established business owners are welcome, but please no direct sal
 es, MLM, or licensed professionals. Plus, don’t worry about networki
 ng on an empty stomach - your meal, tax, and tip are all included in t
 he ticket price.  Who Can Attend: Professionals who are 21 to 39 years
  old. Established owners or those just about to launch their business.
  Please, NO direct sales, MLM or licensed professionals such as realto
 rs or financial advisors.  How to Register: Tickets are required. No w
 alk-ins due to limited space. All sales are final.  What You Get: Cost
  includes a 3 course meal from this menu, http://www.njyp.org/page/fo
 under-friday-montclair-menu Cost also already includes tax and tip.  
 \n Member Cost: $30 by 3.18.14 at 11:59pm $35 from 3.19.14 to 3.21.14 
 at 10am Sorry, no walk-ins  Non Member Cost: $40 by 3.21.14 at 10am So
 rry, no walk-ins  Finding the Group: Ask for NJYP once you arrive.  Di
 rections: http://www.escapemontclair.com/\n\nFor more information visi
 t http://njyp.org/events/founder-friday
DTSTART;TZID=America/New_York:20140321T123000
DTEND;TZID=America/New_York:20140321T140000
CATEGORIES:"essex county", networking, njybo
LOCATION:Escape Montclair
WEBSITE:http://escapemontclair.com/
URL:http://escapemontclair.com/
CONTACT:
ORGANIZER;CN="Brian and Mike":http://njyp.org/profile/BrianMike
ATTACH;FMTTYPE="image/jpeg":http://storage.ning.com/topology/rest/1.0/
 file/get/1088895814?profile=original
ATTENDEE;ROLE=REQ-PARTICIPANT;PARTSTAT=ACCEPTED;RSVP=TRUE;CN=Amanda:ht
 tp://njyp.org/profile/Amanda695
ATTENDEE;ROLE=REQ-PARTICIPANT;PARTSTAT=ACCEPTED;RSVP=TRUE;CN=Melanie:h
 ttp://njyp.org/profile/Melanie457
ATTENDEE;ROLE=REQ-PARTICIPANT;PARTSTAT=ACCEPTED;RSVP=TRUE;CN=Seth:http
 ://njyp.org/profile/Seth
ATTENDEE;ROLE=REQ-PARTICIPANT;PARTSTAT=TENTATIVE;RSVP=TRUE;CN="Jorge D
 ":http://njyp.org/profile/JorgeD
END:VEVENT
END:VCALENDAR
