BEGIN:VCALENDAR
PRODID:NingEventWidget-v1
VERSION:2.0
METHOD:PUBLISH
BEGIN:VTIMEZONE
TZID:America/New_York
X-LIC-LOCATION:America/New_York
BEGIN:DAYLIGHT
TZOFFSETFROM:-0500
TZOFFSETTO:-0400
TZNAME:EDT
DTSTART:19700308T020000
RRULE:FREQ=YEARLY;BYMONTH=3;BYDAY=2SU
END:DAYLIGHT
BEGIN:STANDARD
TZOFFSETFROM:-0400
TZOFFSETTO:-0500
TZNAME:EST
DTSTART:19701101T020000
RRULE:FREQ=YEARLY;BYMONTH=11;BYDAY=1SU
END:STANDARD
END:VTIMEZONE
BEGIN:VEVENT
UID:2938326:Event:123162
DTSTAMP:20260420T004018Z
SUMMARY:Game Night: Emerson
DESCRIPTION:Do you love lazy Sundays and board games? Then join us for
  our (mostly) monthly gathering where members will go head to head ove
 r Jenga, Cranium, Apples to Apples, or whatever board game you feel li
 ke bringing.\n\nWho should attend:\nYou must be a Member of NJYP to at
 tend (aka you paid your Membership Dues).\n\nMember Cost at the Door:\
 n$2 per person will cover counter tip and staff fees.\nThere is also a
  1 item minimum (food or drink).\n\nWhat to bring:\nBring any game(s) 
 of your choice. Just make sure all of the pieces are there first!\n\nN
 JYP host:\nLynn is hosting.\n\nFinding the Group:\nWe will have an are
 a of tables reserved for us. Ask staff for NJYP once you arrive.\n\nDi
 rections/Parking:\nVarious street spots.\nhttp://www.sertinosnj.com/st
 ore/pg/5-Contact-Us.aspx\n\nFor more information visit http://njyp.org
 /events/game-night-emerson-1
DTSTART;TZID=America/New_York:20110109T160000
DTEND;TZID=America/New_York:20110109T180000
CATEGORIES:"bergen county", social
LOCATION:Sertinos Cafe
WEBSITE:http://www.sertinosnj.com/store/pg/5-Contact-Us.aspx
URL:http://www.sertinosnj.com/store/pg/5-Contact-Us.aspx
CONTACT:
ORGANIZER;CN="Brian and Mike":http://njyp.org/profile/BrianMike
ATTACH;FMTTYPE="image/jpeg":http://storage.ning.com/topology/rest/1.0/
 file/get/1088666124?profile=original
ATTENDEE;ROLE=REQ-PARTICIPANT;PARTSTAT=ACCEPTED;RSVP=TRUE;CN=line:http
 ://njyp.org/profile/line
ATTENDEE;ROLE=REQ-PARTICIPANT;PARTSTAT=ACCEPTED;RSVP=TRUE;CN="Christop
 her Dingman":http://njyp.org/profile/ChristopherDingman
ATTENDEE;ROLE=REQ-PARTICIPANT;PARTSTAT=ACCEPTED;RSVP=TRUE;CN=Laura:htt
 p://njyp.org/profile/Laura663
ATTENDEE;ROLE=REQ-PARTICIPANT;PARTSTAT=ACCEPTED;RSVP=TRUE;CN=Charlene:
 http://njyp.org/profile/Charlene
ATTENDEE;ROLE=REQ-PARTICIPANT;PARTSTAT=ACCEPTED;RSVP=TRUE;CN=Catherine
 :http://njyp.org/profile/Catherine949
ATTENDEE;ROLE=REQ-PARTICIPANT;PARTSTAT=ACCEPTED;RSVP=TRUE;CN="Nikitas 
 M":http://njyp.org/profile/NikitasM
ATTENDEE;ROLE=REQ-PARTICIPANT;PARTSTAT=ACCEPTED;RSVP=TRUE;CN="Lynn Ada
 mo":http://njyp.org/profile/LynnAdamo
ATTENDEE;ROLE=REQ-PARTICIPANT;PARTSTAT=ACCEPTED;RSVP=TRUE;CN="Melissa 
 Harley":http://njyp.org/profile/MelissaHarley
ATTENDEE;ROLE=REQ-PARTICIPANT;PARTSTAT=TENTATIVE;RSVP=TRUE;CN=Anna:htt
 p://njyp.org/profile/Anna693
ATTENDEE;ROLE=REQ-PARTICIPANT;PARTSTAT=TENTATIVE;RSVP=TRUE;CN=Katie:ht
 tp://njyp.org/profile/Katie684
ATTENDEE;ROLE=REQ-PARTICIPANT;PARTSTAT=TENTATIVE;RSVP=TRUE;CN=Ade:http
 ://njyp.org/profile/Clement
ATTENDEE;ROLE=REQ-PARTICIPANT;PARTSTAT=TENTATIVE;RSVP=TRUE;CN="Abhijit
  Sheth":http://njyp.org/profile/AbhijitSheth
ATTENDEE;ROLE=REQ-PARTICIPANT;PARTSTAT=TENTATIVE;RSVP=TRUE;CN=Justin:h
 ttp://njyp.org/profile/Justin788
ATTENDEE;ROLE=REQ-PARTICIPANT;PARTSTAT=TENTATIVE;RSVP=TRUE;CN=Rebecca:
 http://njyp.org/profile/Rebecca
ATTENDEE;ROLE=REQ-PARTICIPANT;PARTSTAT=TENTATIVE;RSVP=TRUE;CN=Heather:
 http://njyp.org/profile/Heather308
ATTENDEE;ROLE=REQ-PARTICIPANT;PARTSTAT=TENTATIVE;RSVP=TRUE;CN="Lisa E"
 :http://njyp.org/profile/Lisa816
END:VEVENT
END:VCALENDAR
