BEGIN:VCALENDAR
PRODID:NingEventWidget-v1
VERSION:2.0
METHOD:PUBLISH
BEGIN:VTIMEZONE
TZID:America/New_York
X-LIC-LOCATION:America/New_York
BEGIN:DAYLIGHT
TZOFFSETFROM:-0500
TZOFFSETTO:-0400
TZNAME:EDT
DTSTART:19700308T020000
RRULE:FREQ=YEARLY;BYMONTH=3;BYDAY=2SU
END:DAYLIGHT
BEGIN:STANDARD
TZOFFSETFROM:-0400
TZOFFSETTO:-0500
TZNAME:EST
DTSTART:19701101T020000
RRULE:FREQ=YEARLY;BYMONTH=11;BYDAY=1SU
END:STANDARD
END:VTIMEZONE
BEGIN:VEVENT
UID:2938326:Event:711213
DTSTAMP:20260422T051248Z
SUMMARY:Game Night Happy Hour: NJYP and BAM. Bridgewater
DESCRIPTION:NJYP Game Night Happy Hour with BAM Social Sports!\n\nBAM 
 or NJYP Member Cost: $3 online (NO FEE!), $5 at the door\nNon-Member 
 Cost: $7 online (plus $0.99), $10 at the door\n\nBreak the ice over 
 cocktails/beer and GAMES!\nEvent fee gives you a good crowd to mix wit
 h in our private area with a variety of games, along with huge food an
 d drink specials.\n\nGames include BAM Pong, Giant Jenga, Mini Kan-Jam
 , Connect 4, Exploding Kittens, Cards Against Humanity, Playing Cards,
  and more!\n\nNJYP and BAM-only Drink and Food Specials: \nFood: 50%
  off Select Appetizers\nDrink: $2.50 Domestic Draft Beer, $5 Select 
 Craft Beer, $4 House Drinks\n\nWho can attend: BAM Members, NJYP Mem
 bers, and any Young Professionals who are 21-39 years of age.  Tickets
 : All sales are final (no refunds).\n How to get there: Office Beer 
 Bar & Grill is conveniently located on route 22 in Bound Brook.\nThere
  is ample parking in the restaurant's lot.  How to find the group: We
  will meet in a private area in the back of the restaurant. There will
  be signs.\n \n\nFor more information visit http://njyp.org/events/ga
 me-night-happy-hour-njyp-and-bam
DTSTART;TZID=America/New_York:20151214T183000
DTEND;TZID=America/New_York:20151214T220000
CATEGORIES:"somerset county", social, game, night, happy, hour, party,
  private, specials, bam
LOCATION:Office Beer Bar & Grill
WEBSITE:http://www.bamsocialsports.com
URL:http://www.bamsocialsports.com
CONTACT:
ORGANIZER:Brian Melnick
ATTACH;FMTTYPE="image/jpeg":http://storage.ning.com/topology/rest/1.0/
 file/get/1089093886?profile=original
ATTENDEE;ROLE=REQ-PARTICIPANT;PARTSTAT=ACCEPTED;RSVP=TRUE;CN="Michael 
 Park":http://njyp.org/profile/MichaelPark
ATTENDEE;ROLE=REQ-PARTICIPANT;PARTSTAT=ACCEPTED;RSVP=TRUE;CN="Brian Me
 lnick":http://njyp.org/profile/Brian1218
ATTENDEE;ROLE=REQ-PARTICIPANT;PARTSTAT=ACCEPTED;RSVP=TRUE;CN="Jeffrey 
 Key":http://njyp.org/profile/JeffreyKey
ATTENDEE;ROLE=REQ-PARTICIPANT;PARTSTAT=ACCEPTED;RSVP=TRUE;CN="Thomas R
 ietzl":http://njyp.org/profile/ThomasRietzl
ATTENDEE;ROLE=REQ-PARTICIPANT;PARTSTAT=ACCEPTED;RSVP=TRUE;CN=Deep:http
 ://njyp.org/profile/Deep
ATTENDEE;ROLE=REQ-PARTICIPANT;PARTSTAT=ACCEPTED;RSVP=TRUE;CN=Cori:http
 ://njyp.org/profile/Cori458
ATTENDEE;ROLE=REQ-PARTICIPANT;PARTSTAT=TENTATIVE;RSVP=TRUE;CN="Nick Ol
 son":http://njyp.org/profile/NickOlson
ATTENDEE;ROLE=REQ-PARTICIPANT;PARTSTAT=TENTATIVE;RSVP=TRUE;CN=Lisa:htt
 p://njyp.org/profile/Lisa342
ATTENDEE;ROLE=REQ-PARTICIPANT;PARTSTAT=TENTATIVE;RSVP=TRUE;CN=Allison:
 http://njyp.org/profile/Allison643
END:VEVENT
END:VCALENDAR
