BEGIN:VCALENDAR
PRODID:NingEventWidget-v1
VERSION:2.0
METHOD:PUBLISH
BEGIN:VTIMEZONE
TZID:America/New_York
X-LIC-LOCATION:America/New_York
BEGIN:DAYLIGHT
TZOFFSETFROM:-0500
TZOFFSETTO:-0400
TZNAME:EDT
DTSTART:19700308T020000
RRULE:FREQ=YEARLY;BYMONTH=3;BYDAY=2SU
END:DAYLIGHT
BEGIN:STANDARD
TZOFFSETFROM:-0400
TZOFFSETTO:-0500
TZNAME:EST
DTSTART:19701101T020000
RRULE:FREQ=YEARLY;BYMONTH=11;BYDAY=1SU
END:STANDARD
END:VTIMEZONE
BEGIN:VEVENT
UID:2938326:Event:323981
DTSTAMP:20260422T105023Z
SUMMARY:Garden State GreenFest
DESCRIPTION:There will be programs and speakers, green sponsors and ex
 hibitors, and of course, others who want to create a sustainable New J
 ersey. The GreenFest is still finalizing their schedule but expect two
  days full of crunch!Who Can Attend:Anyone!Tickets:Only $7 to get in.h
 ttp://greenfest.eventbrite.com/How to Find the Group:Due to the nature
  of this festival (covering two, 8 hour days) we are NOT going to meet
  as a group.Instead we encourage you to team up with your NJYP friends
  and attend.If you want to gather a group of Members who you do not al
 ready know we encourage you to comment on this event and in our Forums
  so you can pick a meeting place and time.\n\nFor more information vis
 it http://njyp.org/events/garden-state-greenfest
DTSTART;TZID=America/New_York:20120323T210000
DTEND;TZID=America/New_York:20120324T170000
CATEGORIES:"union county", educational
LOCATION:Kean University, Harwood Arena
WEBSITE:http://www.gardenstategreenfest.com/index.html
URL:http://www.gardenstategreenfest.com/index.html
CONTACT:
ORGANIZER;CN="Brian and Mike":http://njyp.org/profile/BrianMike
ATTACH;FMTTYPE="image/jpeg":http://storage.ning.com/topology/rest/1.0/
 file/get/1088758181?profile=original
ATTENDEE;ROLE=REQ-PARTICIPANT;PARTSTAT=ACCEPTED;RSVP=TRUE;CN="Lisa E":
 http://njyp.org/profile/Lisa816
ATTENDEE;ROLE=REQ-PARTICIPANT;PARTSTAT=ACCEPTED;RSVP=TRUE;CN=Jessica:h
 ttp://njyp.org/profile/Jessica251
ATTENDEE;ROLE=REQ-PARTICIPANT;PARTSTAT=ACCEPTED;RSVP=TRUE;CN="Jeffrey 
 Gates":http://njyp.org/profile/JeffreyGates
ATTENDEE;ROLE=REQ-PARTICIPANT;PARTSTAT=ACCEPTED;RSVP=TRUE;CN="Joao-Pie
 rre Ruth":http://njyp.org/profile/JoaoPierreRuth
ATTENDEE;ROLE=REQ-PARTICIPANT;PARTSTAT=ACCEPTED;RSVP=TRUE;CN=Kate:http
 ://njyp.org/profile/Kate989
ATTENDEE;ROLE=REQ-PARTICIPANT;PARTSTAT=ACCEPTED;RSVP=TRUE;CN=Arielle:h
 ttp://njyp.org/profile/Arielle
ATTENDEE;ROLE=REQ-PARTICIPANT;PARTSTAT=ACCEPTED;RSVP=TRUE;CN=Faris:htt
 p://njyp.org/profile/Faris
ATTENDEE;ROLE=REQ-PARTICIPANT;PARTSTAT=ACCEPTED;RSVP=TRUE;CN=Ken:http:
 //njyp.org/profile/Ken547
ATTENDEE;ROLE=REQ-PARTICIPANT;PARTSTAT=ACCEPTED;RSVP=TRUE;CN=Ashley:ht
 tp://njyp.org/profile/Ashley235
ATTENDEE;ROLE=REQ-PARTICIPANT;PARTSTAT=ACCEPTED;RSVP=TRUE;CN="Brian an
 d Mike":http://njyp.org/profile/BrianMike
ATTENDEE;ROLE=REQ-PARTICIPANT;PARTSTAT=TENTATIVE;RSVP=TRUE;CN=Larry:ht
 tp://njyp.org/profile/LarryYang
ATTENDEE;ROLE=REQ-PARTICIPANT;PARTSTAT=TENTATIVE;RSVP=TRUE;CN=Sara:htt
 p://njyp.org/profile/SaraLevenstein
ATTENDEE;ROLE=REQ-PARTICIPANT;PARTSTAT=TENTATIVE;RSVP=TRUE;CN=Dylan:ht
 tp://njyp.org/profile/Dylan
ATTENDEE;ROLE=REQ-PARTICIPANT;PARTSTAT=TENTATIVE;RSVP=TRUE;CN="Kevin H
 aughwout":http://njyp.org/profile/KevinHaughwout
ATTENDEE;ROLE=REQ-PARTICIPANT;PARTSTAT=TENTATIVE;RSVP=TRUE;CN="Nelly G
 alan":http://njyp.org/profile/NellyGalan
ATTENDEE;ROLE=REQ-PARTICIPANT;PARTSTAT=TENTATIVE;RSVP=TRUE;CN=Amanda:h
 ttp://njyp.org/profile/Amanda710
END:VEVENT
END:VCALENDAR
