BEGIN:VCALENDAR
PRODID:NingEventWidget-v1
VERSION:2.0
METHOD:PUBLISH
BEGIN:VTIMEZONE
TZID:America/New_York
X-LIC-LOCATION:America/New_York
BEGIN:DAYLIGHT
TZOFFSETFROM:-0500
TZOFFSETTO:-0400
TZNAME:EDT
DTSTART:19700308T020000
RRULE:FREQ=YEARLY;BYMONTH=3;BYDAY=2SU
END:DAYLIGHT
BEGIN:STANDARD
TZOFFSETFROM:-0400
TZOFFSETTO:-0500
TZNAME:EST
DTSTART:19701101T020000
RRULE:FREQ=YEARLY;BYMONTH=11;BYDAY=1SU
END:STANDARD
END:VTIMEZONE
BEGIN:VEVENT
UID:2938326:Event:21755
DTSTAMP:20260420T024436Z
SUMMARY:Gen NEXT: Abba Mania
DESCRIPTION:Hey Young Professionals! Have you ever wanted to go out fo
 r drinks and a show but it just seemed way too expensive?\n\nWith Gene
 ration NEXT you can mix and mingle with other young professionals whil
 e enjoying the best live theater, concerts, dance performances and exh
 ibitions New Jersey has to offer at a fraction of the price!\n\nLove i
 t? Then keep reading on...\n\n===================\nGeneration NEXT: AB
 BA Mania\n\nYou can dance, you can jive, you'll have the time of your 
 life! Come out and relive the music of ABBA and the same memorable son
 gs from the hit Broadway musical and feature film Mamma Mia that have 
 made this Swedish supergroup one of pop music's all-time favorites. St
 ick around after the show for a cocktail party at the theatre's Starli
 ght Room and take part in a discussion group on the enduring influence
  of the disco era that has propelled ABBA to enduring fame more than 3
 0 years after the band's break-up.\n\nSchedule:\n* Doors open at 7pm\n
 * Performance begins at 8 PM.\n* After-party begins immediately follow
 ing the performance at approximately 10 PM. Generation NEXT ticket hol
 ders receive one drink ticket; cash bar available. Post-performance di
 scussion will occur during the after-party\n\nCost:\n$25\nPrice includ
 es tickets, 1 drink ticket, and after-party.\n\nTickets:\nhttps://onli
 nesales.mayoarts.org/Onlinemayoarts/seatSelect.asp?WSadmissions%3A%3Aa
 dmission%3A%3Aperformance_id=D25730B5-B751-438D-9ADE-10DE4B44267D (ent
 er promo code 10GenNext)\n\nWho Can Attend:\nAnyone between 21 and 39 
 years of age with a valid ID.\nYou do need to be a “Member” of NJY
 P to attend.\n\nDirections:\nhttp://www.mayoarts.org/directions.htm\n\
 nFor more information visit http://njyp.org/events/gen-next-abba-mania
DTSTART;TZID=America/New_York:20091111T200000
DTEND;TZID=America/New_York:20091111T230000
CATEGORIES:"morris county", arts
LOCATION:The Community Theatre at Mayo Center for the Performing Arts
WEBSITE:http://www.mayoarts.org/directions.htm
URL:http://www.mayoarts.org/directions.htm
CONTACT:
ORGANIZER;CN="Brian and Mike":http://njyp.org/profile/BrianMike
ATTACH;FMTTYPE="image/jpeg":http://storage.ning.com/topology/rest/1.0/
 file/get/1088564014?profile=original
ATTENDEE;ROLE=REQ-PARTICIPANT;PARTSTAT=ACCEPTED;RSVP=TRUE;CN="Dennis L
 ee":http://njyp.org/profile/leeden
ATTENDEE;ROLE=REQ-PARTICIPANT;PARTSTAT=ACCEPTED;RSVP=TRUE;CN=Kathleen:
 http://njyp.org/profile/Kathleen463
ATTENDEE;ROLE=REQ-PARTICIPANT;PARTSTAT=ACCEPTED;RSVP=TRUE;CN="Alex Dav
 is":http://njyp.org/profile/AlexDavis
ATTENDEE;ROLE=REQ-PARTICIPANT;PARTSTAT=ACCEPTED;RSVP=TRUE;CN="Brian an
 d Mike":http://njyp.org/profile/BrianMike
ATTENDEE;ROLE=REQ-PARTICIPANT;PARTSTAT=TENTATIVE;RSVP=TRUE;CN=Pawel:ht
 tp://njyp.org/profile/Pawel
ATTENDEE;ROLE=REQ-PARTICIPANT;PARTSTAT=TENTATIVE;RSVP=TRUE;CN="Kristin
  Kopec":http://njyp.org/profile/KristinKopec
ATTENDEE;ROLE=REQ-PARTICIPANT;PARTSTAT=TENTATIVE;RSVP=TRUE;CN=Brianne:
 http://njyp.org/profile/BrianneSherwood
END:VEVENT
END:VCALENDAR
