BEGIN:VCALENDAR
PRODID:NingEventWidget-v1
VERSION:2.0
METHOD:PUBLISH
BEGIN:VTIMEZONE
TZID:America/New_York
X-LIC-LOCATION:America/New_York
BEGIN:DAYLIGHT
TZOFFSETFROM:-0500
TZOFFSETTO:-0400
TZNAME:EDT
DTSTART:19700308T020000
RRULE:FREQ=YEARLY;BYMONTH=3;BYDAY=2SU
END:DAYLIGHT
BEGIN:STANDARD
TZOFFSETFROM:-0400
TZOFFSETTO:-0500
TZNAME:EST
DTSTART:19701101T020000
RRULE:FREQ=YEARLY;BYMONTH=11;BYDAY=1SU
END:STANDARD
END:VTIMEZONE
BEGIN:VEVENT
UID:2938326:Event:17695
DTSTAMP:20260420T091635Z
SUMMARY:Gen NEXT: I Love You, You're Perfect, Now Change
DESCRIPTION:Hey Young Professionals! Have you ever wanted to go out fo
 r drinks and a show but it just seemed way too expensive?\n\nWith Gene
 ration NEXT you can mix and mingle with other young professionals whil
 e enjoying the best live theater, concerts, dance performances and exh
 ibitions New Jersey has to offer at a fraction of the price!\n\nLove i
 t? Then keep reading on...\n\n===================\nGeneration NEXT: I 
 Love You, You're Perfect, Now Change\n\nStart your evening off by indu
 lging in hors d'oeuvres and cocktails in the romantic, sky-lit museum 
 court. Stroll at your leisure through the museum's new exhibit, \"Invi
 tations to a Wedding: Bridal Gowns from the 1820s to the Present\" bef
 ore heading into a performance of the Off-Broadway musical comedy hit,
  I Love You, You're Perfect, Now Change at the Bickford Theatre. Stick
  around after the show for a revealing, tell-all talk-back session wit
 h the cast as they chat about the play and share some of their own sec
 rets for finding true love.\n\nSchedule:\n* Cocktail reception begins 
 at 7 PM in the museum court. Docents will be available in the exhibit 
 to answer questions throughout the cocktail hour.\n* Performance begin
 s at 8 PM.\n* Post-performance discussion begins at approximately 10 P
 M.\n\nCost:\n$25\nPrice includes tickets and a reception with food, dr
 inks and a unique chance to expand your social circle.\n\nTickets:\nht
 tp://www.morrismuseum.org/bickford/customer/product.php?productid=190&
 cat=41&page=1\n(select Gen X ticket from dropdown on October 9)\n\nWho
  Can Attend:\nAnyone between 21 and 39 years of age with a valid ID.\n
 You do need to be a “Member” of NJYP to attend.\n\nDirections:\nht
 tp://www.morrismuseum.org/static/bickford/directions.html\n\nFor more 
 information visit http://njyp.org/events/gen-next-i-love-you-youre
DTSTART;TZID=America/New_York:20091009T190000
DTEND;TZID=America/New_York:20091009T223000
CATEGORIES:"morris county", arts
LOCATION:Bickford Theatre at the Morris Museum
WEBSITE:http://www.bickfordtheatre.org
URL:http://www.bickfordtheatre.org
CONTACT:
ORGANIZER;CN="Brian and Mike":http://njyp.org/profile/BrianMike
ATTACH;FMTTYPE="image/jpeg":http://storage.ning.com/topology/rest/1.0/
 file/get/1088560777?profile=original
ATTENDEE;ROLE=REQ-PARTICIPANT;PARTSTAT=ACCEPTED;RSVP=TRUE;CN="Abiola T
 elesford":http://njyp.org/profile/AbiolaTelesford
ATTENDEE;ROLE=REQ-PARTICIPANT;PARTSTAT=ACCEPTED;RSVP=TRUE;CN=Aqeela:ht
 tp://njyp.org/profile/AqeelaJabar
ATTENDEE;ROLE=REQ-PARTICIPANT;PARTSTAT=ACCEPTED;RSVP=TRUE;CN="Jennifer
  L. Campbell":http://njyp.org/profile/JenniferLCampbell
ATTENDEE;ROLE=REQ-PARTICIPANT;PARTSTAT=ACCEPTED;RSVP=TRUE;CN="Maria Az
 zarelli":http://njyp.org/profile/MariaAzzarelli
ATTENDEE;ROLE=REQ-PARTICIPANT;PARTSTAT=ACCEPTED;RSVP=TRUE;CN=Sara:http
 ://njyp.org/profile/SaraLevenstein
ATTENDEE;ROLE=REQ-PARTICIPANT;PARTSTAT=ACCEPTED;RSVP=TRUE;CN="Allyson 
 Burke":http://njyp.org/profile/AllysonBurke
ATTENDEE;ROLE=REQ-PARTICIPANT;PARTSTAT=ACCEPTED;RSVP=TRUE;CN="Judith O
 ":http://njyp.org/profile/JudithO
ATTENDEE;ROLE=REQ-PARTICIPANT;PARTSTAT=ACCEPTED;RSVP=TRUE;CN=Kathleen:
 http://njyp.org/profile/Kathleen463
ATTENDEE;ROLE=REQ-PARTICIPANT;PARTSTAT=ACCEPTED;RSVP=TRUE;CN="Jenny Ma
 rie":http://njyp.org/profile/JennyMarie82
ATTENDEE;ROLE=REQ-PARTICIPANT;PARTSTAT=ACCEPTED;RSVP=TRUE;CN="Brian an
 d Mike":http://njyp.org/profile/BrianMike
ATTENDEE;ROLE=REQ-PARTICIPANT;PARTSTAT=TENTATIVE;RSVP=TRUE;CN="Doug Be
 man":http://njyp.org/profile/DougBeman
ATTENDEE;ROLE=REQ-PARTICIPANT;PARTSTAT=TENTATIVE;RSVP=TRUE;CN="David E
 isenberg":http://njyp.org/profile/DavidEisenberg
ATTENDEE;ROLE=REQ-PARTICIPANT;PARTSTAT=TENTATIVE;RSVP=TRUE;CN="Kelly M
 aize":http://njyp.org/profile/KellyMaizenaski
ATTENDEE;ROLE=REQ-PARTICIPANT;PARTSTAT=TENTATIVE;RSVP=TRUE;CN="Hermeli
 nda Saez":http://njyp.org/profile/HermelindaSaez
ATTENDEE;ROLE=REQ-PARTICIPANT;PARTSTAT=TENTATIVE;RSVP=TRUE;CN="Brenda 
 Eunice":http://njyp.org/profile/BrendaEunice
ATTENDEE;ROLE=REQ-PARTICIPANT;PARTSTAT=TENTATIVE;RSVP=TRUE;CN=Kristy:h
 ttp://njyp.org/profile/KristyBuchalla
ATTENDEE;ROLE=REQ-PARTICIPANT;PARTSTAT=TENTATIVE;RSVP=TRUE;CN="Elizabe
 th Epstein":http://njyp.org/profile/ElizabethRosenthal
ATTENDEE;ROLE=REQ-PARTICIPANT;PARTSTAT=TENTATIVE;RSVP=TRUE;CN=Danielle
 :http://njyp.org/profile/DanielleM
ATTENDEE;ROLE=REQ-PARTICIPANT;PARTSTAT=TENTATIVE;RSVP=TRUE;CN="Kristin
  Kopec":http://njyp.org/profile/KristinKopec
END:VEVENT
END:VCALENDAR
