BEGIN:VCALENDAR
PRODID:NingEventWidget-v1
VERSION:2.0
METHOD:PUBLISH
BEGIN:VTIMEZONE
TZID:America/New_York
X-LIC-LOCATION:America/New_York
BEGIN:DAYLIGHT
TZOFFSETFROM:-0500
TZOFFSETTO:-0400
TZNAME:EDT
DTSTART:19700308T020000
RRULE:FREQ=YEARLY;BYMONTH=3;BYDAY=2SU
END:DAYLIGHT
BEGIN:STANDARD
TZOFFSETFROM:-0400
TZOFFSETTO:-0500
TZNAME:EST
DTSTART:19701101T020000
RRULE:FREQ=YEARLY;BYMONTH=11;BYDAY=1SU
END:STANDARD
END:VTIMEZONE
BEGIN:VEVENT
UID:2938326:Event:18584
DTSTAMP:20260420T073527Z
SUMMARY:Gen NEXT: MacHomer
DESCRIPTION:Hey Young Professionals! Have you ever wanted to go out fo
 r drinks and a show but it just seemed way too expensive?\n\nWith Gene
 ration NEXT you can mix and mingle with other young professionals whil
 e enjoying the best live theater, concerts, dance performances and exh
 ibitions New Jersey has to offer at a fraction of the price!\n\nLove i
 t? Then keep reading on...\n\n===================\nGeneration NEXT: Ma
 cHomer (presented by the State Theatre)\n\nImagine Shakespeare's MacBe
 th performed in 75 minutes by a single actor. Oh, and did we mention t
 hat all of the play's characters are portrayed in the voices of over 5
 0 characters from TV's \"The Simpsons?\" An international sensation fo
 r more than a decade, MacHomer is a must-see, surprisingly faithful mu
 ltimedia production that is about 85 % Shakespeare and 100 % hilarious
 . Stick around after the show for an exclusive party and your chance t
 o mix, mingle and talk about the play.\n\n\n\nSchedule:\n* Doors open 
 at 7 PM. Performance begins at 8 PM.\n* After-party begins immediately
  following the performance at approximately 9:45 PM. Generation NEXT t
 icket holders receive one drink ticket; cash bar available.\n* Q&A dis
 cussion to follow during the cocktail party.\n\nCost:\n$25\nPrice incl
 udes tickets and a reception with food, drinks and a unique chance to 
 expand your social circle.\n\nTickets:\nFor tickets contact Nora Duffy
  at 732-247-7200, ext. 536 or email nduffy@statetheatrenj.org\n\nWho C
 an Attend:\nAnyone between 21 and 39 years of age with a valid ID.\nYo
 u do need to be a “Member” of NJYP to attend.\n\nDirections:\nhttp
 ://www.crossroadstheatrecompany.org/directions.html\n\nFor more inform
 ation visit http://njyp.org/events/gen-next-machomer
DTSTART;TZID=America/New_York:20091028T200000
DTEND;TZID=America/New_York:20091028T230000
CATEGORIES:"middlesex county", arts
LOCATION:Crossroads Theatre
WEBSITE:http://www.crossroadstheatrecompany.org/directions.html
URL:http://www.crossroadstheatrecompany.org/directions.html
CONTACT:
ORGANIZER;CN="Brian and Mike":http://njyp.org/profile/BrianMike
ATTACH;FMTTYPE="image/jpeg":http://storage.ning.com/topology/rest/1.0/
 file/get/1088558392?profile=original
ATTENDEE;ROLE=REQ-PARTICIPANT;PARTSTAT=ACCEPTED;RSVP=TRUE;CN=Sara:http
 ://njyp.org/profile/SaraLevenstein
ATTENDEE;ROLE=REQ-PARTICIPANT;PARTSTAT=ACCEPTED;RSVP=TRUE;CN=Tom:http:
 //njyp.org/profile/Thomas
ATTENDEE;ROLE=REQ-PARTICIPANT;PARTSTAT=ACCEPTED;RSVP=TRUE;CN="rachel i
 rene":http://njyp.org/profile/rachel_irene
ATTENDEE;ROLE=REQ-PARTICIPANT;PARTSTAT=ACCEPTED;RSVP=TRUE;CN=Kathleen:
 http://njyp.org/profile/Kathleen463
ATTENDEE;ROLE=REQ-PARTICIPANT;PARTSTAT=ACCEPTED;RSVP=TRUE;CN="Tonia Ku
 lberda":http://njyp.org/profile/ToniaKulberda
ATTENDEE;ROLE=REQ-PARTICIPANT;PARTSTAT=ACCEPTED;RSVP=TRUE;CN=Lena:http
 ://njyp.org/profile/Lena
ATTENDEE;ROLE=REQ-PARTICIPANT;PARTSTAT=ACCEPTED;RSVP=TRUE;CN="Brian an
 d Mike":http://njyp.org/profile/BrianMike
ATTENDEE;ROLE=REQ-PARTICIPANT;PARTSTAT=TENTATIVE;RSVP=TRUE;CN="Lynn Ad
 amo":http://njyp.org/profile/LynnAdamo
ATTENDEE;ROLE=REQ-PARTICIPANT;PARTSTAT=TENTATIVE;RSVP=TRUE;CN="Bhupind
 er Gulati":http://njyp.org/profile/BhupinderGulati
ATTENDEE;ROLE=REQ-PARTICIPANT;PARTSTAT=TENTATIVE;RSVP=TRUE;CN=Anup:htt
 p://njyp.org/profile/Anup
ATTENDEE;ROLE=REQ-PARTICIPANT;PARTSTAT=TENTATIVE;RSVP=TRUE;CN="Rachel 
 O!":http://njyp.org/profile/RachelOrtiga
ATTENDEE;ROLE=REQ-PARTICIPANT;PARTSTAT=TENTATIVE;RSVP=TRUE;CN="Kathlee
 n Deutsch":http://njyp.org/profile/KathleenDeutsch
ATTENDEE;ROLE=REQ-PARTICIPANT;PARTSTAT=TENTATIVE;RSVP=TRUE;CN="Nick Ol
 son":http://njyp.org/profile/NickOlson
ATTENDEE;ROLE=REQ-PARTICIPANT;PARTSTAT=TENTATIVE;RSVP=TRUE;CN="Lisa F"
 :http://njyp.org/profile/LisaF
ATTENDEE;ROLE=REQ-PARTICIPANT;PARTSTAT=TENTATIVE;RSVP=TRUE;CN=Will:htt
 p://njyp.org/profile/William
END:VEVENT
END:VCALENDAR
