BEGIN:VCALENDAR
PRODID:NingEventWidget-v1
VERSION:2.0
METHOD:PUBLISH
BEGIN:VTIMEZONE
TZID:America/New_York
X-LIC-LOCATION:America/New_York
BEGIN:DAYLIGHT
TZOFFSETFROM:-0500
TZOFFSETTO:-0400
TZNAME:EDT
DTSTART:19700308T020000
RRULE:FREQ=YEARLY;BYMONTH=3;BYDAY=2SU
END:DAYLIGHT
BEGIN:STANDARD
TZOFFSETFROM:-0400
TZOFFSETTO:-0500
TZNAME:EST
DTSTART:19701101T020000
RRULE:FREQ=YEARLY;BYMONTH=11;BYDAY=1SU
END:STANDARD
END:VTIMEZONE
BEGIN:VEVENT
UID:2938326:Event:103911
DTSTAMP:20260420T004019Z
SUMMARY:Gen NEXT: Paranormal State
DESCRIPTION:Hey Young Professionals! Have you ever wanted to go out fo
 r drinks and a show but it just seemed way too expensive?\n\nWith Gene
 ration NEXT you can mix and mingle with other young professionals whil
 e enjoying the best live theater, concerts, dance performances and exh
 ibitions New Jersey has to offer at a fraction of the price!\n\nLove i
 t? Then keep reading on...\n===================\n\nGeneration NEXT pre
 sents A & E's Paranormal State Featuring Ryan Buell and Sergey Poberez
 hny\n\nThis Halloween season, share an intimate evening with Ryan Buel
 l and Paranormal Research Society member Sergey Poberezhny of A&E's \"
 Paranormal State.\" Ryan and Sergey Poberezhny will take you behind th
 e scenes of their hit TV series and show still and movie images of the
 ir most haunted, frightening, and mysterious cases to date, and answer
  audience questions.\n\nIf you're a fan of the paranormal, or just cur
 ious about 21st-century ghostbusting, this is an evening you won't wan
 t to miss. Unravel inexplicable paranormal phenomena, including sixth-
 sense experiences, demonic disturbances, and brushes with the darkest 
 areas of the unknown, with one of the most recognized and respected pa
 ranormal societies in the country. After the show, hang out and swap g
 host stories at our exclusive spooky GenNEXT after-show party.\n\nYour
  $25 Ticket Gets You:\n* Pre-show theatre tour (starts at 6:45pm)\n* A
  ticket to the performance (starts at 8pm)\n* Admission to After-Show 
 Party (starts at 9:30pm)\n* One drink ticket; cash bar available.\n\nH
 ow to Order Tickets:\nFor Gen NEXT tickets please go HERE and Enter Pr
 omo Code: NJYPBASIE\nPlease buy your ticket with a friend to ensure yo
 u are not sitting alone.\n\nWho Can Attend:\nAnyone between 21 and 39 
 years of age with a valid ID.\nYou do NOT need to be a paid “Member
  of NJYP to attend.\n\nDirections:\nhttp://www.countbasietheatre.org
 /visit/directions.asp\n\nFor more information visit http://njyp.org/ev
 ents/gen-next-paranormal-state
DTSTART;TZID=America/New_York:20101014T184500
DTEND;TZID=America/New_York:20101014T220000
CATEGORIES:"monmouth county", social, arts
LOCATION:Count Basie Theatre
WEBSITE:http://www.countbasietheatre.org/visit/directions.asp
URL:http://www.countbasietheatre.org/visit/directions.asp
CONTACT:
ORGANIZER;CN="Brian and Mike":http://njyp.org/profile/BrianMike
ATTACH;FMTTYPE="image/jpeg":http://storage.ning.com/topology/rest/1.0/
 file/get/1088646111?profile=original
ATTENDEE;ROLE=REQ-PARTICIPANT;PARTSTAT=ACCEPTED;RSVP=TRUE;CN="Diana Br
 unner":http://njyp.org/profile/DianaBrunner
ATTENDEE;ROLE=REQ-PARTICIPANT;PARTSTAT=ACCEPTED;RSVP=TRUE;CN="Elizabet
 h Derby":http://njyp.org/profile/ElizabethDerby
ATTENDEE;ROLE=REQ-PARTICIPANT;PARTSTAT=ACCEPTED;RSVP=TRUE;CN="Rachel O
 !":http://njyp.org/profile/RachelOrtiga
ATTENDEE;ROLE=REQ-PARTICIPANT;PARTSTAT=ACCEPTED;RSVP=TRUE;CN=Casey:htt
 p://njyp.org/profile/Casey
ATTENDEE;ROLE=REQ-PARTICIPANT;PARTSTAT=ACCEPTED;RSVP=TRUE;CN="Alycia Y
 erves":http://njyp.org/profile/AlyciaYerves
ATTENDEE;ROLE=REQ-PARTICIPANT;PARTSTAT=ACCEPTED;RSVP=TRUE;CN="Brian an
 d Mike":http://njyp.org/profile/BrianMike
ATTENDEE;ROLE=REQ-PARTICIPANT;PARTSTAT=TENTATIVE;RSVP=TRUE;CN=Amanda:h
 ttp://njyp.org/profile/Amanda695
ATTENDEE;ROLE=REQ-PARTICIPANT;PARTSTAT=TENTATIVE;RSVP=TRUE;CN=Kristy:h
 ttp://njyp.org/profile/KristyBuchalla
ATTENDEE;ROLE=REQ-PARTICIPANT;PARTSTAT=TENTATIVE;RSVP=TRUE;CN=Pamela:h
 ttp://njyp.org/profile/Pamela
ATTENDEE;ROLE=REQ-PARTICIPANT;PARTSTAT=TENTATIVE;RSVP=TRUE;CN=Marisa:h
 ttp://njyp.org/profile/MarisaA
ATTENDEE;ROLE=REQ-PARTICIPANT;PARTSTAT=TENTATIVE;RSVP=TRUE;CN="Christo
 pher Dingman":http://njyp.org/profile/ChristopherDingman
END:VEVENT
END:VCALENDAR
