BEGIN:VCALENDAR
PRODID:NingEventWidget-v1
VERSION:2.0
METHOD:PUBLISH
BEGIN:VTIMEZONE
TZID:America/New_York
X-LIC-LOCATION:America/New_York
BEGIN:DAYLIGHT
TZOFFSETFROM:-0500
TZOFFSETTO:-0400
TZNAME:EDT
DTSTART:19700308T020000
RRULE:FREQ=YEARLY;BYMONTH=3;BYDAY=2SU
END:DAYLIGHT
BEGIN:STANDARD
TZOFFSETFROM:-0400
TZOFFSETTO:-0500
TZNAME:EST
DTSTART:19701101T020000
RRULE:FREQ=YEARLY;BYMONTH=11;BYDAY=1SU
END:STANDARD
END:VTIMEZONE
BEGIN:VEVENT
UID:2938326:Event:107755
DTSTAMP:20260421T094423Z
SUMMARY:Gen NEXT: Tahitian Paradise Party
DESCRIPTION:Hey Young Professionals! Have you ever wanted to go out fo
 r drinks and a show but it just seemed way too expensive?\n\nWith Gene
 ration NEXT you can mix and mingle with other young professionals whil
 e enjoying the best live theater, concerts, dance performances and exh
 ibitions New Jersey has to offer at a fraction of the price!\n\nLove i
 t? Then keep reading on...\n===================\n\nA GenNEXT Event Cel
 ebrating the Exhibit Gauguin's Paradise Remembered: The Noa Noa Prints
 \n\nCome sail away to paradise! Join us for an evening of South Sea de
 lights at the Princeton University Art Museum, in celebration of Gaugu
 in's Paradise Remembered. The evening will feature exotic tropical coc
 ktails and snacks, a themed scavenger hunt, raffle prizes, and more—
 all while surrounded by the Museum’s breathtaking, world-class colle
 ction.\n\nYour $25 Ticket Gets You:\n* Exclusive, private access to th
 e exhibition and the Museum on the night of the event.\n* Open bar and
  free food\n* Participation in the themed scavenger hunt\n* Raffle ent
 ry\n\nHow to Order Tickets:\nhttp://purchase.tickets.com/buy/TicketPur
 chase?agency=TDC&pid=6869144\n\nWho Can Attend:\nAnyone between 21 and
  39 years of age with a valid ID.\nYou do NOT need to be a paid “Mem
 ber” of NJYP to attend.\n\nDirections:\nhttp://artmuseum.princeton.e
 du/visit/directions/\nPublic parking is not available on the Princeton
  campus. The best place to park is in town at metered spaces near Palm
 er Square and along Nassau Street, or at public parking garages locate
 d on Chambers, Hulfish, Spring, and Wiggins streets.\n\nFor more infor
 mation visit http://njyp.org/events/gen-next-tahitian-paradise
DTSTART;TZID=America/New_York:20101105T190000
DTEND;TZID=America/New_York:20101105T210000
CATEGORIES:"mercer county", social, arts
LOCATION:Princeton University Art Museum
WEBSITE:http://www.jerseyarts.com/gennext/
URL:http://www.jerseyarts.com/gennext/
CONTACT:
ORGANIZER;CN="Brian and Mike":http://njyp.org/profile/BrianMike
ATTACH;FMTTYPE="image/jpeg":http://storage.ning.com/topology/rest/1.0/
 file/get/1088651480?profile=original
ATTENDEE;ROLE=REQ-PARTICIPANT;PARTSTAT=ACCEPTED;RSVP=TRUE;CN="Kevin P.
  Hallam":http://njyp.org/profile/KevinPHallam
ATTENDEE;ROLE=REQ-PARTICIPANT;PARTSTAT=ACCEPTED;RSVP=TRUE;CN=Estephany
 :http://njyp.org/profile/Estephany
ATTENDEE;ROLE=REQ-PARTICIPANT;PARTSTAT=ACCEPTED;RSVP=TRUE;CN="Tony Pan
 ariello":http://njyp.org/profile/TonyPanariello
ATTENDEE;ROLE=REQ-PARTICIPANT;PARTSTAT=ACCEPTED;RSVP=TRUE;CN=Kelley:ht
 tp://njyp.org/profile/KelleyBoyle
ATTENDEE;ROLE=REQ-PARTICIPANT;PARTSTAT=ACCEPTED;RSVP=TRUE;CN=David:htt
 p://njyp.org/profile/DavidCosaboom
ATTENDEE;ROLE=REQ-PARTICIPANT;PARTSTAT=ACCEPTED;RSVP=TRUE;CN=Janine:ht
 tp://njyp.org/profile/Janine703
ATTENDEE;ROLE=REQ-PARTICIPANT;PARTSTAT=ACCEPTED;RSVP=TRUE;CN="Jenny Ma
 rie":http://njyp.org/profile/JennyMarie82
ATTENDEE;ROLE=REQ-PARTICIPANT;PARTSTAT=TENTATIVE;RSVP=TRUE;CN=Romin:ht
 tp://njyp.org/profile/Raina
ATTENDEE;ROLE=REQ-PARTICIPANT;PARTSTAT=TENTATIVE;RSVP=TRUE;CN=Nola:htt
 p://njyp.org/profile/NolaOcchipinti
ATTENDEE;ROLE=REQ-PARTICIPANT;PARTSTAT=TENTATIVE;RSVP=TRUE;CN=Marisa:h
 ttp://njyp.org/profile/MarisaA
ATTENDEE;ROLE=REQ-PARTICIPANT;PARTSTAT=TENTATIVE;RSVP=TRUE;CN=Elizabet
 h:http://njyp.org/profile/ElizabethWilliams
ATTENDEE;ROLE=REQ-PARTICIPANT;PARTSTAT=TENTATIVE;RSVP=TRUE;CN=Tanya:ht
 tp://njyp.org/profile/something
ATTENDEE;ROLE=REQ-PARTICIPANT;PARTSTAT=TENTATIVE;RSVP=TRUE;CN=Alice:ht
 tp://njyp.org/profile/Alice
ATTENDEE;ROLE=REQ-PARTICIPANT;PARTSTAT=TENTATIVE;RSVP=TRUE;CN=Susan:ht
 tp://njyp.org/profile/SusanChrusciel
ATTENDEE;ROLE=REQ-PARTICIPANT;PARTSTAT=TENTATIVE;RSVP=TRUE;CN="Thomas 
 Little":http://njyp.org/profile/ThomasLittle
ATTENDEE;ROLE=REQ-PARTICIPANT;PARTSTAT=TENTATIVE;RSVP=TRUE;CN="Jennife
 r L. Campbell":http://njyp.org/profile/JenniferLCampbell
ATTENDEE;ROLE=REQ-PARTICIPANT;PARTSTAT=TENTATIVE;RSVP=TRUE;CN=Katie:ht
 tp://njyp.org/profile/Katie168
ATTENDEE;ROLE=REQ-PARTICIPANT;PARTSTAT=TENTATIVE;RSVP=TRUE;CN="Shahroo
 z Bhopti":http://njyp.org/profile/speedlike
ATTENDEE;ROLE=REQ-PARTICIPANT;PARTSTAT=TENTATIVE;RSVP=TRUE;CN=Katie:ht
 tp://njyp.org/profile/Katie810
ATTENDEE;ROLE=REQ-PARTICIPANT;PARTSTAT=TENTATIVE;RSVP=TRUE;CN=Alessand
 ra:http://njyp.org/profile/AlessandraDeCicco
END:VEVENT
END:VCALENDAR
