BEGIN:VCALENDAR
PRODID:NingEventWidget-v1
VERSION:2.0
METHOD:PUBLISH
BEGIN:VTIMEZONE
TZID:America/New_York
X-LIC-LOCATION:America/New_York
BEGIN:DAYLIGHT
TZOFFSETFROM:-0500
TZOFFSETTO:-0400
TZNAME:EDT
DTSTART:19700308T020000
RRULE:FREQ=YEARLY;BYMONTH=3;BYDAY=2SU
END:DAYLIGHT
BEGIN:STANDARD
TZOFFSETFROM:-0400
TZOFFSETTO:-0500
TZNAME:EST
DTSTART:19701101T020000
RRULE:FREQ=YEARLY;BYMONTH=11;BYDAY=1SU
END:STANDARD
END:VTIMEZONE
BEGIN:VEVENT
UID:2938326:Event:115322
DTSTAMP:20260420T073827Z
SUMMARY:Gen NEXT: [title of show]
DESCRIPTION:Hey Young Professionals! Have you ever wanted to go out fo
 r drinks and a show but it just seemed way too expensive?\n\nWith Gene
 ration NEXT you can mix and mingle with other young professionals whil
 e enjoying the best live theater, concerts, dance performances and exh
 ibitions New Jersey has to offer at a fraction of the price!\n\nLove i
 t? Then keep reading on...\n===================\n\nA musical comedy fo
 r anyone who has followed a dream. When two struggling writers make a 
 commitment to write something new in three weeks, they quickly find th
 at writing a comedy about the process of writing was more interesting 
 than anything else they could write! A show about four friends taking 
 risks, creating art, killing Vampires (the dream-destroying kind, not 
 the Dracula kind) -- and how relationships change when life happens.\n
 \n\"Delectable Entertainment\" -- The New York Times\n\nAfter the show
 , take part in George Street Playhouse's second annual GenNEXT Karaoke
  After-Party, featuring fabulous prizes, a Q&A with personalities from
  the production, and of course--a karaoke showdown.\n\n* Performance b
 egins at 8 pm.\n* After-Party begins at approximately 9:30 pm.\n\nYour
  $25 Ticket Gets You:\n* A ticket to the performance\n* Free food and 
 1 free drink\n* Karaoke after-party with Q&A from the production\n* Ra
 ffle entry\n\nHow to Order Tickets:\nEnter promo code \"GNEXT\" here h
 ttps://tickets.georgestplayhouse.org/TheatreManager/1/tmEvent/tmEvent5
 06.html\nBuy your ticket with a friend or ask to be seated with others
  from Gen NEXT.\n\nWho Can Attend:\nAnyone between 21 and 39 years of 
 age with a valid ID.\nYou do NOT need to be a paid “Member” of NJY
 P to attend.\n\nDirections:\nhttp://www.georgestreetplayhouse.org/dire
 ctions.php\nVarious lots and street parking.\n\n\n \n\nFor more inform
 ation visit http://njyp.org/events/gen-next-title-of-show
DTSTART;TZID=America/New_York:20101203T200000
DTEND;TZID=America/New_York:20101203T223000
CATEGORIES:"middlesex county", social, arts
LOCATION:George Street Playhouse
WEBSITE:http://www.georgestreetplayhouse.org/directions.php
URL:http://www.georgestreetplayhouse.org/directions.php
CONTACT:
ORGANIZER;CN="Brian and Mike":http://njyp.org/profile/BrianMike
ATTACH;FMTTYPE="image/jpeg":http://storage.ning.com/topology/rest/1.0/
 file/get/1088657981?profile=original
ATTENDEE;ROLE=REQ-PARTICIPANT;PARTSTAT=ACCEPTED;RSVP=TRUE;CN="Robert K
 ozlowski":http://njyp.org/profile/RobertKozlowski
ATTENDEE;ROLE=REQ-PARTICIPANT;PARTSTAT=ACCEPTED;RSVP=TRUE;CN="Christop
 her Dingman":http://njyp.org/profile/ChristopherDingman
ATTENDEE;ROLE=REQ-PARTICIPANT;PARTSTAT=ACCEPTED;RSVP=TRUE;CN="Jennifer
  L. Campbell":http://njyp.org/profile/JenniferLCampbell
ATTENDEE;ROLE=REQ-PARTICIPANT;PARTSTAT=ACCEPTED;RSVP=TRUE;CN="Jessica 
 Gill":http://njyp.org/profile/JessicaGill
ATTENDEE;ROLE=REQ-PARTICIPANT;PARTSTAT=ACCEPTED;RSVP=TRUE;CN=Sara:http
 ://njyp.org/profile/SaraLevenstein
ATTENDEE;ROLE=REQ-PARTICIPANT;PARTSTAT=ACCEPTED;RSVP=TRUE;CN=Jill:http
 ://njyp.org/profile/JillBuonincontri
ATTENDEE;ROLE=REQ-PARTICIPANT;PARTSTAT=ACCEPTED;RSVP=TRUE;CN=Meredith:
 http://njyp.org/profile/MeredithC
ATTENDEE;ROLE=REQ-PARTICIPANT;PARTSTAT=ACCEPTED;RSVP=TRUE;CN="Jenna Cl
 ausen":http://njyp.org/profile/JennaClausen
ATTENDEE;ROLE=REQ-PARTICIPANT;PARTSTAT=ACCEPTED;RSVP=TRUE;CN="Allison 
 Williams":http://njyp.org/profile/AllisonWilliams
ATTENDEE;ROLE=REQ-PARTICIPANT;PARTSTAT=ACCEPTED;RSVP=TRUE;CN="Jacqueli
 ne Durett":http://njyp.org/profile/JacquelineDurett
ATTENDEE;ROLE=REQ-PARTICIPANT;PARTSTAT=ACCEPTED;RSVP=TRUE;CN="Tom DeMa
 ttia":http://njyp.org/profile/TomDeMattia
ATTENDEE;ROLE=REQ-PARTICIPANT;PARTSTAT=ACCEPTED;RSVP=TRUE;CN=Lena:http
 ://njyp.org/profile/Lena
ATTENDEE;ROLE=REQ-PARTICIPANT;PARTSTAT=ACCEPTED;RSVP=TRUE;CN=Dylan:htt
 p://njyp.org/profile/Dylan
ATTENDEE;ROLE=REQ-PARTICIPANT;PARTSTAT=ACCEPTED;RSVP=TRUE;CN="Nick Ols
 on":http://njyp.org/profile/NickOlson
ATTENDEE;ROLE=REQ-PARTICIPANT;PARTSTAT=ACCEPTED;RSVP=TRUE;CN=Kristen:h
 ttp://njyp.org/profile/irreverence
ATTENDEE;ROLE=REQ-PARTICIPANT;PARTSTAT=ACCEPTED;RSVP=TRUE;CN="Michelle
  Bergamo":http://njyp.org/profile/MichelleBergamo
ATTENDEE;ROLE=REQ-PARTICIPANT;PARTSTAT=ACCEPTED;RSVP=TRUE;CN="Alycia Y
 erves":http://njyp.org/profile/AlyciaYerves
ATTENDEE;ROLE=REQ-PARTICIPANT;PARTSTAT=ACCEPTED;RSVP=TRUE;CN="Brian an
 d Mike":http://njyp.org/profile/BrianMike
ATTENDEE;ROLE=REQ-PARTICIPANT;PARTSTAT=ACCEPTED;RSVP=TRUE;CN=Monika:ht
 tp://njyp.org/profile/MonikaSymms
ATTENDEE;ROLE=REQ-PARTICIPANT;PARTSTAT=ACCEPTED;RSVP=TRUE;CN=Janine:ht
 tp://njyp.org/profile/Janine703
ATTENDEE;ROLE=REQ-PARTICIPANT;PARTSTAT=TENTATIVE;RSVP=TRUE;CN=Kelvin:h
 ttp://njyp.org/profile/Kelvin
ATTENDEE;ROLE=REQ-PARTICIPANT;PARTSTAT=TENTATIVE;RSVP=TRUE;CN=Will:htt
 p://njyp.org/profile/William
ATTENDEE;ROLE=REQ-PARTICIPANT;PARTSTAT=TENTATIVE;RSVP=TRUE;CN=Shaun:ht
 tp://njyp.org/profile/Shaun0408
ATTENDEE;ROLE=REQ-PARTICIPANT;PARTSTAT=TENTATIVE;RSVP=TRUE;CN=Amanda:h
 ttp://njyp.org/profile/Amanda710
ATTENDEE;ROLE=REQ-PARTICIPANT;PARTSTAT=TENTATIVE;RSVP=TRUE;CN=Chris:ht
 tp://njyp.org/profile/Chris439
ATTENDEE;ROLE=REQ-PARTICIPANT;PARTSTAT=TENTATIVE;RSVP=TRUE;CN=Emily:ht
 tp://njyp.org/profile/Emily812
ATTENDEE;ROLE=REQ-PARTICIPANT;PARTSTAT=TENTATIVE;RSVP=TRUE;CN=Carmela:
 http://njyp.org/profile/Carmela
ATTENDEE;ROLE=REQ-PARTICIPANT;PARTSTAT=TENTATIVE;RSVP=TRUE;CN=Seema:ht
 tp://njyp.org/profile/SeemaRaykar
ATTENDEE;ROLE=REQ-PARTICIPANT;PARTSTAT=TENTATIVE;RSVP=TRUE;CN=Konstant
 in:http://njyp.org/profile/Konstantin
ATTENDEE;ROLE=REQ-PARTICIPANT;PARTSTAT=TENTATIVE;RSVP=TRUE;CN=Susan:ht
 tp://njyp.org/profile/SusanChrusciel
ATTENDEE;ROLE=REQ-PARTICIPANT;PARTSTAT=TENTATIVE;RSVP=TRUE;CN=Janet:ht
 tp://njyp.org/profile/Janet
ATTENDEE;ROLE=REQ-PARTICIPANT;PARTSTAT=TENTATIVE;RSVP=TRUE;CN="Brian P
 hillips":http://njyp.org/profile/BrianPhillips
END:VEVENT
END:VCALENDAR
