BEGIN:VCALENDAR
PRODID:NingEventWidget-v1
VERSION:2.0
METHOD:PUBLISH
BEGIN:VTIMEZONE
TZID:America/New_York
X-LIC-LOCATION:America/New_York
BEGIN:DAYLIGHT
TZOFFSETFROM:-0500
TZOFFSETTO:-0400
TZNAME:EDT
DTSTART:19700308T020000
RRULE:FREQ=YEARLY;BYMONTH=3;BYDAY=2SU
END:DAYLIGHT
BEGIN:STANDARD
TZOFFSETFROM:-0400
TZOFFSETTO:-0500
TZNAME:EST
DTSTART:19701101T020000
RRULE:FREQ=YEARLY;BYMONTH=11;BYDAY=1SU
END:STANDARD
END:VTIMEZONE
BEGIN:VEVENT
UID:2938326:Event:317914
DTSTAMP:20260419T223828Z
SUMMARY:Girls Night Out: Intro to Aerial Silks
DESCRIPTION:Lift off in an extraordinary Girls’ Night Out experience
  - Intro to Aerial Silks.   NJYP has paired with Wellness on the Gre
 en to share a taste of the aerial performance art sweeping the nation 
 for this women only event.  After class, we’ll meet at a nearby caf
 e to mingle and chat about our fling with flight.  And don’t let a 
 fear of heights stop you, intro classes won’t get too high off the g
 round. \nAfter this hour long class the group will optionally go out f
 or a late lunch or drinks. Perhaps to Zebu Forno, www.facebook.com/zeb
 umorristown\n\n\n\nMember Cost: $25 for the first 10\n$30 for the next
  11+\n\nNon-Member Cost:\n$35\n\nAre you a Sideliner or Player? Go her
 e for ticket discount info, http://www.njyp.org/group/the-better-body
 -challenge-main-group\n\nTickets:\nThere are a limited number of Ticke
 ts for sale. Tickets are not mailed, but your name will be kept at the
  door. All sales are final.\n\nWho Can Attend:\nWomen only. Members an
 d Non-Members of NJYP who are 21 to 39 years old.\n\nWhat to Wear:\nSh
 ort or long sleeves to prevent possible chaffing under the arms (but t
 ank tops are fine too)\nClothing that is close fitting, especially at 
 the ankles - leggings or footless tights work best\nCotton-based cloth
 ing\nLeotards work really well\n\nDirections:\nhttp://www.wellnessonth
 egreen.com/contact.asp\nWhere to park in Morristown, http://www.morris
 town-nj.org/parkmap.html\n\n\n\n\nStarlight ~ Aerial Hammock by Jen ~ 
 Flight Risk Aerial Silks from Kim Henry on Vimeo.\n\nFor more informat
 ion visit http://njyp.org/events/girls-night-out-aerial-silks
DTSTART;TZID=America/New_York:20120219T124500
DTEND;TZID=America/New_York:20120219T140000
CATEGORIES:"morris county", athletic, "women only", bbc
LOCATION:Wellness On The Green
WEBSITE:http://www.wellnessonthegreen.com/contact.asp
URL:http://www.wellnessonthegreen.com/contact.asp
CONTACT:
ORGANIZER;CN="Brian and Mike":http://njyp.org/profile/BrianMike
ATTACH;FMTTYPE="image/jpeg":http://storage.ning.com/topology/rest/1.0/
 file/get/1088751544?profile=original
ATTENDEE;ROLE=REQ-PARTICIPANT;PARTSTAT=ACCEPTED;RSVP=TRUE;CN=Valerie:h
 ttp://njyp.org/profile/Valerie
ATTENDEE;ROLE=REQ-PARTICIPANT;PARTSTAT=ACCEPTED;RSVP=TRUE;CN=Kristan:h
 ttp://njyp.org/profile/Kristan
ATTENDEE;ROLE=REQ-PARTICIPANT;PARTSTAT=ACCEPTED;RSVP=TRUE;CN=Maricar:h
 ttp://njyp.org/profile/Maricar
ATTENDEE;ROLE=REQ-PARTICIPANT;PARTSTAT=ACCEPTED;RSVP=TRUE;CN=Keri:http
 ://njyp.org/profile/Keri690
ATTENDEE;ROLE=REQ-PARTICIPANT;PARTSTAT=ACCEPTED;RSVP=TRUE;CN=Zehra:htt
 p://njyp.org/profile/zkasan83
ATTENDEE;ROLE=REQ-PARTICIPANT;PARTSTAT=ACCEPTED;RSVP=TRUE;CN="Nelly Ga
 lan":http://njyp.org/profile/NellyGalan
ATTENDEE;ROLE=REQ-PARTICIPANT;PARTSTAT=ACCEPTED;RSVP=TRUE;CN="jacqueli
 ne razzano":http://njyp.org/profile/jacquelinerazzano
ATTENDEE;ROLE=REQ-PARTICIPANT;PARTSTAT=ACCEPTED;RSVP=TRUE;CN=Colleen:h
 ttp://njyp.org/profile/Colleen
ATTENDEE;ROLE=REQ-PARTICIPANT;PARTSTAT=ACCEPTED;RSVP=TRUE;CN=Melissa:h
 ttp://njyp.org/profile/Melissa117
ATTENDEE;ROLE=REQ-PARTICIPANT;PARTSTAT=ACCEPTED;RSVP=TRUE;CN="Michelle
  Iden":http://njyp.org/profile/MichelleIden
ATTENDEE;ROLE=REQ-PARTICIPANT;PARTSTAT=ACCEPTED;RSVP=TRUE;CN="Jessica 
 Gill":http://njyp.org/profile/JessicaGill
ATTENDEE;ROLE=REQ-PARTICIPANT;PARTSTAT=ACCEPTED;RSVP=TRUE;CN=Diana:htt
 p://njyp.org/profile/Diana437
ATTENDEE;ROLE=REQ-PARTICIPANT;PARTSTAT=ACCEPTED;RSVP=TRUE;CN="Jenny Ma
 rie":http://njyp.org/profile/JennyMarie82
ATTENDEE;ROLE=REQ-PARTICIPANT;PARTSTAT=ACCEPTED;RSVP=TRUE;CN="Brian an
 d Mike":http://njyp.org/profile/BrianMike
ATTENDEE;ROLE=REQ-PARTICIPANT;PARTSTAT=TENTATIVE;RSVP=TRUE;CN=Catalina
 :http://njyp.org/profile/CatalinaCandela
ATTENDEE;ROLE=REQ-PARTICIPANT;PARTSTAT=TENTATIVE;RSVP=TRUE;CN=Elizabet
 h:http://njyp.org/profile/ElizabethWilliams
ATTENDEE;ROLE=REQ-PARTICIPANT;PARTSTAT=TENTATIVE;RSVP=TRUE;CN=Dianne:h
 ttp://njyp.org/profile/Dianne
ATTENDEE;ROLE=REQ-PARTICIPANT;PARTSTAT=TENTATIVE;RSVP=TRUE;CN=Shannon:
 http://njyp.org/profile/Shannon995
ATTENDEE;ROLE=REQ-PARTICIPANT;PARTSTAT=TENTATIVE;RSVP=TRUE;CN="Maureen
  Bello":http://njyp.org/profile/MaureenBello
ATTENDEE;ROLE=REQ-PARTICIPANT;PARTSTAT=TENTATIVE;RSVP=TRUE;CN=Melissa:
 http://njyp.org/profile/MelissaSudia
ATTENDEE;ROLE=REQ-PARTICIPANT;PARTSTAT=TENTATIVE;RSVP=TRUE;CN=Dar:http
 ://njyp.org/profile/Darlene
ATTENDEE;ROLE=REQ-PARTICIPANT;PARTSTAT=TENTATIVE;RSVP=TRUE;CN=Faina:ht
 tp://njyp.org/profile/Faina
END:VEVENT
END:VCALENDAR
