BEGIN:VCALENDAR
PRODID:NingEventWidget-v1
VERSION:2.0
METHOD:PUBLISH
BEGIN:VTIMEZONE
TZID:America/New_York
X-LIC-LOCATION:America/New_York
BEGIN:DAYLIGHT
TZOFFSETFROM:-0500
TZOFFSETTO:-0400
TZNAME:EDT
DTSTART:19700308T020000
RRULE:FREQ=YEARLY;BYMONTH=3;BYDAY=2SU
END:DAYLIGHT
BEGIN:STANDARD
TZOFFSETFROM:-0400
TZOFFSETTO:-0500
TZNAME:EST
DTSTART:19701101T020000
RRULE:FREQ=YEARLY;BYMONTH=11;BYDAY=1SU
END:STANDARD
END:VTIMEZONE
BEGIN:VEVENT
UID:2938326:Event:317043
DTSTAMP:20260420T002444Z
SUMMARY:Girls Night Out: Blowout & Makeup
DESCRIPTION:Master the latest hair and make-up beauty secrets with NJY
 P and Chateau Salon!  At this private event in Franklin Lakes, enjoy 
 tutorials, tips, and how-tos on being fabulous in the new year.  Ther
 e’ll be drinks to imbibe and snacks to nibble as we talk shop at thi
 s woman-only event.  Tricks of the trade never looked so good.  PS, T
 his salon may look familiar to some. It's where the Real Housewives of
  New Jersey have gone in past episodes.\n  Member Cost: $35 for the fi
 rst 10 $40 for the next 10+ Sorry, no-walks  Non-Member Cost: $45  Cos
 t Includes: - Cheese and Crackers - Wine - Blowout Lesson - Make-Up Le
 sson - Tips, How To's and \"Hands On\" Demonstrations - The chance to 
 mix and mingle with other young women  Tickets: There are a limited nu
 mber of Tickets for sale. Tickets are not mailed, but your name will b
 e kept at the door. All sales are final.  Who Can Attend: Women only w
 ho are 21 to 39 years old. This is a private event for NJYP Members an
 d their guests.  Directions: Chateau is located in the Franklin Lakes 
 Shopping Plaza.\n\nFor more information visit http://njyp.org/events/g
 irls-night-out-blowout-makeup
DTSTART;TZID=America/New_York:20120216T190000
DTEND;TZID=America/New_York:20120216T213000
CATEGORIES:"bergen county", educational, "women only"
LOCATION:Chateau Salon
WEBSITE:
URL:
CONTACT:
ORGANIZER;CN="Brian and Mike":http://njyp.org/profile/BrianMike
ATTACH;FMTTYPE="image/jpeg":http://storage.ning.com/topology/rest/1.0/
 file/get/1088752884?profile=original
ATTENDEE;ROLE=REQ-PARTICIPANT;PARTSTAT=ACCEPTED;RSVP=TRUE;CN="Amanda D
 .":http://njyp.org/profile/AmandaD
ATTENDEE;ROLE=REQ-PARTICIPANT;PARTSTAT=ACCEPTED;RSVP=TRUE;CN=Rachel:ht
 tp://njyp.org/profile/Rachel385
ATTENDEE;ROLE=REQ-PARTICIPANT;PARTSTAT=ACCEPTED;RSVP=TRUE;CN=Jannelle:
 http://njyp.org/profile/Jannelle
ATTENDEE;ROLE=REQ-PARTICIPANT;PARTSTAT=ACCEPTED;RSVP=TRUE;CN="Stacey M
 inton":http://njyp.org/profile/StaceyMinton
ATTENDEE;ROLE=REQ-PARTICIPANT;PARTSTAT=ACCEPTED;RSVP=TRUE;CN="Gael Bur
 man":http://njyp.org/profile/GaelBurman
ATTENDEE;ROLE=REQ-PARTICIPANT;PARTSTAT=ACCEPTED;RSVP=TRUE;CN=Sheila:ht
 tp://njyp.org/profile/Sheila
ATTENDEE;ROLE=REQ-PARTICIPANT;PARTSTAT=ACCEPTED;RSVP=TRUE;CN="Brian an
 d Mike":http://njyp.org/profile/BrianMike
ATTENDEE;ROLE=REQ-PARTICIPANT;PARTSTAT=ACCEPTED;RSVP=TRUE;CN="Jessica 
 Gill":http://njyp.org/profile/JessicaGill
ATTENDEE;ROLE=REQ-PARTICIPANT;PARTSTAT=TENTATIVE;RSVP=TRUE;CN="Gabriel
 a Salamanca":http://njyp.org/profile/GabrielaSalamanca
END:VEVENT
END:VCALENDAR
