BEGIN:VCALENDAR
PRODID:NingEventWidget-v1
VERSION:2.0
METHOD:PUBLISH
BEGIN:VTIMEZONE
TZID:America/New_York
X-LIC-LOCATION:America/New_York
BEGIN:DAYLIGHT
TZOFFSETFROM:-0500
TZOFFSETTO:-0400
TZNAME:EDT
DTSTART:19700308T020000
RRULE:FREQ=YEARLY;BYMONTH=3;BYDAY=2SU
END:DAYLIGHT
BEGIN:STANDARD
TZOFFSETFROM:-0400
TZOFFSETTO:-0500
TZNAME:EST
DTSTART:19701101T020000
RRULE:FREQ=YEARLY;BYMONTH=11;BYDAY=1SU
END:STANDARD
END:VTIMEZONE
BEGIN:VEVENT
UID:2938326:Event:565931
DTSTAMP:20260421T052949Z
SUMMARY:Girls Night Out: BYO Wine Share in Glen Rock CANCELED
DESCRIPTION:Calling all YP women - it is time for another \"Girls Nigh
 t Out\"! Join us as we meet and greet and enjoy a farm to table dining
  experience at Rocca's in Glen Rock. Rocca's is BYO, so don’t forget
  to bring your favorite bottle of red, white, or blush to share. As we
  dine, there will be fun conversations, bubbling laughter, and hopeful
 ly a few budding friendships.  Who Can Attend: Female Members who have
  paid their dues, http://www.njyp.org/page/pay-dues  How to Register: 
 Each guest must RSVP (to the right). We will make reservations based o
 n the RSVPs that we see.  What to Bring: Bring a bottle of wine to sha
 re!  Cost (paid at the door): $30 which includes tax and tip.  What Yo
 u Get: A wonderful 3 course meal!\n Finding the Group: Ask for NJYP on
 ce you arrive and/or look for signs. We will have reservation.  Direct
 ions: http://www.roccanj.com/\n\nFor more information visit http://njy
 p.org/events/girls-night-out-byo-wine-share-in-glen-rock
DTSTART;TZID=America/New_York:20140625T190000
DTEND;TZID=America/New_York:20140625T210000
CATEGORIES:"bergen county", social, "women only"
LOCATION:Rocca Restaurant
WEBSITE:http://www.roccanj.com/contact-us/
URL:http://www.roccanj.com/contact-us/
CONTACT:
ORGANIZER;CN="Brian and Mike":http://njyp.org/profile/BrianMike
ATTACH;FMTTYPE="image/jpeg":http://storage.ning.com/topology/rest/1.0/
 file/get/1088966061?profile=original
ATTENDEE;ROLE=REQ-PARTICIPANT;PARTSTAT=ACCEPTED;RSVP=TRUE;CN=Lauren:ht
 tp://njyp.org/profile/Lauren683
ATTENDEE;ROLE=REQ-PARTICIPANT;PARTSTAT=ACCEPTED;RSVP=TRUE;CN="ASHLEY F
  RUMBLE":http://njyp.org/profile/ASHLEYFRUMBLE
ATTENDEE;ROLE=REQ-PARTICIPANT;PARTSTAT=ACCEPTED;RSVP=TRUE;CN="Kelly An
 ne":http://njyp.org/profile/KellyGoodwin
ATTENDEE;ROLE=REQ-PARTICIPANT;PARTSTAT=ACCEPTED;RSVP=TRUE;CN=Diana:htt
 p://njyp.org/profile/Diana278
ATTENDEE;ROLE=REQ-PARTICIPANT;PARTSTAT=ACCEPTED;RSVP=TRUE;CN=Melanie:h
 ttp://njyp.org/profile/Melanie457
ATTENDEE;ROLE=REQ-PARTICIPANT;PARTSTAT=TENTATIVE;RSVP=TRUE;CN=Kristina
 :http://njyp.org/profile/Kristina
END:VEVENT
END:VCALENDAR
