BEGIN:VCALENDAR
PRODID:NingEventWidget-v1
VERSION:2.0
METHOD:PUBLISH
BEGIN:VTIMEZONE
TZID:America/New_York
X-LIC-LOCATION:America/New_York
BEGIN:DAYLIGHT
TZOFFSETFROM:-0500
TZOFFSETTO:-0400
TZNAME:EDT
DTSTART:19700308T020000
RRULE:FREQ=YEARLY;BYMONTH=3;BYDAY=2SU
END:DAYLIGHT
BEGIN:STANDARD
TZOFFSETFROM:-0400
TZOFFSETTO:-0500
TZNAME:EST
DTSTART:19701101T020000
RRULE:FREQ=YEARLY;BYMONTH=11;BYDAY=1SU
END:STANDARD
END:VTIMEZONE
BEGIN:VEVENT
UID:2938326:Event:538476
DTSTAMP:20260419T223837Z
SUMMARY:Girls Night Out: BYO Wine Share in Montclair CANCELED
DESCRIPTION:Calling all YP women - it is time for another \"BYO Wine S
 hare Dinner\"! Join us as we meet and greet and enjoy a delectable tap
 as style dining experience at FOGO in Montclair. As we dine, there wil
 l be fun conversations, bubbling laughter and hopefully a few budding 
 friendships.\n \nWho Can Attend:Female Members who have paid their du
 es, http://www.njyp.org/page/pay-dues\n \nHow to Register: RSVPing i
 s required.\n \nWhat to Bring: Bring a bottle of wine to share!\n \n
 What You Get: Cost includes 2 choices off the tapas menu. Cost also al
 ready includes tax and tip. This event is BYO so bring your favorite b
 ottle from home to share with the group!\n \nMember Cost: $35 paid on
 ce you arrive. Please bring cash.\n  \nFinding the Group: We will ha
 ve a table reserved based on the number of tickets so. If you cannot f
 ind the group ask staff for NJYP.\n \nDirections: https://www.faceboo
 k.com/FOGOMTCL/info\n \n\n\nFor more information visit http://njyp.or
 g/events/girls-night-out-byo-wine-share-in-montclair
DTSTART;TZID=America/New_York:20140508T190000
DTEND;TZID=America/New_York:20140508T213000
CATEGORIES:"essex county", social, "women only"
LOCATION:FOGO
WEBSITE:https://www.facebook.com/FOGOMTCL/info
URL:https://www.facebook.com/FOGOMTCL/info
CONTACT:
ORGANIZER;CN="Brian and Mike":http://njyp.org/profile/BrianMike
ATTACH;FMTTYPE="image/jpeg":http://storage.ning.com/topology/rest/1.0/
 file/get/1088901607?profile=original
ATTENDEE;ROLE=REQ-PARTICIPANT;PARTSTAT=ACCEPTED;RSVP=TRUE;CN=Melanie:h
 ttp://njyp.org/profile/Melanie457
ATTENDEE;ROLE=REQ-PARTICIPANT;PARTSTAT=ACCEPTED;RSVP=TRUE;CN="Kristen 
 Helmstetter":http://njyp.org/profile/KristenHelmstetter
ATTENDEE;ROLE=REQ-PARTICIPANT;PARTSTAT=ACCEPTED;RSVP=TRUE;CN=Marisa:ht
 tp://njyp.org/profile/Marisa585
ATTENDEE;ROLE=REQ-PARTICIPANT;PARTSTAT=ACCEPTED;RSVP=TRUE;CN=Yariela:h
 ttp://njyp.org/profile/Yariela
ATTENDEE;ROLE=REQ-PARTICIPANT;PARTSTAT=ACCEPTED;RSVP=TRUE;CN="Mobin Ch
 adha":http://njyp.org/profile/MobinChadha
ATTENDEE;ROLE=REQ-PARTICIPANT;PARTSTAT=ACCEPTED;RSVP=TRUE;CN=Lynn:http
 ://njyp.org/profile/Lynn399
ATTENDEE;ROLE=REQ-PARTICIPANT;PARTSTAT=ACCEPTED;RSVP=TRUE;CN=Marwah:ht
 tp://njyp.org/profile/155sdzomhusc5
ATTENDEE;ROLE=REQ-PARTICIPANT;PARTSTAT=TENTATIVE;RSVP=TRUE;CN=Caela:ht
 tp://njyp.org/profile/Caela
ATTENDEE;ROLE=REQ-PARTICIPANT;PARTSTAT=TENTATIVE;RSVP=TRUE;CN=Edna:htt
 p://njyp.org/profile/Edna
ATTENDEE;ROLE=REQ-PARTICIPANT;PARTSTAT=TENTATIVE;RSVP=TRUE;CN=Jentora:
 http://njyp.org/profile/Jentora
ATTENDEE;ROLE=REQ-PARTICIPANT;PARTSTAT=TENTATIVE;RSVP=TRUE;CN=Sharon:h
 ttp://njyp.org/profile/Sharon730
ATTENDEE;ROLE=REQ-PARTICIPANT;PARTSTAT=TENTATIVE;RSVP=TRUE;CN=Brittany
 :http://njyp.org/profile/Brittany214
ATTENDEE;ROLE=REQ-PARTICIPANT;PARTSTAT=TENTATIVE;RSVP=TRUE;CN=Diane:ht
 tp://njyp.org/profile/DianePalla
END:VEVENT
END:VCALENDAR
