BEGIN:VCALENDAR
PRODID:NingEventWidget-v1
VERSION:2.0
METHOD:PUBLISH
BEGIN:VTIMEZONE
TZID:America/New_York
X-LIC-LOCATION:America/New_York
BEGIN:DAYLIGHT
TZOFFSETFROM:-0500
TZOFFSETTO:-0400
TZNAME:EDT
DTSTART:19700308T020000
RRULE:FREQ=YEARLY;BYMONTH=3;BYDAY=2SU
END:DAYLIGHT
BEGIN:STANDARD
TZOFFSETFROM:-0400
TZOFFSETTO:-0500
TZNAME:EST
DTSTART:19701101T020000
RRULE:FREQ=YEARLY;BYMONTH=11;BYDAY=1SU
END:STANDARD
END:VTIMEZONE
BEGIN:VEVENT
UID:2938326:Event:548116
DTSTAMP:20260420T073042Z
SUMMARY:Girls Night Out: BYO Wine Share in Morristown
DESCRIPTION:Calling all YP women - it is time for another \"Girls Nigh
 t Out\"! Join us as we meet and greet and enjoy a delectable dining ex
 perience at Millie's Old World Meatballs and Pizza in Morristown. Mill
 ie's is BYO, so don’t forget to bring your favorite bottle of red, w
 hite, or blush to share. As we dine, there will be fun conversations, 
 bubbling laughter, and hopefully a few budding friendships.  Who Can A
 ttend: Female Members who have paid their dues, http://www.njyp.org/pa
 ge/pay-dues  How to Register: Each guest must RSVP (to the right). We 
 will make reservations based on the RSVPs that we see.  What to Bring:
  Bring a bottle of wine to share! *** Bonus!  The Grapeful Palate ht
 tp://grapefulpalatewines.com/ has offered Members 15% off your wine p
 urchase (excludes wines on sale) the night of the event. Stop by to gr
 ab a bottle for this BYO Wine Share!  To receive the discount just me
 ntion 'NJYP's Girls Night Out' when you check out. ***  Cost (paid at 
 the door): $30 which includes tax and tip. PLEASE BRING CASH.  What Yo
 u Get 2 Course Dinner Choice of 1 small salad: Arugula salad  House sa
 lad\nChoice of 1 pizza: Margarita wood fire  Marinara wood fire  Spicy
  marinara wood fire  Vegetarian wood fire  Signature coal fire small W
 hite pie coal fire small  Finding the Group: Ask for NJYP once you arr
 ive and/or look for signs. We will have reservation.  Directions: http
 ://milliesoldworld.com/contact/\n\nFor more information visit http://n
 jyp.org/events/girls-night-out-byo-wine-share-in-morristown
DTSTART;TZID=America/New_York:20140521T190000
DTEND;TZID=America/New_York:20140521T210000
CATEGORIES:"morris county", social, "women only"
LOCATION:Millie's Old World Meatballs and Pizza
WEBSITE:http://milliesoldworld.com/
URL:http://milliesoldworld.com/
CONTACT:
ORGANIZER;CN="Brian and Mike":http://njyp.org/profile/BrianMike
ATTACH;FMTTYPE="image/jpeg":http://storage.ning.com/topology/rest/1.0/
 file/get/1088966061?profile=original
ATTENDEE;ROLE=REQ-PARTICIPANT;PARTSTAT=ACCEPTED;RSVP=TRUE;CN="Jillian 
 Prior":http://njyp.org/profile/JillianPrior
ATTENDEE;ROLE=REQ-PARTICIPANT;PARTSTAT=ACCEPTED;RSVP=TRUE;CN=Danielle:
 http://njyp.org/profile/Danielle406
ATTENDEE;ROLE=REQ-PARTICIPANT;PARTSTAT=ACCEPTED;RSVP=TRUE;CN=Nat:http:
 //njyp.org/profile/NAt
ATTENDEE;ROLE=REQ-PARTICIPANT;PARTSTAT=ACCEPTED;RSVP=TRUE;CN=Larissa:h
 ttp://njyp.org/profile/Larissa
ATTENDEE;ROLE=REQ-PARTICIPANT;PARTSTAT=ACCEPTED;RSVP=TRUE;CN="Cassandr
 a Skavery":http://njyp.org/profile/CassandraSkavery
ATTENDEE;ROLE=REQ-PARTICIPANT;PARTSTAT=ACCEPTED;RSVP=TRUE;CN=Ann:http:
 //njyp.org/profile/Ann856
ATTENDEE;ROLE=REQ-PARTICIPANT;PARTSTAT=ACCEPTED;RSVP=TRUE;CN=Amy:http:
 //njyp.org/profile/Amy686
ATTENDEE;ROLE=REQ-PARTICIPANT;PARTSTAT=ACCEPTED;RSVP=TRUE;CN=Brianna:h
 ttp://njyp.org/profile/Brianna5
ATTENDEE;ROLE=REQ-PARTICIPANT;PARTSTAT=ACCEPTED;RSVP=TRUE;CN=Katie:htt
 p://njyp.org/profile/Katie261
ATTENDEE;ROLE=REQ-PARTICIPANT;PARTSTAT=ACCEPTED;RSVP=TRUE;CN=Lynn:http
 ://njyp.org/profile/Lynn399
ATTENDEE;ROLE=REQ-PARTICIPANT;PARTSTAT=ACCEPTED;RSVP=TRUE;CN="Leticia 
 Spicer":http://njyp.org/profile/LeticiaSpicer
ATTENDEE;ROLE=REQ-PARTICIPANT;PARTSTAT=ACCEPTED;RSVP=TRUE;CN=Esther:ht
 tp://njyp.org/profile/Esther
ATTENDEE;ROLE=REQ-PARTICIPANT;PARTSTAT=ACCEPTED;RSVP=TRUE;CN="Avantika
  Mukherjee":http://njyp.org/profile/AvantikaMukherjee
ATTENDEE;ROLE=REQ-PARTICIPANT;PARTSTAT=ACCEPTED;RSVP=TRUE;CN=Dana:http
 ://njyp.org/profile/Dana94
ATTENDEE;ROLE=REQ-PARTICIPANT;PARTSTAT=ACCEPTED;RSVP=TRUE;CN="alyssa R
 ego":http://njyp.org/profile/Alyssa177
ATTENDEE;ROLE=REQ-PARTICIPANT;PARTSTAT=ACCEPTED;RSVP=TRUE;CN=Melanie:h
 ttp://njyp.org/profile/Melanie457
ATTENDEE;ROLE=REQ-PARTICIPANT;PARTSTAT=TENTATIVE;RSVP=TRUE;CN=Emily:ht
 tp://njyp.org/profile/Emily269
ATTENDEE;ROLE=REQ-PARTICIPANT;PARTSTAT=TENTATIVE;RSVP=TRUE;CN=Ogechi:h
 ttp://njyp.org/profile/Ogechi
ATTENDEE;ROLE=REQ-PARTICIPANT;PARTSTAT=TENTATIVE;RSVP=TRUE;CN="Janet S
 tevens":http://njyp.org/profile/JanetStevens
END:VEVENT
END:VCALENDAR
