BEGIN:VCALENDAR
PRODID:NingEventWidget-v1
VERSION:2.0
METHOD:PUBLISH
BEGIN:VTIMEZONE
TZID:America/New_York
X-LIC-LOCATION:America/New_York
BEGIN:DAYLIGHT
TZOFFSETFROM:-0500
TZOFFSETTO:-0400
TZNAME:EDT
DTSTART:19700308T020000
RRULE:FREQ=YEARLY;BYMONTH=3;BYDAY=2SU
END:DAYLIGHT
BEGIN:STANDARD
TZOFFSETFROM:-0400
TZOFFSETTO:-0500
TZNAME:EST
DTSTART:19701101T020000
RRULE:FREQ=YEARLY;BYMONTH=11;BYDAY=1SU
END:STANDARD
END:VTIMEZONE
BEGIN:VEVENT
UID:2938326:Event:328365
DTSTAMP:20260420T021919Z
SUMMARY:Girls Night Out: Day to Night Make-Up
DESCRIPTION:Sorry, this was canceled due to lack of interest.\n\n\n\n\
 nLearn from a make-up guru!  Dina Racciatti of Kiss and Makeup in Hob
 oken is hosting a private group-lesson in her studio on how to transit
 ion your make-up from day to night using this Spring's hottest shades.
    There will be wine and a little something to chew as we talk shop
  at this woman-only event.  Each lady will go home with a retail bag,
  eye-duction, and new girlfriends.\n \nMember Cost: $35 for the first 
 10 $40 for the next 10+ Sorry, no-walks  Non-Member Cost: $45  Cost In
 cludes: Make-up Lesson Hands on practice using Dina's make-up and brus
 hes (bring a mirror if you have one) Wine and Cheese Light Snacks  Tic
 kets: There are a limited number of Tickets for sale. Tickets are not 
 mailed, but your name will be kept at the door. All sales are final.  
 Who Can Attend: Women only. Members and Non-Members of NJYP.  Directio
 ns: https://www.dkmcosmetics.com/\nDina's is right next to New York Sp
 ort's Club, entrance is on the side - Look for the pink/purple door!\n
 \nFor more information visit http://njyp.org/events/girls-night-out-da
 y-to-night-make-up
DTSTART;TZID=America/New_York:20120328T190000
DTEND;TZID=America/New_York:20120328T210000
CATEGORIES:"hudson county", social, educational, "women only"
LOCATION:Dina's Kiss & Makeup
WEBSITE:https://www.dkmcosmetics.com/content/store-location-hoboken-nj
URL:https://www.dkmcosmetics.com/content/store-location-hoboken-nj
CONTACT:
ORGANIZER;CN="Brian and Mike":http://njyp.org/profile/BrianMike
ATTACH;FMTTYPE="image/jpeg":http://storage.ning.com/topology/rest/1.0/
 file/get/1088739546?profile=original
ATTENDEE;ROLE=REQ-PARTICIPANT;PARTSTAT=ACCEPTED;RSVP=TRUE;CN="Brian an
 d Mike":http://njyp.org/profile/BrianMike
ATTENDEE;ROLE=REQ-PARTICIPANT;PARTSTAT=TENTATIVE;RSVP=TRUE;CN=Julie:ht
 tp://njyp.org/profile/Julie942
ATTENDEE;ROLE=REQ-PARTICIPANT;PARTSTAT=TENTATIVE;RSVP=TRUE;CN=Diana:ht
 tp://njyp.org/profile/Diana437
END:VEVENT
END:VCALENDAR
