BEGIN:VCALENDAR
PRODID:NingEventWidget-v1
VERSION:2.0
METHOD:PUBLISH
BEGIN:VTIMEZONE
TZID:America/New_York
X-LIC-LOCATION:America/New_York
BEGIN:DAYLIGHT
TZOFFSETFROM:-0500
TZOFFSETTO:-0400
TZNAME:EDT
DTSTART:19700308T020000
RRULE:FREQ=YEARLY;BYMONTH=3;BYDAY=2SU
END:DAYLIGHT
BEGIN:STANDARD
TZOFFSETFROM:-0400
TZOFFSETTO:-0500
TZNAME:EST
DTSTART:19701101T020000
RRULE:FREQ=YEARLY;BYMONTH=11;BYDAY=1SU
END:STANDARD
END:VTIMEZONE
BEGIN:VEVENT
UID:2938326:Event:527431
DTSTAMP:20260420T032432Z
SUMMARY:Girls Night Out: Hoboken CANCELED
DESCRIPTION:Due to lack of interest this event has been canceled.\n\nC
 alling all YP women - it is time for another \"Girls Night Out\"! Join
  us as we meet and greet and enjoy a delectable dining experience at G
 rimaldi's Pizzeria in Hoboken. We will begin with a meet and greet at 
 the bar before transitioning to a pizza dinner (served family style). 
 As we dine, there will be fun conversations, bubbling laughter and hop
 efully a few budding friendships.  Who Can Attend: Women who are 21 to
  39 years old may attend.  How to Register: Tickets are required. No w
 alk-ins due to limited space.  What You Get: Cost includes a house sal
 ad, a soda, and plenty of pizza to share. Each attendee will get to ch
 oose one pizza topping (Pepperoni, Sausage, Onions, Mushroom, Ricotta,
  Garlic, Sliced tomatoes, Olives). Cost also already includes tax and 
 tip. Cash bar for any alcoholic beverages.  \n\nMember Cost: $30 by 3.
 5.14 at 11:59pm $37 from 3.6.14 to 3.12.14 at 10am Sorry, no walk-ins 
  Non Member Cost: $40 by 3.12.14 at 10am Sorry, no walk-ins  Finding t
 he Group: Meet the group in the bar area. We will mingle for the first
  thirty minutes before we head to our seats for dinner. If you cannot 
 find the group ask staff for NJYP.  Directions: http://www.grimaldis.c
 om/hoboken.htm We will meet at the Washington Street location.\n\nFor 
 more information visit http://njyp.org/events/girls-night-out-hoboken
DTSTART;TZID=America/New_York:20140312T190000
DTEND;TZID=America/New_York:20140312T213000
CATEGORIES:"hudson county", social, "women only"
LOCATION:Grimaldi's Pizzeria
WEBSITE:http://www.grimaldis.com/hoboken.htm
URL:http://www.grimaldis.com/hoboken.htm
CONTACT:
ORGANIZER;CN="Brian and Mike":http://njyp.org/profile/BrianMike
ATTACH;FMTTYPE="image/jpeg":http://storage.ning.com/topology/rest/1.0/
 file/get/1088901607?profile=original
ATTENDEE;ROLE=REQ-PARTICIPANT;PARTSTAT=ACCEPTED;RSVP=TRUE;CN=Melanie:h
 ttp://njyp.org/profile/Melanie457
ATTENDEE;ROLE=REQ-PARTICIPANT;PARTSTAT=ACCEPTED;RSVP=TRUE;CN="Brian an
 d Mike":http://njyp.org/profile/BrianMike
ATTENDEE;ROLE=REQ-PARTICIPANT;PARTSTAT=TENTATIVE;RSVP=TRUE;CN=Marwah:h
 ttp://njyp.org/profile/155sdzomhusc5
ATTENDEE;ROLE=REQ-PARTICIPANT;PARTSTAT=TENTATIVE;RSVP=TRUE;CN=Julie:ht
 tp://njyp.org/profile/Julie942
END:VEVENT
END:VCALENDAR
