BEGIN:VCALENDAR
PRODID:NingEventWidget-v1
VERSION:2.0
METHOD:PUBLISH
BEGIN:VTIMEZONE
TZID:America/New_York
X-LIC-LOCATION:America/New_York
BEGIN:DAYLIGHT
TZOFFSETFROM:-0500
TZOFFSETTO:-0400
TZNAME:EDT
DTSTART:19700308T020000
RRULE:FREQ=YEARLY;BYMONTH=3;BYDAY=2SU
END:DAYLIGHT
BEGIN:STANDARD
TZOFFSETFROM:-0400
TZOFFSETTO:-0500
TZNAME:EST
DTSTART:19701101T020000
RRULE:FREQ=YEARLY;BYMONTH=11;BYDAY=1SU
END:STANDARD
END:VTIMEZONE
BEGIN:VEVENT
UID:2938326:Event:528204
DTSTAMP:20260420T014238Z
SUMMARY:Girls Night Out: Rochelle Park CANCELED
DESCRIPTION:Sorry everyone, we needed at least 5 tickets to pre-sell a
 nd that did not happen. Refunds will be sent today.\n\nCalling all YP 
 women - it is time for another \"Girls Night Out\"! Join us as we meet
  and greet and enjoy a delectable dining experience at Woodstone Pizza
  Bar and Grill in Rochelle Park. We will begin with a meet and greet a
 t the bar before transitioning to a multi-course dinner. As we dine, t
 here will be fun conversations, bubbling laughter and hopefully a few 
 budding friendships.  Who Can Attend: Women who are 21 to 39 years old
  may attend.  How to Register: Tickets are required. No walk-ins due t
 o limited space.  What You Get: Cost includes a choice of salad, pasta
 , an entree from the menu here, http://www.njyp.org/page/dinner-menu-f
 or-girls-night-out-at-woodstone-pizza-bar-grill, plus coffee and desse
 rt of the day! Cost also already includes tax and tip. Cash bar for an
 y alcoholic beverages.\n\n\n\nMember Cost: $35 by 3.21.14 at 11:59pm $
 42 from 3.22.14 to 3.26.14 at 10am Sorry, no walk-ins  Non Member Cost
 : $45 by 3.26.14 at 10am Sorry, no walk-ins  Finding the Group: Meet t
 he group in the bar area. We will mingle for the first thirty minutes 
 before we head to our seats for dinner. If you cannot find the group a
 sk staff for NJYP.  Directions: http://woodstonepizzabarandgrill.com/c
 ontact.html Big parking lot.\n\nFor more information visit http://njyp
 .org/events/girls-night-out-rochelle-park
DTSTART;TZID=America/New_York:20140326T190000
DTEND;TZID=America/New_York:20140326T213000
CATEGORIES:"bergen county", social, "women only"
LOCATION:Woodstone Pizza Bar & Grill
WEBSITE:http://woodstonepizzabarandgrill.com/contact.html
URL:http://woodstonepizzabarandgrill.com/contact.html
CONTACT:
ORGANIZER;CN="Brian and Mike":http://njyp.org/profile/BrianMike
ATTACH;FMTTYPE="image/jpeg":http://storage.ning.com/topology/rest/1.0/
 file/get/1088901607?profile=original
ATTENDEE;ROLE=REQ-PARTICIPANT;PARTSTAT=ACCEPTED;RSVP=TRUE;CN=Marisa:ht
 tp://njyp.org/profile/Marisa585
ATTENDEE;ROLE=REQ-PARTICIPANT;PARTSTAT=ACCEPTED;RSVP=TRUE;CN=Julie:htt
 p://njyp.org/profile/Julie942
ATTENDEE;ROLE=REQ-PARTICIPANT;PARTSTAT=ACCEPTED;RSVP=TRUE;CN=Katie:htt
 p://njyp.org/profile/Katie743
ATTENDEE;ROLE=REQ-PARTICIPANT;PARTSTAT=ACCEPTED;RSVP=TRUE;CN="Brian an
 d Mike":http://njyp.org/profile/BrianMike
ATTENDEE;ROLE=REQ-PARTICIPANT;PARTSTAT=TENTATIVE;RSVP=TRUE;CN=Ogechi:h
 ttp://njyp.org/profile/Ogechi
ATTENDEE;ROLE=REQ-PARTICIPANT;PARTSTAT=TENTATIVE;RSVP=TRUE;CN="Christi
 ne Migton":http://njyp.org/profile/ChristineMigton
ATTENDEE;ROLE=REQ-PARTICIPANT;PARTSTAT=TENTATIVE;RSVP=TRUE;CN=Tisha:ht
 tp://njyp.org/profile/Tisha
ATTENDEE;ROLE=REQ-PARTICIPANT;PARTSTAT=TENTATIVE;RSVP=TRUE;CN=Gabriela
 :http://njyp.org/profile/Gabriela
ATTENDEE;ROLE=REQ-PARTICIPANT;PARTSTAT=TENTATIVE;RSVP=TRUE;CN=Karen:ht
 tp://njyp.org/profile/KarenCerone
ATTENDEE;ROLE=REQ-PARTICIPANT;PARTSTAT=TENTATIVE;RSVP=TRUE;CN=Rachael:
 http://njyp.org/profile/RachaelFisherLayne
END:VEVENT
END:VCALENDAR
