BEGIN:VCALENDAR
PRODID:NingEventWidget-v1
VERSION:2.0
METHOD:PUBLISH
BEGIN:VTIMEZONE
TZID:America/New_York
X-LIC-LOCATION:America/New_York
BEGIN:DAYLIGHT
TZOFFSETFROM:-0500
TZOFFSETTO:-0400
TZNAME:EDT
DTSTART:19700308T020000
RRULE:FREQ=YEARLY;BYMONTH=3;BYDAY=2SU
END:DAYLIGHT
BEGIN:STANDARD
TZOFFSETFROM:-0400
TZOFFSETTO:-0500
TZNAME:EST
DTSTART:19701101T020000
RRULE:FREQ=YEARLY;BYMONTH=11;BYDAY=1SU
END:STANDARD
END:VTIMEZONE
BEGIN:VEVENT
UID:2938326:Event:538587
DTSTAMP:20260420T180659Z
SUMMARY:Girls Night Out: Shopping Spree in Paramus
DESCRIPTION:Thank you so much for registering for tomorrow's GNO: Shop
 ping Spree event at LOFT in Garden State Plaza. Â Unfortunately we onl
 y hadÂ 10 peopleÂ commit, but luckily the store would still love to ha
 ve you! Â Due to the low numbers we are going to transform this event 
 from an NJYP meet up to an open house. Â That means a few things will 
 change but you still get a ton of perks!\nOnce you arrive at Loft ask 
 for Denise or let another staff member know that you are there for the
  NJYP shopping event, asÂ there will not be an NJYP host.Â You can loo
 k forward toÂ 40% offÂ as well asÂ snacks and refreshments. Â Since th
 e number of NJYPers attending will be small feel free to bring moms, s
 isters, or girlfriends to eliminate the risk shopping alone.\n--------
 ----------\n\n\nCalling all YP women - it is time for another \"Girls 
 Night Out\" but now with the added fun of shopping! Join us as we meet
  and greet and shop at LOFT in the Garden State Plaza. There will be a
  DJ, some lite bites and refreshments, and plenty of bonding. Oh, and 
 there is no cover charge! Just pre-register so you we know you are com
 ing.\nÂ \n\n\nWho Can Attend: This is a private shopping event created
  just for NJYP. Women who are 21 to 39 years old may attend. What's th
 e fun in shopping without a friend? Friends of NJYPers may come along 
 as well..\nÂ \nWhat You Can Look Forward To: Lite bites in the form of
  mini cupcakes and refreshments to fuel the fun. Professional stylists
  to help you pick out the best outfit for any occasion. A private sect
 ion of the dressing rooms to skip the line. A live DJ playing top 40s.
  AND 30% off entire full price purchase!\nÂ \nFinding the Group: This 
 is a come-and-go as you please type of event. Come any time you want!\
 nÂ \nDirections: http://www.westfield.com/gardenstateplaza/directionsÂ
  \nPark near entrance 8. Anchor stores are Lord & Taylor and Nordstrom
 . There is a 4 level parking deck closest to Nordstrom that is conveni
 ent.\n\nFor more information visit http://njyp.org/events/girls-night-
 out-shopping-spree-in-paramus
DTSTART;TZID=America/New_York:20140417T180000
DTEND;TZID=America/New_York:20140417T210000
CATEGORIES:"bergen county", social, "women only"
LOCATION:LOFT at Garden State Plaza
WEBSITE:http://www.westfield.com/gardenstateplaza/
URL:http://www.westfield.com/gardenstateplaza/
CONTACT:
ORGANIZER;CN="Brian and Mike":http://njyp.org/profile/BrianMike
ATTACH;FMTTYPE="image/jpeg":http://storage.ning.com/topology/rest/1.0/
 file/get/1088951889?profile=original
ATTENDEE;ROLE=REQ-PARTICIPANT;PARTSTAT=ACCEPTED;RSVP=TRUE;CN="NIcole V
 innal":http://njyp.org/profile/NIcoleVinnal
ATTENDEE;ROLE=REQ-PARTICIPANT;PARTSTAT=ACCEPTED;RSVP=TRUE;CN=Natasha:h
 ttp://njyp.org/profile/Natasha817
ATTENDEE;ROLE=REQ-PARTICIPANT;PARTSTAT=ACCEPTED;RSVP=TRUE;CN=Melanie:h
 ttp://njyp.org/profile/Melanie457
ATTENDEE;ROLE=REQ-PARTICIPANT;PARTSTAT=ACCEPTED;RSVP=TRUE;CN="Brian an
 d Mike":http://njyp.org/profile/BrianMike
ATTENDEE;ROLE=REQ-PARTICIPANT;PARTSTAT=TENTATIVE;RSVP=TRUE;CN=Diane:ht
 tp://njyp.org/profile/DianePalla
ATTENDEE;ROLE=REQ-PARTICIPANT;PARTSTAT=TENTATIVE;RSVP=TRUE;CN="Heidi K
 olb":http://njyp.org/profile/HeidiKolb
ATTENDEE;ROLE=REQ-PARTICIPANT;PARTSTAT=TENTATIVE;RSVP=TRUE;CN=Maxine:h
 ttp://njyp.org/profile/Maxine
ATTENDEE;ROLE=REQ-PARTICIPANT;PARTSTAT=TENTATIVE;RSVP=TRUE;CN=Kari:htt
 p://njyp.org/profile/Kari
ATTENDEE;ROLE=REQ-PARTICIPANT;PARTSTAT=TENTATIVE;RSVP=TRUE;CN=Marwah:h
 ttp://njyp.org/profile/155sdzomhusc5
ATTENDEE;ROLE=REQ-PARTICIPANT;PARTSTAT=TENTATIVE;RSVP=TRUE;CN=Lena:htt
 p://njyp.org/profile/Lena493
ATTENDEE;ROLE=REQ-PARTICIPANT;PARTSTAT=TENTATIVE;RSVP=TRUE;CN=Katie:ht
 tp://njyp.org/profile/Katie743
ATTENDEE;ROLE=REQ-PARTICIPANT;PARTSTAT=TENTATIVE;RSVP=TRUE;CN=Sonia:ht
 tp://njyp.org/profile/Sonia889
ATTENDEE;ROLE=REQ-PARTICIPANT;PARTSTAT=TENTATIVE;RSVP=TRUE;CN=Ogechi:h
 ttp://njyp.org/profile/Ogechi
ATTENDEE;ROLE=REQ-PARTICIPANT;PARTSTAT=TENTATIVE;RSVP=TRUE;CN=Melanie:
 http://njyp.org/profile/Melanie124
END:VEVENT
END:VCALENDAR
