BEGIN:VCALENDAR
PRODID:NingEventWidget-v1
VERSION:2.0
METHOD:PUBLISH
BEGIN:VTIMEZONE
TZID:America/New_York
X-LIC-LOCATION:America/New_York
BEGIN:DAYLIGHT
TZOFFSETFROM:-0500
TZOFFSETTO:-0400
TZNAME:EDT
DTSTART:19700308T020000
RRULE:FREQ=YEARLY;BYMONTH=3;BYDAY=2SU
END:DAYLIGHT
BEGIN:STANDARD
TZOFFSETFROM:-0400
TZOFFSETTO:-0500
TZNAME:EST
DTSTART:19701101T020000
RRULE:FREQ=YEARLY;BYMONTH=11;BYDAY=1SU
END:STANDARD
END:VTIMEZONE
BEGIN:VEVENT
UID:2938326:Event:156720
DTSTAMP:20260420T053823Z
SUMMARY:Girls Night Out: Speed Friending
DESCRIPTION:Expand your social circle by 10 to 20 women in one night a
 t our Speed Friending event!  All attendees will meet face to face, o
 ne to one, with 10 to 20 local YP women.  Come to make new friends or
  to network.  By the end of the evening you will walk away feeling yo
 u made some serious and long lasting connections.Bonus:We will share t
 he guest list with you! That means upon arrival you will receive a lis
 t of the names, emails, and hobbies of those who pre-registered. Follo
 wing the event you can easily reach out to your new contacts.\n\n \nM
 ember Cost:$5 for the first 10 to register$10 for the next 11 to 40 to
  register$20 for walk-insNon-Member Cost:$20 online and at the doorWho
  should attend:This event is open to WOMEN who are 21-39, single or ma
 rried.Come out to make new friends or come to network.There is no dres
 s code and you may bring business cards.2 Item Minimum:There is a 2 it
 em minimum purchase during this event. You can buy food, beer, wine, b
 ottled water, juices, etc. Soda does not count toward the minimum. Tic
 kets:There are a limited number of Tickets for sale. Tickets are not m
 ailed, but your name will be kept at the door. All sales are final.Fin
 ding the Group:We will meet in the bar area. Directions:http://www.nas
 sauinn.com/princeton-restaurants/Various street parking and decks.\n\n
 For more information visit http://njyp.org/events/girls-night-out-spee
 d-2
DTSTART;TZID=America/New_York:20110405T190000
DTEND;TZID=America/New_York:20110405T210000
CATEGORIES:"mercer county", social, "women only"
LOCATION:Yankee Doodle Tap Room at the Nassau Inn
WEBSITE:http://www.nassauinn.com/princeton-restaurants/index.cfm
URL:http://www.nassauinn.com/princeton-restaurants/index.cfm
CONTACT:
ORGANIZER;CN="Brian and Mike":http://njyp.org/profile/BrianMike
ATTACH;FMTTYPE="image/jpeg":http://storage.ning.com/topology/rest/1.0/
 file/get/1088682129?profile=original
ATTENDEE;ROLE=REQ-PARTICIPANT;PARTSTAT=ACCEPTED;RSVP=TRUE;CN=Alison:ht
 tp://njyp.org/profile/Alison983
ATTENDEE;ROLE=REQ-PARTICIPANT;PARTSTAT=ACCEPTED;RSVP=TRUE;CN=Kelley:ht
 tp://njyp.org/profile/KelleyBoyle
ATTENDEE;ROLE=REQ-PARTICIPANT;PARTSTAT=ACCEPTED;RSVP=TRUE;CN="Janine F
 echter":http://njyp.org/profile/JFechter
ATTENDEE;ROLE=REQ-PARTICIPANT;PARTSTAT=ACCEPTED;RSVP=TRUE;CN=Jenn:http
 ://njyp.org/profile/Jenn583
ATTENDEE;ROLE=REQ-PARTICIPANT;PARTSTAT=ACCEPTED;RSVP=TRUE;CN=Nadia:htt
 p://njyp.org/profile/Nadia415
ATTENDEE;ROLE=REQ-PARTICIPANT;PARTSTAT=ACCEPTED;RSVP=TRUE;CN=Kate:http
 ://njyp.org/profile/Kate347
ATTENDEE;ROLE=REQ-PARTICIPANT;PARTSTAT=ACCEPTED;RSVP=TRUE;CN=Adrianne:
 http://njyp.org/profile/AdrianneKolano
ATTENDEE;ROLE=REQ-PARTICIPANT;PARTSTAT=ACCEPTED;RSVP=TRUE;CN=Nicole:ht
 tp://njyp.org/profile/Nicole388
ATTENDEE;ROLE=REQ-PARTICIPANT;PARTSTAT=ACCEPTED;RSVP=TRUE;CN=Jamie:htt
 p://njyp.org/profile/Jamie933
ATTENDEE;ROLE=REQ-PARTICIPANT;PARTSTAT=ACCEPTED;RSVP=TRUE;CN=Melanie:h
 ttp://njyp.org/profile/Melanie365
ATTENDEE;ROLE=REQ-PARTICIPANT;PARTSTAT=ACCEPTED;RSVP=TRUE;CN=Amanda:ht
 tp://njyp.org/profile/Amanda245
ATTENDEE;ROLE=REQ-PARTICIPANT;PARTSTAT=ACCEPTED;RSVP=TRUE;CN="Janelle 
 C.":http://njyp.org/profile/Janelle113
ATTENDEE;ROLE=REQ-PARTICIPANT;PARTSTAT=ACCEPTED;RSVP=TRUE;CN=Cristen:h
 ttp://njyp.org/profile/Joe685
ATTENDEE;ROLE=REQ-PARTICIPANT;PARTSTAT=ACCEPTED;RSVP=TRUE;CN=Erin:http
 ://njyp.org/profile/Erin497
ATTENDEE;ROLE=REQ-PARTICIPANT;PARTSTAT=ACCEPTED;RSVP=TRUE;CN="Brian an
 d Mike":http://njyp.org/profile/BrianMike
ATTENDEE;ROLE=REQ-PARTICIPANT;PARTSTAT=TENTATIVE;RSVP=TRUE;CN=El:http:
 //njyp.org/profile/El
ATTENDEE;ROLE=REQ-PARTICIPANT;PARTSTAT=TENTATIVE;RSVP=TRUE;CN=Marcia:h
 ttp://njyp.org/profile/Marcia
ATTENDEE;ROLE=REQ-PARTICIPANT;PARTSTAT=TENTATIVE;RSVP=TRUE;CN=Heather:
 http://njyp.org/profile/Heather308
ATTENDEE;ROLE=REQ-PARTICIPANT;PARTSTAT=TENTATIVE;RSVP=TRUE;CN="Lorrain
 e Weitz":http://njyp.org/profile/LorraineWeitz
ATTENDEE;ROLE=REQ-PARTICIPANT;PARTSTAT=TENTATIVE;RSVP=TRUE;CN="Robyn G
 awron":http://njyp.org/profile/RobynGawron
ATTENDEE;ROLE=REQ-PARTICIPANT;PARTSTAT=TENTATIVE;RSVP=TRUE;CN=Leah:htt
 p://njyp.org/profile/LeahZ
ATTENDEE;ROLE=REQ-PARTICIPANT;PARTSTAT=TENTATIVE;RSVP=TRUE;CN="Amanda 
 Elizabeth Arena":http://njyp.org/profile/AmandaElizabethArena
ATTENDEE;ROLE=REQ-PARTICIPANT;PARTSTAT=TENTATIVE;RSVP=TRUE;CN=Rachel:h
 ttp://njyp.org/profile/Rachel41
ATTENDEE;ROLE=REQ-PARTICIPANT;PARTSTAT=TENTATIVE;RSVP=TRUE;CN="Jennife
 r L. Campbell":http://njyp.org/profile/JenniferLCampbell
END:VEVENT
END:VCALENDAR
