BEGIN:VCALENDAR
PRODID:NingEventWidget-v1
VERSION:2.0
METHOD:PUBLISH
BEGIN:VTIMEZONE
TZID:America/New_York
X-LIC-LOCATION:America/New_York
BEGIN:DAYLIGHT
TZOFFSETFROM:-0500
TZOFFSETTO:-0400
TZNAME:EDT
DTSTART:19700308T020000
RRULE:FREQ=YEARLY;BYMONTH=3;BYDAY=2SU
END:DAYLIGHT
BEGIN:STANDARD
TZOFFSETFROM:-0400
TZOFFSETTO:-0500
TZNAME:EST
DTSTART:19701101T020000
RRULE:FREQ=YEARLY;BYMONTH=11;BYDAY=1SU
END:STANDARD
END:VTIMEZONE
BEGIN:VEVENT
UID:2938326:Event:316135
DTSTAMP:20260420T021745Z
SUMMARY:Girls Night Out: The Bar Method
DESCRIPTION:Canceled due to lack of interest.\n\nThe Bar Method may so
 und like electronica band or the newest Red Bank watering hole, but ac
 tually it’s another thing entirely.  Different from Yoga and Pilate
 s, The Bar Method uses a dance bar and your body’s own weight to tar
 get all major muscle groups and sculpt your figure.   Stick around a
 fter the hour long workout for complementary snacks and a little mingl
 ing with the other women. \nWho can Attend:\nWomen only, who are 21 to
  39 years old.\nThis will be a private event just for our organization
 .\n\nWhat to bring:\nWomen often wear yoga pants and a tank top and/or
  sports bra.\nSocks are required.\nCheck out the pictures to see what 
 they are wearing, http://www.barmethod.com/about.html\nBring a towel a
 nd a bottle of water as well.\n\n\nMember Cost:\n$20 for the first 10 
 to register\n$25 for everyone else\n\nNon-Member Cost:\n$30\n \nAre y
 ou a Sideliner or Player? Go here for ticket discount info, http://www
 .njyp.org/group/the-better-body-challenge-main-group Tickets:\nThere a
 re a limited number of Tickets for sale. Tickets are not mailed, but y
 our name will be kept at the door. All sales are final.\n\nDirections:
 \n  http://shrewsbury.barmethod.com/ (pan down)\nTurn into the parkin
 g lot, make your first right, make a left at the end, building on your
  left.\n\n\nFor more information visit http://njyp.org/events/girls-ni
 ght-out-the-bar-method
DTSTART;TZID=America/New_York:20120216T183000
DTEND;TZID=America/New_York:20120216T200000
CATEGORIES:"monmouth county", athletic, "women only", bbc
LOCATION:The Bar Method
WEBSITE:http://shrewsbury.barmethod.com/
URL:http://shrewsbury.barmethod.com/
CONTACT:
ORGANIZER;CN="Brian and Mike":http://njyp.org/profile/BrianMike
ATTACH;FMTTYPE="image/jpeg":http://storage.ning.com/topology/rest/1.0/
 file/get/1088752884?profile=original
ATTENDEE;ROLE=REQ-PARTICIPANT;PARTSTAT=ACCEPTED;RSVP=TRUE;CN=Alison:ht
 tp://njyp.org/profile/Alison47
ATTENDEE;ROLE=REQ-PARTICIPANT;PARTSTAT=ACCEPTED;RSVP=TRUE;CN="Kathryn 
 McGowan":http://njyp.org/profile/KathrynMcGowan
ATTENDEE;ROLE=REQ-PARTICIPANT;PARTSTAT=ACCEPTED;RSVP=TRUE;CN="Meg McGo
 wan":http://njyp.org/profile/MegMcGowan
ATTENDEE;ROLE=REQ-PARTICIPANT;PARTSTAT=ACCEPTED;RSVP=TRUE;CN="Maureen 
 Bello":http://njyp.org/profile/MaureenBello
ATTENDEE;ROLE=REQ-PARTICIPANT;PARTSTAT=ACCEPTED;RSVP=TRUE;CN=Diana:htt
 p://njyp.org/profile/Diana437
ATTENDEE;ROLE=REQ-PARTICIPANT;PARTSTAT=ACCEPTED;RSVP=TRUE;CN="Michelle
  Iden":http://njyp.org/profile/MichelleIden
ATTENDEE;ROLE=REQ-PARTICIPANT;PARTSTAT=ACCEPTED;RSVP=TRUE;CN="Brian an
 d Mike":http://njyp.org/profile/BrianMike
ATTENDEE;ROLE=REQ-PARTICIPANT;PARTSTAT=TENTATIVE;RSVP=TRUE;CN=Keri:htt
 p://njyp.org/profile/Keri690
ATTENDEE;ROLE=REQ-PARTICIPANT;PARTSTAT=TENTATIVE;RSVP=TRUE;CN="Cindy L
 in":http://njyp.org/profile/CindyLin
ATTENDEE;ROLE=REQ-PARTICIPANT;PARTSTAT=TENTATIVE;RSVP=TRUE;CN="Christi
 ne Migton":http://njyp.org/profile/ChristineMigton
ATTENDEE;ROLE=REQ-PARTICIPANT;PARTSTAT=TENTATIVE;RSVP=TRUE;CN="Robin W
 eaver":http://njyp.org/profile/RobinWeaver
ATTENDEE;ROLE=REQ-PARTICIPANT;PARTSTAT=TENTATIVE;RSVP=TRUE;CN="Rachel 
 O!":http://njyp.org/profile/RachelOrtiga
ATTENDEE;ROLE=REQ-PARTICIPANT;PARTSTAT=TENTATIVE;RSVP=TRUE;CN=Megan:ht
 tp://njyp.org/profile/MeganSullivan
ATTENDEE;ROLE=REQ-PARTICIPANT;PARTSTAT=TENTATIVE;RSVP=TRUE;CN=Kristen:
 http://njyp.org/profile/KristenZielenbach
ATTENDEE;ROLE=REQ-PARTICIPANT;PARTSTAT=TENTATIVE;RSVP=TRUE;CN=Colleen:
 http://njyp.org/profile/Colleen
END:VEVENT
END:VCALENDAR
