BEGIN:VCALENDAR
PRODID:NingEventWidget-v1
VERSION:2.0
METHOD:PUBLISH
BEGIN:VTIMEZONE
TZID:America/New_York
X-LIC-LOCATION:America/New_York
BEGIN:DAYLIGHT
TZOFFSETFROM:-0500
TZOFFSETTO:-0400
TZNAME:EDT
DTSTART:19700308T020000
RRULE:FREQ=YEARLY;BYMONTH=3;BYDAY=2SU
END:DAYLIGHT
BEGIN:STANDARD
TZOFFSETFROM:-0400
TZOFFSETTO:-0500
TZNAME:EST
DTSTART:19701101T020000
RRULE:FREQ=YEARLY;BYMONTH=11;BYDAY=1SU
END:STANDARD
END:VTIMEZONE
BEGIN:VEVENT
UID:2938326:Event:142123
DTSTAMP:20260420T072425Z
SUMMARY:Girls Night Out: Your Quarterlife Crisis
DESCRIPTION:Dr. Kevin Brennan, the contributing psychologist in the bo
 ok \"Your So-Called Life: A Guide to Boys, Body Issues, and Other Big-
 Girl Drama You Thought You Would Have Figured Out by Now\" will lead a
  fun and lively workshop on:- The years before 30, after 30, and just 
 at 30.- Fear of Missing Out.- Are you settling on a job? On a guy?- Ho
 w to find Mr. Right.During the event you can jump into our lively conv
 ersation or just observe quietly.  Either way you will go home with s
 ome tools in your pocket and feeling you are not alone.\n\n \nWho can
  Attend:Young Professionals who are female and 21-39 years of age, sin
 gle or married.Ticket Includes:1 glass of wine/beerLight snacksA copy 
 of the guest list (stay connected to others who pre-registered)Member 
 Cost:$10 online$20 for walk-insNon-Member Cost:$20 online and for walk
 -insSchedule:6:30 Early Check-In and Tour of AVE Clifton (anyone who a
 rrives early gets an extra glass of wine/beer if they go on a quick  
 tour)6:45 Regular Check-In 7:00 to 9:00 Workshop Tickets:There are a l
 imited number of Tickets for sale. Tickets are not mailed, but your na
 me will be kept at the door. All sales are final.Directions/Parking:ht
 tp://www.kormancommunities.com/ave/locations/clifton/maps.aspx Park an
 ywhere in the parking garage.We will be meeting in a private room in A
 VE Clifton, a luxury apartment community. How to find the group:We wil
 l be meeting in the “café”. Ask at the reception desk.\n\nFor mor
 e information visit http://njyp.org/events/girls-night-out-your-1
DTSTART;TZID=America/New_York:20110301T184500
DTEND;TZID=America/New_York:20110301T210000
CATEGORIES:"passaic county", "women only", educational
LOCATION:AVE Clifton
WEBSITE:http://www.kormancommunities.com/ave/locations/clifton/maps.as
 px
URL:http://www.kormancommunities.com/ave/locations/clifton/maps.aspx
CONTACT:
ORGANIZER;CN="Brian and Mike":http://njyp.org/profile/BrianMike
ATTACH;FMTTYPE="image/jpeg":http://storage.ning.com/topology/rest/1.0/
 file/get/1088674421?profile=original
ATTENDEE;ROLE=REQ-PARTICIPANT;PARTSTAT=ACCEPTED;RSVP=TRUE;CN=Chanthy:h
 ttp://njyp.org/profile/Chanthy
ATTENDEE;ROLE=REQ-PARTICIPANT;PARTSTAT=ACCEPTED;RSVP=TRUE;CN="Janelle 
 Randall":http://njyp.org/profile/JanelleRandall
ATTENDEE;ROLE=REQ-PARTICIPANT;PARTSTAT=ACCEPTED;RSVP=TRUE;CN="Janelle 
 C.":http://njyp.org/profile/Janelle113
ATTENDEE;ROLE=REQ-PARTICIPANT;PARTSTAT=ACCEPTED;RSVP=TRUE;CN="Janet St
 evens":http://njyp.org/profile/JanetStevens
ATTENDEE;ROLE=REQ-PARTICIPANT;PARTSTAT=ACCEPTED;RSVP=TRUE;CN=Amanda:ht
 tp://njyp.org/profile/Amanda277
ATTENDEE;ROLE=REQ-PARTICIPANT;PARTSTAT=ACCEPTED;RSVP=TRUE;CN=Bhavini:h
 ttp://njyp.org/profile/Bhavini
ATTENDEE;ROLE=REQ-PARTICIPANT;PARTSTAT=ACCEPTED;RSVP=TRUE;CN=Hope:http
 ://njyp.org/profile/Hope870
ATTENDEE;ROLE=REQ-PARTICIPANT;PARTSTAT=ACCEPTED;RSVP=TRUE;CN=Magaly:ht
 tp://njyp.org/profile/MagalyMaggie
ATTENDEE;ROLE=REQ-PARTICIPANT;PARTSTAT=ACCEPTED;RSVP=TRUE;CN=Carmen:ht
 tp://njyp.org/profile/Carmen436
ATTENDEE;ROLE=REQ-PARTICIPANT;PARTSTAT=ACCEPTED;RSVP=TRUE;CN="Celine P
 entifallo":http://njyp.org/profile/CelinePentifallo
ATTENDEE;ROLE=REQ-PARTICIPANT;PARTSTAT=ACCEPTED;RSVP=TRUE;CN=Klara:htt
 p://njyp.org/profile/Klara
ATTENDEE;ROLE=REQ-PARTICIPANT;PARTSTAT=ACCEPTED;RSVP=TRUE;CN="Amanda E
 lizabeth Arena":http://njyp.org/profile/AmandaElizabethArena
ATTENDEE;ROLE=REQ-PARTICIPANT;PARTSTAT=ACCEPTED;RSVP=TRUE;CN=Julie:htt
 p://njyp.org/profile/Julie942
ATTENDEE;ROLE=REQ-PARTICIPANT;PARTSTAT=ACCEPTED;RSVP=TRUE;CN=Katherine
 :http://njyp.org/profile/Katherine510
ATTENDEE;ROLE=REQ-PARTICIPANT;PARTSTAT=ACCEPTED;RSVP=TRUE;CN=Lizzie:ht
 tp://njyp.org/profile/ElizabethKuhns
ATTENDEE;ROLE=REQ-PARTICIPANT;PARTSTAT=ACCEPTED;RSVP=TRUE;CN=Angela:ht
 tp://njyp.org/profile/Angela594
ATTENDEE;ROLE=REQ-PARTICIPANT;PARTSTAT=ACCEPTED;RSVP=TRUE;CN=Andrea:ht
 tp://njyp.org/profile/Andrea222
ATTENDEE;ROLE=REQ-PARTICIPANT;PARTSTAT=ACCEPTED;RSVP=TRUE;CN=Geraldine
 :http://njyp.org/profile/Geraldine
ATTENDEE;ROLE=REQ-PARTICIPANT;PARTSTAT=ACCEPTED;RSVP=TRUE;CN=Luigina:h
 ttp://njyp.org/profile/Luigina
ATTENDEE;ROLE=REQ-PARTICIPANT;PARTSTAT=ACCEPTED;RSVP=TRUE;CN="AnnMarie
  Gervasio":http://njyp.org/profile/AnnMarieGervasio
ATTENDEE;ROLE=REQ-PARTICIPANT;PARTSTAT=ACCEPTED;RSVP=TRUE;CN=Viola:htt
 p://njyp.org/profile/Viola
ATTENDEE;ROLE=REQ-PARTICIPANT;PARTSTAT=ACCEPTED;RSVP=TRUE;CN=Kendra:ht
 tp://njyp.org/profile/Kendra
ATTENDEE;ROLE=REQ-PARTICIPANT;PARTSTAT=ACCEPTED;RSVP=TRUE;CN=Helen:htt
 p://njyp.org/profile/Helen108
ATTENDEE;ROLE=REQ-PARTICIPANT;PARTSTAT=ACCEPTED;RSVP=TRUE;CN="Dr. Kevi
 n":http://njyp.org/profile/KevinBrennan
ATTENDEE;ROLE=REQ-PARTICIPANT;PARTSTAT=ACCEPTED;RSVP=TRUE;CN=Anne-Mari
 e:http://njyp.org/profile/AnneMarieSanocki
ATTENDEE;ROLE=REQ-PARTICIPANT;PARTSTAT=ACCEPTED;RSVP=TRUE;CN="Raquyyah
  Griffin":http://njyp.org/profile/RaquyyahGriffin
ATTENDEE;ROLE=REQ-PARTICIPANT;PARTSTAT=ACCEPTED;RSVP=TRUE;CN=Keri:http
 ://njyp.org/profile/Keri690
ATTENDEE;ROLE=REQ-PARTICIPANT;PARTSTAT=ACCEPTED;RSVP=TRUE;CN="Brian an
 d Mike":http://njyp.org/profile/BrianMike
ATTENDEE;ROLE=REQ-PARTICIPANT;PARTSTAT=TENTATIVE;RSVP=TRUE;CN=Kendell:
 http://njyp.org/profile/Kendell
ATTENDEE;ROLE=REQ-PARTICIPANT;PARTSTAT=TENTATIVE;RSVP=TRUE;CN=Heather:
 http://njyp.org/profile/Heather308
ATTENDEE;ROLE=REQ-PARTICIPANT;PARTSTAT=TENTATIVE;RSVP=TRUE;CN=Terisa:h
 ttp://njyp.org/profile/royalt
ATTENDEE;ROLE=REQ-PARTICIPANT;PARTSTAT=TENTATIVE;RSVP=TRUE;CN=Annie:ht
 tp://njyp.org/profile/Annie58
ATTENDEE;ROLE=REQ-PARTICIPANT;PARTSTAT=TENTATIVE;RSVP=TRUE;CN=Joanne:h
 ttp://njyp.org/profile/JoanneMucerino
ATTENDEE;ROLE=REQ-PARTICIPANT;PARTSTAT=TENTATIVE;RSVP=TRUE;CN="Lisa F"
 :http://njyp.org/profile/LisaF
ATTENDEE;ROLE=REQ-PARTICIPANT;PARTSTAT=TENTATIVE;RSVP=TRUE;CN=Jennifer
 :http://njyp.org/profile/Jennifer622
ATTENDEE;ROLE=REQ-PARTICIPANT;PARTSTAT=TENTATIVE;RSVP=TRUE;CN=Erin:htt
 p://njyp.org/profile/ErinSullivan
END:VEVENT
END:VCALENDAR
