BEGIN:VCALENDAR
PRODID:NingEventWidget-v1
VERSION:2.0
METHOD:PUBLISH
BEGIN:VTIMEZONE
TZID:America/New_York
X-LIC-LOCATION:America/New_York
BEGIN:DAYLIGHT
TZOFFSETFROM:-0500
TZOFFSETTO:-0400
TZNAME:EDT
DTSTART:19700308T020000
RRULE:FREQ=YEARLY;BYMONTH=3;BYDAY=2SU
END:DAYLIGHT
BEGIN:STANDARD
TZOFFSETFROM:-0400
TZOFFSETTO:-0500
TZNAME:EST
DTSTART:19701101T020000
RRULE:FREQ=YEARLY;BYMONTH=11;BYDAY=1SU
END:STANDARD
END:VTIMEZONE
BEGIN:VEVENT
UID:2938326:Event:252034
DTSTAMP:20260420T041155Z
SUMMARY:GNO: Dinner and a Movie
DESCRIPTION:Calling all YP women, it is time for a fun girls night out
 ! We will begin with a a meet and greet at Qube Lounge before enjoying
  a delicious 3 course meal together. We will then stroll through Headq
 uarters Plaza to the theatre where we will split up into small groups 
 based on different movie tastes. By the end of the night you will be a
 ble to look back and remember the laughter, the conversation, and the 
 start of many friendships.Who Can Attend:Women only, ages 21 to 39.\n 
 \nMember Cost (includes 3 course dinner and movie voucher):$10 deposit
  online and $30 plus tax/tip at the door.You MUST register online by n
 oon the day of.Non-Member Cost (includes 3 course dinner and movie vou
 cher):$15 deposit online and $30 plus tax/tip at the door.You MUST reg
 ister online by noon the day of.Menu and movie:We will be ordering fro
 m this menu, http://www.njyp.org/page/dinner-and-movie-menuPlease note
  that all drinks are an additional cost.If you want to attend dinner b
 ut not see a movie you can use your movie voucher any other time.Sched
 ule:4:30 Meet and Great at the Qube Lounge (bar area).5:00 Sit for din
 ner.Around 7:00 We will start to divide up and leave for our chosen mo
 vies (in the same building).We do not all need to see the same movie b
 ut it will be discussed at dinner.How to Find the Group:Ask staff for 
 NJYP or look for signs. We will begin with a Meet and Greet in the Lou
 nge and will try to mingle close to the bar.Directions/Parking:http://
 morristown.hyatt.com/hyatt/hotels/services/maps/index.jsp;jsessionid=W
 WMACJ4ION5SGCTEAGGSFFQKMQAYYIV0There is a parking deck at the Hyatt or
  you can park on the street at the meters.\n\nFor more information vis
 it http://njyp.org/events/gno-dinner-and-a-movie
DTSTART;TZID=America/New_York:20110925T163000
DTEND;TZID=America/New_York:20110925T190000
CATEGORIES:"morris county", social, "women only"
LOCATION:Qube Lounge in the Hyatt (Headquarters Plaza)
WEBSITE:http://morristown.hyatt.com/hyatt/hotels/services/maps/index.j
 sp;jsessionid=WWMACJ4ION5SGCTEAGGSFFQKMQAYYIV0
URL:http://morristown.hyatt.com/hyatt/hotels/services/maps/index.jsp;j
 sessionid=WWMACJ4ION5SGCTEAGGSFFQKMQAYYIV0
CONTACT:
ORGANIZER;CN="Brian and Mike":http://njyp.org/profile/BrianMike
ATTACH;FMTTYPE="image/jpeg":http://storage.ning.com/topology/rest/1.0/
 file/get/1088708123?profile=original
ATTENDEE;ROLE=REQ-PARTICIPANT;PARTSTAT=ACCEPTED;RSVP=TRUE;CN=Amanda:ht
 tp://njyp.org/profile/Amanda42
ATTENDEE;ROLE=REQ-PARTICIPANT;PARTSTAT=ACCEPTED;RSVP=TRUE;CN="Marissa 
 Vitolo":http://njyp.org/profile/MarissaVitolo
ATTENDEE;ROLE=REQ-PARTICIPANT;PARTSTAT=ACCEPTED;RSVP=TRUE;CN="Jessica 
 Gill":http://njyp.org/profile/JessicaGill
ATTENDEE;ROLE=REQ-PARTICIPANT;PARTSTAT=ACCEPTED;RSVP=TRUE;CN=Lauren:ht
 tp://njyp.org/profile/Lauren111
ATTENDEE;ROLE=REQ-PARTICIPANT;PARTSTAT=ACCEPTED;RSVP=TRUE;CN=Jenny:htt
 p://njyp.org/profile/Jennifer694
ATTENDEE;ROLE=REQ-PARTICIPANT;PARTSTAT=ACCEPTED;RSVP=TRUE;CN=Diana:htt
 p://njyp.org/profile/Diana437
ATTENDEE;ROLE=REQ-PARTICIPANT;PARTSTAT=ACCEPTED;RSVP=TRUE;CN=Jenna:htt
 p://njyp.org/profile/Jenna416
ATTENDEE;ROLE=REQ-PARTICIPANT;PARTSTAT=ACCEPTED;RSVP=TRUE;CN=Amanda:ht
 tp://njyp.org/profile/Amanda710
ATTENDEE;ROLE=REQ-PARTICIPANT;PARTSTAT=ACCEPTED;RSVP=TRUE;CN=Kristen:h
 ttp://njyp.org/profile/Kristen1122
ATTENDEE;ROLE=REQ-PARTICIPANT;PARTSTAT=ACCEPTED;RSVP=TRUE;CN="Brian an
 d Mike":http://njyp.org/profile/BrianMike
ATTENDEE;ROLE=REQ-PARTICIPANT;PARTSTAT=TENTATIVE;RSVP=TRUE;CN=Annie:ht
 tp://njyp.org/profile/Annie108
ATTENDEE;ROLE=REQ-PARTICIPANT;PARTSTAT=TENTATIVE;RSVP=TRUE;CN=Anita:ht
 tp://njyp.org/profile/Anita
ATTENDEE;ROLE=REQ-PARTICIPANT;PARTSTAT=TENTATIVE;RSVP=TRUE;CN=Shweta:h
 ttp://njyp.org/profile/Shweta
ATTENDEE;ROLE=REQ-PARTICIPANT;PARTSTAT=TENTATIVE;RSVP=TRUE;CN=Marisa:h
 ttp://njyp.org/profile/Marisa578
ATTENDEE;ROLE=REQ-PARTICIPANT;PARTSTAT=TENTATIVE;RSVP=TRUE;CN="Jennife
 r Decker":http://njyp.org/profile/JenniferDecker
ATTENDEE;ROLE=REQ-PARTICIPANT;PARTSTAT=TENTATIVE;RSVP=TRUE;CN=Tiffany:
 http://njyp.org/profile/TLM
ATTENDEE;ROLE=REQ-PARTICIPANT;PARTSTAT=TENTATIVE;RSVP=TRUE;CN=Kristy:h
 ttp://njyp.org/profile/KristyBuchalla
ATTENDEE;ROLE=REQ-PARTICIPANT;PARTSTAT=TENTATIVE;RSVP=TRUE;CN=Maggie:h
 ttp://njyp.org/profile/Maggie28
ATTENDEE;ROLE=REQ-PARTICIPANT;PARTSTAT=TENTATIVE;RSVP=TRUE;CN="Jenna C
 lausen":http://njyp.org/profile/JennaClausen
ATTENDEE;ROLE=REQ-PARTICIPANT;PARTSTAT=TENTATIVE;RSVP=TRUE;CN=Sara:htt
 p://njyp.org/profile/SaraLevenstein
ATTENDEE;ROLE=REQ-PARTICIPANT;PARTSTAT=TENTATIVE;RSVP=TRUE;CN="Simone 
 Lyle":http://njyp.org/profile/SimoneLyle
ATTENDEE;ROLE=REQ-PARTICIPANT;PARTSTAT=TENTATIVE;RSVP=TRUE;CN=Julie:ht
 tp://njyp.org/profile/Julie942
ATTENDEE;ROLE=REQ-PARTICIPANT;PARTSTAT=TENTATIVE;RSVP=TRUE;CN=Rebecca:
 http://njyp.org/profile/Rebecca772
ATTENDEE;ROLE=REQ-PARTICIPANT;PARTSTAT=TENTATIVE;RSVP=TRUE;CN=Laura:ht
 tp://njyp.org/profile/LauraHolborow
END:VEVENT
END:VCALENDAR
