BEGIN:VCALENDAR
PRODID:NingEventWidget-v1
VERSION:2.0
METHOD:PUBLISH
BEGIN:VTIMEZONE
TZID:America/New_York
X-LIC-LOCATION:America/New_York
BEGIN:DAYLIGHT
TZOFFSETFROM:-0500
TZOFFSETTO:-0400
TZNAME:EDT
DTSTART:19700308T020000
RRULE:FREQ=YEARLY;BYMONTH=3;BYDAY=2SU
END:DAYLIGHT
BEGIN:STANDARD
TZOFFSETFROM:-0400
TZOFFSETTO:-0500
TZNAME:EST
DTSTART:19701101T020000
RRULE:FREQ=YEARLY;BYMONTH=11;BYDAY=1SU
END:STANDARD
END:VTIMEZONE
BEGIN:VEVENT
UID:2938326:Event:373211
DTSTAMP:20260420T002450Z
SUMMARY:GNO: Friends and Fondue
DESCRIPTION:Calling all YP women - it is time for another \"Girls Nigh
 t Out\"!   We’ll meet and greet at the aptly named Melting Pot rest
 aurant where a delicious 2 course fondue lunch awaits.  The meal incl
 udes an entree and your choice of a cheese or chocolate fondue (decisi
 ons, decisions!).   As we dine, there’ll be fun conversations, bubb
 ling laughter, and hopefully a few budding friendships.  Who Can Atten
 d: This is a Members Only event for women. Please pay your dues befor
 e attending.  Cost: $20 per person includes an entree and your choice 
 of a cheese or chocolate fondue plus tax and tip. Drinks are additiona
 l.  RSVPing: We will need to make reservations so you MUST RSVP as a Y
 ES if you wish to attend. Final RSVPs are due by 11am the day of the e
 vent. No-shows will potentially have their Memberships suspended.  How
  to Find the Group: Ask staff for NJYP or look for signs. We will begi
 n with a Meet and Greet in the bar before we sit.  Directions/Parking:
  http://www.meltingpot.com/somerville/welcome Various lots and street 
 parking.\n\nFor more information visit http://njyp.org/events/gno-frie
 nds-and-fondue
DTSTART;TZID=America/New_York:20120909T123000
DTEND;TZID=America/New_York:20120909T150000
CATEGORIES:"somerset county", social, "women only"
LOCATION:The Melting Pot
WEBSITE:http://www.meltingpot.com/somerville/welcome
URL:http://www.meltingpot.com/somerville/welcome
CONTACT:
ORGANIZER;CN="Brian and Mike":http://njyp.org/profile/BrianMike
ATTACH;FMTTYPE="image/jpeg":http://storage.ning.com/topology/rest/1.0/
 file/get/1088708123?profile=original
ATTENDEE;ROLE=REQ-PARTICIPANT;PARTSTAT=ACCEPTED;RSVP=TRUE;CN="Deb P.":
 http://njyp.org/profile/DebPassner
ATTENDEE;ROLE=REQ-PARTICIPANT;PARTSTAT=ACCEPTED;RSVP=TRUE;CN=Priya:htt
 p://njyp.org/profile/Priya
ATTENDEE;ROLE=REQ-PARTICIPANT;PARTSTAT=ACCEPTED;RSVP=TRUE;CN=Millicent
 :http://njyp.org/profile/Millicent
ATTENDEE;ROLE=REQ-PARTICIPANT;PARTSTAT=ACCEPTED;RSVP=TRUE;CN=Alison:ht
 tp://njyp.org/profile/AlisonHarris
ATTENDEE;ROLE=REQ-PARTICIPANT;PARTSTAT=ACCEPTED;RSVP=TRUE;CN=Ankita:ht
 tp://njyp.org/profile/Ankita
ATTENDEE;ROLE=REQ-PARTICIPANT;PARTSTAT=ACCEPTED;RSVP=TRUE;CN=Keira:htt
 p://njyp.org/profile/Keira
ATTENDEE;ROLE=REQ-PARTICIPANT;PARTSTAT=ACCEPTED;RSVP=TRUE;CN=marina:ht
 tp://njyp.org/profile/marina110
ATTENDEE;ROLE=REQ-PARTICIPANT;PARTSTAT=ACCEPTED;RSVP=TRUE;CN="Lori Sin
 clair":http://njyp.org/profile/LoriSinclair
ATTENDEE;ROLE=REQ-PARTICIPANT;PARTSTAT=TENTATIVE;RSVP=TRUE;CN=Sara:htt
 p://njyp.org/profile/SaraLevenstein
ATTENDEE;ROLE=REQ-PARTICIPANT;PARTSTAT=TENTATIVE;RSVP=TRUE;CN="Cindy L
 in":http://njyp.org/profile/CindyLin
ATTENDEE;ROLE=REQ-PARTICIPANT;PARTSTAT=TENTATIVE;RSVP=TRUE;CN=Elizabet
 h:http://njyp.org/profile/Elizabeth495
ATTENDEE;ROLE=REQ-PARTICIPANT;PARTSTAT=TENTATIVE;RSVP=TRUE;CN=Amanda:h
 ttp://njyp.org/profile/Amanda710
ATTENDEE;ROLE=REQ-PARTICIPANT;PARTSTAT=TENTATIVE;RSVP=TRUE;CN=Melissa:
 http://njyp.org/profile/Melissa591
ATTENDEE;ROLE=REQ-PARTICIPANT;PARTSTAT=TENTATIVE;RSVP=TRUE;CN=Nisha:ht
 tp://njyp.org/profile/Nisha588
ATTENDEE;ROLE=REQ-PARTICIPANT;PARTSTAT=TENTATIVE;RSVP=TRUE;CN=Julie:ht
 tp://njyp.org/profile/Julie942
ATTENDEE;ROLE=REQ-PARTICIPANT;PARTSTAT=TENTATIVE;RSVP=TRUE;CN=Stacey:h
 ttp://njyp.org/profile/Stacey899
ATTENDEE;ROLE=REQ-PARTICIPANT;PARTSTAT=TENTATIVE;RSVP=TRUE;CN=MISTI:ht
 tp://njyp.org/profile/MISTI
ATTENDEE;ROLE=REQ-PARTICIPANT;PARTSTAT=TENTATIVE;RSVP=TRUE;CN="Lynn Fi
 ore":http://njyp.org/profile/LynnFiore
ATTENDEE;ROLE=REQ-PARTICIPANT;PARTSTAT=TENTATIVE;RSVP=TRUE;CN=Renee:ht
 tp://njyp.org/profile/Renee345
ATTENDEE;ROLE=REQ-PARTICIPANT;PARTSTAT=TENTATIVE;RSVP=TRUE;CN=Lindsey:
 http://njyp.org/profile/Lindsey544
ATTENDEE;ROLE=REQ-PARTICIPANT;PARTSTAT=TENTATIVE;RSVP=TRUE;CN=Diana:ht
 tp://njyp.org/profile/Diana437
ATTENDEE;ROLE=REQ-PARTICIPANT;PARTSTAT=TENTATIVE;RSVP=TRUE;CN="Jennife
 r L. Campbell":http://njyp.org/profile/JenniferLCampbell
ATTENDEE;ROLE=REQ-PARTICIPANT;PARTSTAT=TENTATIVE;RSVP=TRUE;CN=Tracy:ht
 tp://njyp.org/profile/TracyAdams
ATTENDEE;ROLE=REQ-PARTICIPANT;PARTSTAT=TENTATIVE;RSVP=TRUE;CN=Jenna:ht
 tp://njyp.org/profile/Jenna486
ATTENDEE;ROLE=REQ-PARTICIPANT;PARTSTAT=TENTATIVE;RSVP=TRUE;CN="Stephan
 ie Straus":http://njyp.org/profile/StephanieStraus
ATTENDEE;ROLE=REQ-PARTICIPANT;PARTSTAT=TENTATIVE;RSVP=TRUE;CN=Monica:h
 ttp://njyp.org/profile/Monica421
ATTENDEE;ROLE=REQ-PARTICIPANT;PARTSTAT=TENTATIVE;RSVP=TRUE;CN=Juliet:h
 ttp://njyp.org/profile/Juliet
ATTENDEE;ROLE=REQ-PARTICIPANT;PARTSTAT=TENTATIVE;RSVP=TRUE;CN=Elizabet
 h:http://njyp.org/profile/ElizabethWilliams
END:VEVENT
END:VCALENDAR
