BEGIN:VCALENDAR
PRODID:NingEventWidget-v1
VERSION:2.0
METHOD:PUBLISH
BEGIN:VTIMEZONE
TZID:America/New_York
X-LIC-LOCATION:America/New_York
BEGIN:DAYLIGHT
TZOFFSETFROM:-0500
TZOFFSETTO:-0400
TZNAME:EDT
DTSTART:19700308T020000
RRULE:FREQ=YEARLY;BYMONTH=3;BYDAY=2SU
END:DAYLIGHT
BEGIN:STANDARD
TZOFFSETFROM:-0400
TZOFFSETTO:-0500
TZNAME:EST
DTSTART:19701101T020000
RRULE:FREQ=YEARLY;BYMONTH=11;BYDAY=1SU
END:STANDARD
END:VTIMEZONE
BEGIN:VEVENT
UID:2938326:Event:319243
DTSTAMP:20260419T210146Z
SUMMARY:GNO: Wine and Chocolate Tasting
DESCRIPTION:Sorry everyone, we didn't the minimum number of tickets so
 ld by the deadline they provided us. This event has been canceled.\n--
 -----------\nChocoholics rejoice!  NJYP‘s paired with ‘2 Chicks w
 ith Chocolate’ to bring you a spectacular Girls Night Out.  We’ll
  learn about chocolate’s transformation from bean to treat and, of c
 ourse, taste many types – from caramels to ganache to those little c
 ream filled kinds.  Feel free to bring a bottle of wine to this Women
 ’s only event, the chocolate will love the company.  What You Get: C
 hocolateducation Taste tons of chocolate Go home with the guest list s
 o you can stay in touch with the other guests  \n Member Cost: $25 for
  the first 15 $30 for everyone else Sorry, no-walks  Non-Member Cost: 
 $35 Sorry, no-walks  What to Bring: Everyone must bring 1 bottle of wi
 ne (you can take your leftovers home). Bring a \"fruity\" wine (aka a 
 wine that has fruit notes and is not dry). For instance you can bring 
 a Cabernet, Merlot, Tawny Port or a Riesling.  Who Can Attend: Women o
 nly who are 21 to 39 years old. This is a private event for NJYP Membe
 rs and their guests.  Tickets: There are a limited number of Tickets f
 or sale. Tickets are not mailed, but your name will be kept at the doo
 r. All sales are final.  Directions: Please note we are going to their
  NEW retail store that is on Main Street. Parking on the side streets.
 \n\nFor more information visit http://njyp.org/events/gno-wine-and-cho
 colate-tasting
DTSTART;TZID=America/New_York:20120306T190000
DTEND;TZID=America/New_York:20120306T210000
CATEGORIES:"middlesex county", educational, "women only"
LOCATION:2 Chicks with Chocolate
WEBSITE:http://www.2chickswithchocolate.com/
URL:http://www.2chickswithchocolate.com/
CONTACT:
ORGANIZER;CN="Brian and Mike":http://njyp.org/profile/BrianMike
ATTACH;FMTTYPE="image/jpeg":http://storage.ning.com/topology/rest/1.0/
 file/get/1088752884?profile=original
ATTENDEE;ROLE=REQ-PARTICIPANT;PARTSTAT=ACCEPTED;RSVP=TRUE;CN="Robyn Ga
 wron":http://njyp.org/profile/RobynGawron
ATTENDEE;ROLE=REQ-PARTICIPANT;PARTSTAT=ACCEPTED;RSVP=TRUE;CN="Stacey M
 inton":http://njyp.org/profile/StaceyMinton
ATTENDEE;ROLE=REQ-PARTICIPANT;PARTSTAT=ACCEPTED;RSVP=TRUE;CN=Felicia:h
 ttp://njyp.org/profile/Felicia
ATTENDEE;ROLE=REQ-PARTICIPANT;PARTSTAT=ACCEPTED;RSVP=TRUE;CN="Brian an
 d Mike":http://njyp.org/profile/BrianMike
ATTENDEE;ROLE=REQ-PARTICIPANT;PARTSTAT=TENTATIVE;RSVP=TRUE;CN=Lorette:
 http://njyp.org/profile/Lorette
ATTENDEE;ROLE=REQ-PARTICIPANT;PARTSTAT=TENTATIVE;RSVP=TRUE;CN=Sarah:ht
 tp://njyp.org/profile/Sarah476
ATTENDEE;ROLE=REQ-PARTICIPANT;PARTSTAT=TENTATIVE;RSVP=TRUE;CN=Anysa:ht
 tp://njyp.org/profile/Any
ATTENDEE;ROLE=REQ-PARTICIPANT;PARTSTAT=TENTATIVE;RSVP=TRUE;CN=Kirsten:
 http://njyp.org/profile/KirstenSwanson
ATTENDEE;ROLE=REQ-PARTICIPANT;PARTSTAT=TENTATIVE;RSVP=TRUE;CN=Dar:http
 ://njyp.org/profile/Darlene
ATTENDEE;ROLE=REQ-PARTICIPANT;PARTSTAT=TENTATIVE;RSVP=TRUE;CN="Stefani
 e Lampf":http://njyp.org/profile/StefanieLampf
ATTENDEE;ROLE=REQ-PARTICIPANT;PARTSTAT=TENTATIVE;RSVP=TRUE;CN="Latoya 
 White":http://njyp.org/profile/LatoyaWhite
ATTENDEE;ROLE=REQ-PARTICIPANT;PARTSTAT=TENTATIVE;RSVP=TRUE;CN=Arielle:
 http://njyp.org/profile/Arielle
ATTENDEE;ROLE=REQ-PARTICIPANT;PARTSTAT=TENTATIVE;RSVP=TRUE;CN=Sheila:h
 ttp://njyp.org/profile/Sheila
ATTENDEE;ROLE=REQ-PARTICIPANT;PARTSTAT=TENTATIVE;RSVP=TRUE;CN="Maureen
  Bello":http://njyp.org/profile/MaureenBello
ATTENDEE;ROLE=REQ-PARTICIPANT;PARTSTAT=TENTATIVE;RSVP=TRUE;CN=Gina:htt
 p://njyp.org/profile/Gina815
END:VEVENT
END:VCALENDAR
