BEGIN:VCALENDAR
PRODID:NingEventWidget-v1
VERSION:2.0
METHOD:PUBLISH
BEGIN:VTIMEZONE
TZID:America/New_York
X-LIC-LOCATION:America/New_York
BEGIN:DAYLIGHT
TZOFFSETFROM:-0500
TZOFFSETTO:-0400
TZNAME:EDT
DTSTART:19700308T020000
RRULE:FREQ=YEARLY;BYMONTH=3;BYDAY=2SU
END:DAYLIGHT
BEGIN:STANDARD
TZOFFSETFROM:-0400
TZOFFSETTO:-0500
TZNAME:EST
DTSTART:19701101T020000
RRULE:FREQ=YEARLY;BYMONTH=11;BYDAY=1SU
END:STANDARD
END:VTIMEZONE
BEGIN:VEVENT
UID:2938326:Event:108874
DTSTAMP:20260421T150346Z
SUMMARY:GNO with the Authors of Your So-Called Life
DESCRIPTION:Join other young women as we gather to hear from Andrea La
 vinthal and Jessica Rozler. They are the hip, young authors of Your So
 -Called Life: A Guide to Boys, Body Issues, and Other Big-Girl Drama Y
 ou Thought You Would Have Figured Out by Now and they are going to spe
 ak about their take on redo-berty (the years before 30, after 30, and 
 just at 30). We guarantee you will laugh out loud and relate to what t
 hey have to say.\n\nBonus guest, Dr. Kevin Brennan, a contributing exp
 ert psychologist, will also be present to discuss the book and answer 
 questions.\n\nWho can Attend:\nYoung Professionals who are female and 
 21-39 years of age, single or married.\n\nTicket Includes:\nA copy of 
 the book ($14.99 retail)\nA glass of wine or beer\nA copy of the guest
  list (stay connected to others who pre-registered)\nStick around to g
 et an autograph\n\n\n\nMember Cost:\n$17 for the first 30 to buy a tic
 ket online\n$22 for the next 31+ to buy a ticket online\n$30 for walk-
 ins\n\nNon-Member Cost:\n$30 online and for walk-ins\n\nSchedule:\n6:4
 5 Early Check-In and Tour of The AVE (anyone who arrives early gets an
  extra glass of wine/beer if they go on a quick tour of The AVE)\n7:00
  Regular Check-In and Meet and Greet\n7:15 Book Talk Starts\n\nTickets
 :\nThere are a limited number of Tickets for sale. Tickets are not mai
 led, but your name will be kept at the door. All sales are final.\n\nD
 irections/Parking:\nhttp://www.kormancommunities.com/ave/locations/uni
 on/maps.aspx\nWe will be meeting in a private room in The AVE apartmen
 t building. The AVE is located at the Union County Train Station. Plea
 se park in this lot AFTER you read the signs to confirm it is ok.\n\nH
 ow to find the group:\nWe will be meeting in the “café”. Ask at t
 he reception desk.\n\n\n\nFor more information visit http://njyp.org/e
 vents/gno-with-the-authors-of-your
DTSTART;TZID=America/New_York:20101116T184500
DTEND;TZID=America/New_York:20101116T204500
CATEGORIES:"union county", social, "women only", educational
LOCATION:The AVE
WEBSITE:http://www.kormancommunities.com/ave/locations/union/maps.aspx
URL:http://www.kormancommunities.com/ave/locations/union/maps.aspx
CONTACT:
ORGANIZER;CN="Brian and Mike":http://njyp.org/profile/BrianMike
ATTACH;FMTTYPE="image/jpeg":http://storage.ning.com/topology/rest/1.0/
 file/get/1088649477?profile=original
ATTENDEE;ROLE=REQ-PARTICIPANT;PARTSTAT=ACCEPTED;RSVP=TRUE;CN=Millie:ht
 tp://njyp.org/profile/Millie
ATTENDEE;ROLE=REQ-PARTICIPANT;PARTSTAT=ACCEPTED;RSVP=TRUE;CN=Meredith:
 http://njyp.org/profile/MeredithC
ATTENDEE;ROLE=REQ-PARTICIPANT;PARTSTAT=ACCEPTED;RSVP=TRUE;CN=Allison:h
 ttp://njyp.org/profile/Allison91
ATTENDEE;ROLE=REQ-PARTICIPANT;PARTSTAT=ACCEPTED;RSVP=TRUE;CN=Kelly:htt
 p://njyp.org/profile/Kelly728
ATTENDEE;ROLE=REQ-PARTICIPANT;PARTSTAT=ACCEPTED;RSVP=TRUE;CN=Joanne:ht
 tp://njyp.org/profile/Joanne
ATTENDEE;ROLE=REQ-PARTICIPANT;PARTSTAT=ACCEPTED;RSVP=TRUE;CN=Kelley:ht
 tp://njyp.org/profile/Kelley
ATTENDEE;ROLE=REQ-PARTICIPANT;PARTSTAT=ACCEPTED;RSVP=TRUE;CN=Julia:htt
 p://njyp.org/profile/Julia645
ATTENDEE;ROLE=REQ-PARTICIPANT;PARTSTAT=ACCEPTED;RSVP=TRUE;CN=Jill:http
 ://njyp.org/profile/JillBuonincontri
ATTENDEE;ROLE=REQ-PARTICIPANT;PARTSTAT=ACCEPTED;RSVP=TRUE;CN=Jennifer:
 http://njyp.org/profile/JenniferEphraim
ATTENDEE;ROLE=REQ-PARTICIPANT;PARTSTAT=ACCEPTED;RSVP=TRUE;CN=Preeti:ht
 tp://njyp.org/profile/Preeti
ATTENDEE;ROLE=REQ-PARTICIPANT;PARTSTAT=ACCEPTED;RSVP=TRUE;CN=Maria:htt
 p://njyp.org/profile/Maria357
ATTENDEE;ROLE=REQ-PARTICIPANT;PARTSTAT=ACCEPTED;RSVP=TRUE;CN=Julie:htt
 p://njyp.org/profile/Julie0705
ATTENDEE;ROLE=REQ-PARTICIPANT;PARTSTAT=ACCEPTED;RSVP=TRUE;CN=Niki:http
 ://njyp.org/profile/Niki
ATTENDEE;ROLE=REQ-PARTICIPANT;PARTSTAT=ACCEPTED;RSVP=TRUE;CN="Elaine A
 ndrecovich":http://njyp.org/profile/ElaineAndrecovich
ATTENDEE;ROLE=REQ-PARTICIPANT;PARTSTAT=ACCEPTED;RSVP=TRUE;CN="Sarah Da
 naher":http://njyp.org/profile/SarahDanaher
ATTENDEE;ROLE=REQ-PARTICIPANT;PARTSTAT=ACCEPTED;RSVP=TRUE;CN=Stef:http
 ://njyp.org/profile/Stef
ATTENDEE;ROLE=REQ-PARTICIPANT;PARTSTAT=ACCEPTED;RSVP=TRUE;CN=Tamara:ht
 tp://njyp.org/profile/Tamara227
ATTENDEE;ROLE=REQ-PARTICIPANT;PARTSTAT=ACCEPTED;RSVP=TRUE;CN="Heather 
 O'Brien":http://njyp.org/profile/HeatherOBrien
ATTENDEE;ROLE=REQ-PARTICIPANT;PARTSTAT=ACCEPTED;RSVP=TRUE;CN="Dawn Jae
 ckel":http://njyp.org/profile/DawnJaeckel
ATTENDEE;ROLE=REQ-PARTICIPANT;PARTSTAT=ACCEPTED;RSVP=TRUE;CN="AnnMarie
  Gervasio":http://njyp.org/profile/AnnMarieGervasio
ATTENDEE;ROLE=REQ-PARTICIPANT;PARTSTAT=ACCEPTED;RSVP=TRUE;CN=Claudia:h
 ttp://njyp.org/profile/Claudia
ATTENDEE;ROLE=REQ-PARTICIPANT;PARTSTAT=ACCEPTED;RSVP=TRUE;CN=Helen:htt
 p://njyp.org/profile/Helen108
ATTENDEE;ROLE=REQ-PARTICIPANT;PARTSTAT=ACCEPTED;RSVP=TRUE;CN=kelly:htt
 p://njyp.org/profile/kelly241
ATTENDEE;ROLE=REQ-PARTICIPANT;PARTSTAT=ACCEPTED;RSVP=TRUE;CN=Lynn:http
 ://njyp.org/profile/LynnTucci
ATTENDEE;ROLE=REQ-PARTICIPANT;PARTSTAT=ACCEPTED;RSVP=TRUE;CN=Erica:htt
 p://njyp.org/profile/Erica
ATTENDEE;ROLE=REQ-PARTICIPANT;PARTSTAT=ACCEPTED;RSVP=TRUE;CN="Brian an
 d Mike":http://njyp.org/profile/BrianMike
ATTENDEE;ROLE=REQ-PARTICIPANT;PARTSTAT=TENTATIVE;RSVP=TRUE;CN=Elizabet
 h:http://njyp.org/profile/ElizabethWilliams
ATTENDEE;ROLE=REQ-PARTICIPANT;PARTSTAT=TENTATIVE;RSVP=TRUE;CN=Kendell:
 http://njyp.org/profile/Kendell
ATTENDEE;ROLE=REQ-PARTICIPANT;PARTSTAT=TENTATIVE;RSVP=TRUE;CN=Jenine:h
 ttp://njyp.org/profile/jrose1528
ATTENDEE;ROLE=REQ-PARTICIPANT;PARTSTAT=TENTATIVE;RSVP=TRUE;CN=Shannon:
 http://njyp.org/profile/Shannon
ATTENDEE;ROLE=REQ-PARTICIPANT;PARTSTAT=TENTATIVE;RSVP=TRUE;CN="Lisa F"
 :http://njyp.org/profile/LisaF
ATTENDEE;ROLE=REQ-PARTICIPANT;PARTSTAT=TENTATIVE;RSVP=TRUE;CN="Jenna C
 lausen":http://njyp.org/profile/JennaClausen
ATTENDEE;ROLE=REQ-PARTICIPANT;PARTSTAT=TENTATIVE;RSVP=TRUE;CN="rachel 
 irene":http://njyp.org/profile/rachel_irene
ATTENDEE;ROLE=REQ-PARTICIPANT;PARTSTAT=TENTATIVE;RSVP=TRUE;CN="Lauren 
 Seabrooks":http://njyp.org/profile/LaurenSeabrooks
ATTENDEE;ROLE=REQ-PARTICIPANT;PARTSTAT=TENTATIVE;RSVP=TRUE;CN=Lizzie:h
 ttp://njyp.org/profile/ElizabethKuhns
ATTENDEE;ROLE=REQ-PARTICIPANT;PARTSTAT=TENTATIVE;RSVP=TRUE;CN=Nate:htt
 p://njyp.org/profile/Nate
ATTENDEE;ROLE=REQ-PARTICIPANT;PARTSTAT=TENTATIVE;RSVP=TRUE;CN=Amanda:h
 ttp://njyp.org/profile/Amanda695
ATTENDEE;ROLE=REQ-PARTICIPANT;PARTSTAT=TENTATIVE;RSVP=TRUE;CN=Megan:ht
 tp://njyp.org/profile/Margaret107
END:VEVENT
END:VCALENDAR
