BEGIN:VCALENDAR
PRODID:NingEventWidget-v1
VERSION:2.0
METHOD:PUBLISH
BEGIN:VTIMEZONE
TZID:America/New_York
X-LIC-LOCATION:America/New_York
BEGIN:DAYLIGHT
TZOFFSETFROM:-0500
TZOFFSETTO:-0400
TZNAME:EDT
DTSTART:19700308T020000
RRULE:FREQ=YEARLY;BYMONTH=3;BYDAY=2SU
END:DAYLIGHT
BEGIN:STANDARD
TZOFFSETFROM:-0400
TZOFFSETTO:-0500
TZNAME:EST
DTSTART:19701101T020000
RRULE:FREQ=YEARLY;BYMONTH=11;BYDAY=1SU
END:STANDARD
END:VTIMEZONE
BEGIN:VEVENT
UID:2938326:Event:578951
DTSTAMP:20260420T105929Z
SUMMARY:Greenwich Village Bohemian Food Tour (sponsored)
DESCRIPTION:Take a stroll along the quaint streets where “Bohemians
  and celebrities lived and played.  Learn the history of Washington
  Square Park and its elegant arch. \nSee the street where folk singer
 s, musicians, and comedians got their start and the church where a Pre
 sident was married.  As we meander through this unique neighborhood, 
 we may stop for the following: \n-a homemade fruit filled oat roll,\n
 -frites with different dipping sauces, \n-a sweet gelato macaroon, \
 n-a meat lovers sandwich, \n-a creamy Middle Eastern dip and\n-a NY s
 lice of pizza.  \n\nThis fun tour is 3 hours long and approximately 
 two miles so be sure to wear comfortable shoes and feel free to bring 
 a bottle of water.\n\nCome join NYC Bites and Sights Food Tours on Ju
 ly 27th at 11:30 to make connections and friends while you learn the 
 history and culture of one of the most popular neighborhoods in New Yo
 rk City.  The tour is $42 and does not include transportation.\n\nFor
  more information or to register please visit nycbitesandsightstours.
 com and use the promotional code NJPro.  \n\nExact details on where 
 to meet will be provided immediately upon ticket purchase.   We look 
 forward to touring with you.\n\nPlease note this is a sponsored event.
  If you wish to meet up with other NJYP Members please post on the eve
 nt wall.\n\nFor more information visit http://njyp.org/events/greenwic
 h-village-bohemian-food-tour-sponsored
DTSTART;TZID=America/New_York:20140727T113000
DTEND;TZID=America/New_York:20140727T143000
CATEGORIES:sponsored, "hudson county", social
LOCATION:Greenwich Village
WEBSITE:http://nycbitesandsightstours.com
URL:http://nycbitesandsightstours.com
CONTACT:
ORGANIZER;CN=Admin:http://njyp.org/profile/Admin
ATTACH;FMTTYPE="image/jpeg":http://storage.ning.com/topology/rest/1.0/
 file/get/1088984532?profile=original
ATTENDEE;ROLE=REQ-PARTICIPANT;PARTSTAT=ACCEPTED;RSVP=TRUE;CN=Keith:htt
 p://njyp.org/profile/Keith873
ATTENDEE;ROLE=REQ-PARTICIPANT;PARTSTAT=ACCEPTED;RSVP=TRUE;CN=David:htt
 p://njyp.org/profile/DavidKasten
ATTENDEE;ROLE=REQ-PARTICIPANT;PARTSTAT=ACCEPTED;RSVP=TRUE;CN=Admin:htt
 p://njyp.org/profile/Admin
ATTENDEE;ROLE=REQ-PARTICIPANT;PARTSTAT=ACCEPTED;RSVP=TRUE;CN=Kevin:htt
 p://njyp.org/profile/Kevin164
ATTENDEE;ROLE=REQ-PARTICIPANT;PARTSTAT=TENTATIVE;RSVP=TRUE;CN=Heather:
 http://njyp.org/profile/Heather940
ATTENDEE;ROLE=REQ-PARTICIPANT;PARTSTAT=TENTATIVE;RSVP=TRUE;CN="Fatima 
 Latif":http://njyp.org/profile/FatimaLatif
END:VEVENT
END:VCALENDAR
