BEGIN:VCALENDAR
PRODID:NingEventWidget-v1
VERSION:2.0
METHOD:PUBLISH
BEGIN:VTIMEZONE
TZID:America/New_York
X-LIC-LOCATION:America/New_York
BEGIN:DAYLIGHT
TZOFFSETFROM:-0500
TZOFFSETTO:-0400
TZNAME:EDT
DTSTART:19700308T020000
RRULE:FREQ=YEARLY;BYMONTH=3;BYDAY=2SU
END:DAYLIGHT
BEGIN:STANDARD
TZOFFSETFROM:-0400
TZOFFSETTO:-0500
TZNAME:EST
DTSTART:19701101T020000
RRULE:FREQ=YEARLY;BYMONTH=11;BYDAY=1SU
END:STANDARD
END:VTIMEZONE
BEGIN:VEVENT
UID:2938326:Event:328296
DTSTAMP:20260419T223628Z
SUMMARY:Grocery Store Tour
DESCRIPTION:Organic, local, and all natural – come learn about the h
 ealthiest eats on a tour of Whole Foods Market. Whether you’re a pro
 ud carnivore or the purest raw foodist, anyone can benefit from this g
 uided trip through the aisles, complete with tastings along the way. T
 he tour concludes with dinner in their cafe and a complimentary goody-
 bag designed to help with healthy eating habits.  Schedule: 6:45pm Mee
 t and Greet in the Café Area 7-8pm Tour Time 8pm Dinner with the Grou
 p (at your cost)  Cost: Private and free event for the dues paying Me
 mbers of NJYP. You MUST RSVP to attend. Please do not no-show as a goo
 die bag will be made for you.  Directions:\nhttp://wholefoodsmarket.co
 m/stores/paramus/  How to Find the Group: If you cannot find us in the
  café (look for signs) then please ask Customer Service where the NJY
 P group is.\n\nFor more information visit http://njyp.org/events/groce
 ry-store-tour-1
DTSTART;TZID=America/New_York:20120403T184500
DTEND;TZID=America/New_York:20120403T203000
CATEGORIES:"bergen county", social, educational, bbc
LOCATION:Whole Foods Market
WEBSITE:http://wholefoodsmarket.com/stores/paramus/
URL:http://wholefoodsmarket.com/stores/paramus/
CONTACT:
ORGANIZER;CN="Brian and Mike":http://njyp.org/profile/BrianMike
ATTACH;FMTTYPE="image/jpeg":http://storage.ning.com/topology/rest/1.0/
 file/get/1088751588?profile=original
ATTENDEE;ROLE=REQ-PARTICIPANT;PARTSTAT=ACCEPTED;RSVP=TRUE;CN=Nita:http
 ://njyp.org/profile/NitaSilimkhan
ATTENDEE;ROLE=REQ-PARTICIPANT;PARTSTAT=ACCEPTED;RSVP=TRUE;CN="Michael 
 Wargo":http://njyp.org/profile/MichaelWargo
ATTENDEE;ROLE=REQ-PARTICIPANT;PARTSTAT=ACCEPTED;RSVP=TRUE;CN=Cristin:h
 ttp://njyp.org/profile/me
ATTENDEE;ROLE=REQ-PARTICIPANT;PARTSTAT=ACCEPTED;RSVP=TRUE;CN="Rebecca 
 S. Auerbach":http://njyp.org/profile/RebeccaSAuerbach
ATTENDEE;ROLE=REQ-PARTICIPANT;PARTSTAT=ACCEPTED;RSVP=TRUE;CN=line:http
 ://njyp.org/profile/line
ATTENDEE;ROLE=REQ-PARTICIPANT;PARTSTAT=ACCEPTED;RSVP=TRUE;CN="NIcole V
 innal":http://njyp.org/profile/NIcoleVinnal
ATTENDEE;ROLE=REQ-PARTICIPANT;PARTSTAT=ACCEPTED;RSVP=TRUE;CN=Georgette
 :http://njyp.org/profile/Georgette
ATTENDEE;ROLE=REQ-PARTICIPANT;PARTSTAT=ACCEPTED;RSVP=TRUE;CN=Michele:h
 ttp://njyp.org/profile/MicheleSanto
ATTENDEE;ROLE=REQ-PARTICIPANT;PARTSTAT=TENTATIVE;RSVP=TRUE;CN=Jenn:htt
 p://njyp.org/profile/Jenn
ATTENDEE;ROLE=REQ-PARTICIPANT;PARTSTAT=TENTATIVE;RSVP=TRUE;CN=Janene:h
 ttp://njyp.org/profile/Janene
ATTENDEE;ROLE=REQ-PARTICIPANT;PARTSTAT=TENTATIVE;RSVP=TRUE;CN=Jen:http
 ://njyp.org/profile/Jen438
END:VEVENT
END:VCALENDAR
