BEGIN:VCALENDAR
PRODID:NingEventWidget-v1
VERSION:2.0
METHOD:PUBLISH
BEGIN:VTIMEZONE
TZID:America/New_York
X-LIC-LOCATION:America/New_York
BEGIN:DAYLIGHT
TZOFFSETFROM:-0500
TZOFFSETTO:-0400
TZNAME:EDT
DTSTART:19700308T020000
RRULE:FREQ=YEARLY;BYMONTH=3;BYDAY=2SU
END:DAYLIGHT
BEGIN:STANDARD
TZOFFSETFROM:-0400
TZOFFSETTO:-0500
TZNAME:EST
DTSTART:19701101T020000
RRULE:FREQ=YEARLY;BYMONTH=11;BYDAY=1SU
END:STANDARD
END:VTIMEZONE
BEGIN:VEVENT
UID:2938326:Event:412770
DTSTAMP:20260422T114235Z
SUMMARY:Grocery Store Tour
DESCRIPTION:So sorry, this was canceled due to the storm. We will try 
 to reschedule it but may not be able to.\n\nOrganic, local, and all na
 tural – come learn about the healthiest eats on the Whole Foods Mark
 et Grocery Store Tour. Whether you’re a proud carnivore or the pures
 t raw foodist, anyone can benefit from this guided trip through the ai
 sles, complete with tastings along the way. The tour concludes with lu
 nch in their cafe.  Schedule: 9:45am Meet and Greet at the Health Star
 ts Here desk (back by seafood/meat). 10-11am Tour Time 11am Late Break
 fast/Early Lunch with the Group (at your cost)  Cost: No cost but tick
 ets are required as space is very limited. Participants of the Better 
 Body Challenge will be given priority.  \n Directions: http://wholefo
 odsmarket.com/stores/paramus/  How to Find the Group: Meet at the \"He
 alth Starts Here\" desk which is back by seafood/meat.\n\nFor more inf
 ormation visit http://njyp.org/events/grocery-store-tour-3
DTSTART;TZID=America/New_York:20130209T094500
DTEND;TZID=America/New_York:20130209T110000
CATEGORIES:"bergen county", social, educational, bbc
LOCATION:Whole Foods Market
WEBSITE:http://wholefoodsmarket.com/stores/paramus/
URL:http://wholefoodsmarket.com/stores/paramus/
CONTACT:
ORGANIZER;CN="Brian and Mike":http://njyp.org/profile/BrianMike
ATTACH;FMTTYPE="image/jpeg":http://storage.ning.com/topology/rest/1.0/
 file/get/1088833042?profile=original
ATTENDEE;ROLE=REQ-PARTICIPANT;PARTSTAT=ACCEPTED;RSVP=TRUE;CN=Kathryn:h
 ttp://njyp.org/profile/Kathryn825
ATTENDEE;ROLE=REQ-PARTICIPANT;PARTSTAT=ACCEPTED;RSVP=TRUE;CN=Sheila:ht
 tp://njyp.org/profile/Sheila
ATTENDEE;ROLE=REQ-PARTICIPANT;PARTSTAT=ACCEPTED;RSVP=TRUE;CN="Brian an
 d Mike":http://njyp.org/profile/BrianMike
ATTENDEE;ROLE=REQ-PARTICIPANT;PARTSTAT=TENTATIVE;RSVP=TRUE;CN=Julie:ht
 tp://njyp.org/profile/Julie942
END:VEVENT
END:VCALENDAR
