BEGIN:VCALENDAR
PRODID:NingEventWidget-v1
VERSION:2.0
METHOD:PUBLISH
BEGIN:VTIMEZONE
TZID:America/New_York
X-LIC-LOCATION:America/New_York
BEGIN:DAYLIGHT
TZOFFSETFROM:-0500
TZOFFSETTO:-0400
TZNAME:EDT
DTSTART:19700308T020000
RRULE:FREQ=YEARLY;BYMONTH=3;BYDAY=2SU
END:DAYLIGHT
BEGIN:STANDARD
TZOFFSETFROM:-0400
TZOFFSETTO:-0500
TZNAME:EST
DTSTART:19701101T020000
RRULE:FREQ=YEARLY;BYMONTH=11;BYDAY=1SU
END:STANDARD
END:VTIMEZONE
BEGIN:VEVENT
UID:2938326:Event:318725
DTSTAMP:20260422T051121Z
SUMMARY:Grocery Store Tour
DESCRIPTION:Organic, local, and all natural – come learn about the h
 ealthiest eats on the Whole Foods Market Grocery Store Tour.  Whether
  you’re a proud carnivore or the purest raw foodist, anyone can bene
 fit from this guided trip through the aisles, complete with tastings a
 long the way.  The tour concludes with lunch in their cafe and a comp
 limentary goody-bag designed to help with healthy eating habits.  Sche
 dule: 10:45am Meet and Greet in the Café Area 11-12pm Tour Time 12pm 
 Lunch with the Group (at your cost)   Cost: Private and free event for
  Players and Sideliners who are part of the Better Body Challenge. Tic
 kets are required as space is very limited.  Directions: http://www.wh
 olefoodsmarket.com/stores/westorange/  How to Find the Group: If you c
 annot find us in the café (look for signs) then please ask Customer S
 ervice where the NJYP group is.\n\nFor more information visit http://n
 jyp.org/events/grocery-store-tour
DTSTART;TZID=America/New_York:20120212T104500
DTEND;TZID=America/New_York:20120212T130000
CATEGORIES:"essex county", social, educational, bbc
LOCATION:Whole Foods Market
WEBSITE:http://www.wholefoodsmarket.com/stores/westorange/
URL:http://www.wholefoodsmarket.com/stores/westorange/
CONTACT:
ORGANIZER;CN="Brian and Mike":http://njyp.org/profile/BrianMike
ATTACH;FMTTYPE="image/jpeg":http://storage.ning.com/topology/rest/1.0/
 file/get/1088751588?profile=original
ATTENDEE;ROLE=REQ-PARTICIPANT;PARTSTAT=ACCEPTED;RSVP=TRUE;CN="Stefanie
  Lampf":http://njyp.org/profile/StefanieLampf
ATTENDEE;ROLE=REQ-PARTICIPANT;PARTSTAT=ACCEPTED;RSVP=TRUE;CN=Sheila:ht
 tp://njyp.org/profile/Sheila
ATTENDEE;ROLE=REQ-PARTICIPANT;PARTSTAT=ACCEPTED;RSVP=TRUE;CN="NIcole V
 innal":http://njyp.org/profile/NIcoleVinnal
ATTENDEE;ROLE=REQ-PARTICIPANT;PARTSTAT=ACCEPTED;RSVP=TRUE;CN=Peter:htt
 p://njyp.org/profile/PeterMcDonnell
ATTENDEE;ROLE=REQ-PARTICIPANT;PARTSTAT=ACCEPTED;RSVP=TRUE;CN="Kerwyn V
 elasco":http://njyp.org/profile/KerwynVelasco
ATTENDEE;ROLE=REQ-PARTICIPANT;PARTSTAT=ACCEPTED;RSVP=TRUE;CN=Diana:htt
 p://njyp.org/profile/Diana437
ATTENDEE;ROLE=REQ-PARTICIPANT;PARTSTAT=ACCEPTED;RSVP=TRUE;CN="Michelle
  Iden":http://njyp.org/profile/MichelleIden
ATTENDEE;ROLE=REQ-PARTICIPANT;PARTSTAT=ACCEPTED;RSVP=TRUE;CN=Stephanie
 :http://njyp.org/profile/Stephanie516
ATTENDEE;ROLE=REQ-PARTICIPANT;PARTSTAT=ACCEPTED;RSVP=TRUE;CN="Brian an
 d Mike":http://njyp.org/profile/BrianMike
ATTENDEE;ROLE=REQ-PARTICIPANT;PARTSTAT=TENTATIVE;RSVP=TRUE;CN=Faris:ht
 tp://njyp.org/profile/Faris
ATTENDEE;ROLE=REQ-PARTICIPANT;PARTSTAT=TENTATIVE;RSVP=TRUE;CN="Nelly G
 alan":http://njyp.org/profile/NellyGalan
ATTENDEE;ROLE=REQ-PARTICIPANT;PARTSTAT=TENTATIVE;RSVP=TRUE;CN=Faina:ht
 tp://njyp.org/profile/Faina
END:VEVENT
END:VCALENDAR
