BEGIN:VCALENDAR
PRODID:NingEventWidget-v1
VERSION:2.0
METHOD:PUBLISH
BEGIN:VTIMEZONE
TZID:America/New_York
X-LIC-LOCATION:America/New_York
BEGIN:DAYLIGHT
TZOFFSETFROM:-0500
TZOFFSETTO:-0400
TZNAME:EDT
DTSTART:19700308T020000
RRULE:FREQ=YEARLY;BYMONTH=3;BYDAY=2SU
END:DAYLIGHT
BEGIN:STANDARD
TZOFFSETFROM:-0400
TZOFFSETTO:-0500
TZNAME:EST
DTSTART:19701101T020000
RRULE:FREQ=YEARLY;BYMONTH=11;BYDAY=1SU
END:STANDARD
END:VTIMEZONE
BEGIN:VEVENT
UID:2938326:Event:97879
DTSTAMP:20260420T091025Z
SUMMARY:Hairspray
DESCRIPTION:Raise a glass to the opening night of Paper Mill Playhouse
 ’s first production of the season, Hairspray, for only $27.50!\n\nCo
 me early (between 6:00pm and 6:30pm) to enjoy a complimentary glass of
  champagne before the performance with fellow members of NJYP, followe
 d by a production of Hairspray, at 7:00pm.\n\nWinner of eight Tony Awa
 rds, including “Best Musical” and “Best Original Score”, Hairs
 pray is the show Variety described as “infinitely spirited, bubblegu
 m-flavored confection.” Tap your feet to the beat as Tracy Turnblad 
 and friends triumph over high school bullies, racism and enemies every
 where of big girls with big hair.\n\nCost:\nTickets are only $27.50 wh
 en you mention the code NJYP.\nTicket price includes one glass of cham
 pagne; Seating based on availability.\nAttendees must be Members of NJ
 YP or on the NJYP mailing list or guests that are not NJYP Members.\n\
 nReserve your tickets!\nCall the Group Sales Department at 973.379.363
 6 ext. 2438\nMention NJYP for the discount and if you are a single tic
 ket buyer, asked to be seated next to other Young Professionals.\nTick
 ets may be picked up at the box office an hour before the performance.
 \n\nHost:\nKendell will be hosting this event.\n\nHow to Find the Grou
 p:\nArrive at 6pm and ask the bartender where the group is. S/he will 
 be able to direct you.\n\nDirections:\nPaper Mill Playhouse is located
  just off of Route 24 and Interstate 78.\nVarious lots and street park
 ing.\n\nFor more information visit http://njyp.org/events/hairspray-1
DTSTART;TZID=America/New_York:20100926T180000
DTEND;TZID=America/New_York:20100926T210000
CATEGORIES:"essex county", arts, social
LOCATION:Papermill Playhouse
WEBSITE:http://www.papermill.org/
URL:http://www.papermill.org/
CONTACT:
ORGANIZER;CN="Brian and Mike":http://njyp.org/profile/BrianMike
ATTACH;FMTTYPE="image/jpeg":http://storage.ning.com/topology/rest/1.0/
 file/get/1088641371?profile=original
ATTENDEE;ROLE=REQ-PARTICIPANT;PARTSTAT=ACCEPTED;RSVP=TRUE;CN=Danielle:
 http://njyp.org/profile/DanielleSteckler
ATTENDEE;ROLE=REQ-PARTICIPANT;PARTSTAT=ACCEPTED;RSVP=TRUE;CN="Monica J
 ohnson":http://njyp.org/profile/MonicaJohnson
ATTENDEE;ROLE=REQ-PARTICIPANT;PARTSTAT=ACCEPTED;RSVP=TRUE;CN="Robert K
 ozlowski":http://njyp.org/profile/RobertKozlowski
ATTENDEE;ROLE=REQ-PARTICIPANT;PARTSTAT=ACCEPTED;RSVP=TRUE;CN=Monika:ht
 tp://njyp.org/profile/MonikaSymms
ATTENDEE;ROLE=REQ-PARTICIPANT;PARTSTAT=ACCEPTED;RSVP=TRUE;CN="Lynn Ada
 mo":http://njyp.org/profile/LynnAdamo
ATTENDEE;ROLE=REQ-PARTICIPANT;PARTSTAT=ACCEPTED;RSVP=TRUE;CN=Joshua:ht
 tp://njyp.org/profile/Joshua007
ATTENDEE;ROLE=REQ-PARTICIPANT;PARTSTAT=ACCEPTED;RSVP=TRUE;CN=Kendell:h
 ttp://njyp.org/profile/Kendell
ATTENDEE;ROLE=REQ-PARTICIPANT;PARTSTAT=TENTATIVE;RSVP=TRUE;CN="Alycia 
 Yerves":http://njyp.org/profile/AlyciaYerves
ATTENDEE;ROLE=REQ-PARTICIPANT;PARTSTAT=TENTATIVE;RSVP=TRUE;CN=Kelley:h
 ttp://njyp.org/profile/KelleyBoyle
ATTENDEE;ROLE=REQ-PARTICIPANT;PARTSTAT=TENTATIVE;RSVP=TRUE;CN=Moire:ht
 tp://njyp.org/profile/Moire
ATTENDEE;ROLE=REQ-PARTICIPANT;PARTSTAT=TENTATIVE;RSVP=TRUE;CN=Angeliqu
 e:http://njyp.org/profile/Angelique
ATTENDEE;ROLE=REQ-PARTICIPANT;PARTSTAT=TENTATIVE;RSVP=TRUE;CN="rachel 
 irene":http://njyp.org/profile/rachel_irene
ATTENDEE;ROLE=REQ-PARTICIPANT;PARTSTAT=TENTATIVE;RSVP=TRUE;CN="Kimberl
 y Spinelli":http://njyp.org/profile/KimberlySpinelli
ATTENDEE;ROLE=REQ-PARTICIPANT;PARTSTAT=TENTATIVE;RSVP=TRUE;CN=Susan:ht
 tp://njyp.org/profile/SusanChrusciel
ATTENDEE;ROLE=REQ-PARTICIPANT;PARTSTAT=TENTATIVE;RSVP=TRUE;CN="Jessica
  Gill":http://njyp.org/profile/JessicaGill
ATTENDEE;ROLE=REQ-PARTICIPANT;PARTSTAT=TENTATIVE;RSVP=TRUE;CN="Jenny M
 arie":http://njyp.org/profile/JennyMarie82
ATTENDEE;ROLE=REQ-PARTICIPANT;PARTSTAT=TENTATIVE;RSVP=TRUE;CN=Jennifer
 :http://njyp.org/profile/JenniferGates
ATTENDEE;ROLE=REQ-PARTICIPANT;PARTSTAT=TENTATIVE;RSVP=TRUE;CN=Leah:htt
 p://njyp.org/profile/LeahZ
ATTENDEE;ROLE=REQ-PARTICIPANT;PARTSTAT=TENTATIVE;RSVP=TRUE;CN=Missie:h
 ttp://njyp.org/profile/Missie
END:VEVENT
END:VCALENDAR
