BEGIN:VCALENDAR
PRODID:NingEventWidget-v1
VERSION:2.0
METHOD:PUBLISH
BEGIN:VTIMEZONE
TZID:America/New_York
X-LIC-LOCATION:America/New_York
BEGIN:DAYLIGHT
TZOFFSETFROM:-0500
TZOFFSETTO:-0400
TZNAME:EDT
DTSTART:19700308T020000
RRULE:FREQ=YEARLY;BYMONTH=3;BYDAY=2SU
END:DAYLIGHT
BEGIN:STANDARD
TZOFFSETFROM:-0400
TZOFFSETTO:-0500
TZNAME:EST
DTSTART:19701101T020000
RRULE:FREQ=YEARLY;BYMONTH=11;BYDAY=1SU
END:STANDARD
END:VTIMEZONE
BEGIN:VEVENT
UID:2938326:Event:104372
DTSTAMP:20260420T222925Z
SUMMARY:Halloween Costume Party in Morristown
DESCRIPTION:Muwhahaha... join us for our 6th Annual Halloween Costume 
 Party at The Side Bar in downtown Morristown. As is the tradition we w
 ill feature a member run costume contest as well as scary drink specia
 ls, “Vampire Blood” anyone? Trick or Treat you ask? We will have b
 oth! Expect candy galore, toys, and creepy decorations. See you there,
  in costume!\n\nPictures from Halloween 2009, http://www.njyp.org/phot
 o/albums/halloween-oct-09\n\n\n\nContest:\nThe Costume Contest is Memb
 er Run!\nEveryone will receive 5 votes (aka Halloween Stickers). Your 
 mission for the evening will be to cast your votes by placing the Stic
 kers on those who have the Best Costumes. Who you \"stick\" is up to y
 ou. Heck, you can even vote for yourself, 5 times over!\n\nPrizes:\nPr
 izes will be handed out at 9:30pm.\nBest Costume by an Individual\nBes
 t Costume by a Group (2 or more)\n\nPrizes:\nTickets to see Jerzey Der
 by Brigade\nTickets to see Reel Big Fish\nTickets to see Love, Loss, a
 nd What I Wore\nTickets to see Colin Quinn Long Story Short\n\nDrink S
 pecials:\nWe are putting together some great ones.\nArrive on time to 
 get them.\n\nMember Cost:\n$10 for the first 70 to register\n$15 for t
 he next 71 to 150 to register\n$20 at the door\n\nNon-Member Cost:\n$2
 0 online and at the door.\n\nTickets:\nThere are a limited number of T
 ickets for sale. Tickets are not mailed, but your name will be kept at
  the door. All sales are final.\n\nWhat to wear:\nCome in Costume! Tra
 ditionally everyone dresses up.\n\nDirections/Parking:\nVarious street
  parking.\nGiant parking garage is right behind the Famished Frog/Side
  Bar.\n\nFinding the Group:\nThe Side Bar is a private bar/lounge that
  is in the same building as the Famished Frog.\nhttp://www.famishedfro
 g.com/sidebar/\n\nFor more information visit http://njyp.org/events/ha
 lloween-costume-party-in
DTSTART;TZID=America/New_York:20101030T200000
DTEND;TZID=America/New_York:20101030T230000
CATEGORIES:"morris county", social, halloween
LOCATION:The Side Bar (at The Famished Frog)
WEBSITE:http://www.famishedfrog.com/sidebar/
URL:http://www.famishedfrog.com/sidebar/
CONTACT:
ORGANIZER;CN="Brian and Mike":http://njyp.org/profile/BrianMike
ATTACH;FMTTYPE="image/jpeg":http://storage.ning.com/topology/rest/1.0/
 file/get/1088647958?profile=original
ATTENDEE;ROLE=REQ-PARTICIPANT;PARTSTAT=ACCEPTED;RSVP=TRUE;CN=David:htt
 p://njyp.org/profile/DavidCollins
ATTENDEE;ROLE=REQ-PARTICIPANT;PARTSTAT=ACCEPTED;RSVP=TRUE;CN=Henrique:
 http://njyp.org/profile/Henrique
ATTENDEE;ROLE=REQ-PARTICIPANT;PARTSTAT=ACCEPTED;RSVP=TRUE;CN="Keri F-S
 ":http://njyp.org/profile/KeriF
ATTENDEE;ROLE=REQ-PARTICIPANT;PARTSTAT=ACCEPTED;RSVP=TRUE;CN="Chris Po
 orten":http://njyp.org/profile/ChrisPoorten
ATTENDEE;ROLE=REQ-PARTICIPANT;PARTSTAT=ACCEPTED;RSVP=TRUE;CN=Gio:http:
 //njyp.org/profile/GianfrancoPuggioni
ATTENDEE;ROLE=REQ-PARTICIPANT;PARTSTAT=ACCEPTED;RSVP=TRUE;CN="Tony Pan
 ariello":http://njyp.org/profile/TonyPanariello
ATTENDEE;ROLE=REQ-PARTICIPANT;PARTSTAT=ACCEPTED;RSVP=TRUE;CN=Amy:http:
 //njyp.org/profile/Amy578
ATTENDEE;ROLE=REQ-PARTICIPANT;PARTSTAT=ACCEPTED;RSVP=TRUE;CN="Ken S.":
 http://njyp.org/profile/KennethSirower
ATTENDEE;ROLE=REQ-PARTICIPANT;PARTSTAT=ACCEPTED;RSVP=TRUE;CN=Corry:htt
 p://njyp.org/profile/CorryDeMarco
ATTENDEE;ROLE=REQ-PARTICIPANT;PARTSTAT=ACCEPTED;RSVP=TRUE;CN=Lynn:http
 ://njyp.org/profile/LynnTucci
ATTENDEE;ROLE=REQ-PARTICIPANT;PARTSTAT=ACCEPTED;RSVP=TRUE;CN="Mark Odi
 an":http://njyp.org/profile/MarkOdian
ATTENDEE;ROLE=REQ-PARTICIPANT;PARTSTAT=ACCEPTED;RSVP=TRUE;CN="Amy York
 anis":http://njyp.org/profile/AmyYorkanis
ATTENDEE;ROLE=REQ-PARTICIPANT;PARTSTAT=ACCEPTED;RSVP=TRUE;CN=Jhiane:ht
 tp://njyp.org/profile/Jhiane
ATTENDEE;ROLE=REQ-PARTICIPANT;PARTSTAT=ACCEPTED;RSVP=TRUE;CN="Lynn Ada
 mo":http://njyp.org/profile/LynnAdamo
ATTENDEE;ROLE=REQ-PARTICIPANT;PARTSTAT=ACCEPTED;RSVP=TRUE;CN="Shahrooz
  Bhopti":http://njyp.org/profile/speedlike
ATTENDEE;ROLE=REQ-PARTICIPANT;PARTSTAT=ACCEPTED;RSVP=TRUE;CN=Vinay:htt
 p://njyp.org/profile/Vinay
ATTENDEE;ROLE=REQ-PARTICIPANT;PARTSTAT=ACCEPTED;RSVP=TRUE;CN="Rebecca 
 Prince":http://njyp.org/profile/RebeccaPrince
ATTENDEE;ROLE=REQ-PARTICIPANT;PARTSTAT=ACCEPTED;RSVP=TRUE;CN=Carmela:h
 ttp://njyp.org/profile/Carmela
ATTENDEE;ROLE=REQ-PARTICIPANT;PARTSTAT=ACCEPTED;RSVP=TRUE;CN="Michelle
  Summer":http://njyp.org/profile/Michelle494
ATTENDEE;ROLE=REQ-PARTICIPANT;PARTSTAT=ACCEPTED;RSVP=TRUE;CN=Emily:htt
 p://njyp.org/profile/Emily
ATTENDEE;ROLE=REQ-PARTICIPANT;PARTSTAT=ACCEPTED;RSVP=TRUE;CN="Vincent 
 \"Matthew\" Vigorita":http://njyp.org/profile/VincentMatthewVigorita
ATTENDEE;ROLE=REQ-PARTICIPANT;PARTSTAT=ACCEPTED;RSVP=TRUE;CN=Janet:htt
 p://njyp.org/profile/Janet
ATTENDEE;ROLE=REQ-PARTICIPANT;PARTSTAT=ACCEPTED;RSVP=TRUE;CN="Kokil Ch
 achra":http://njyp.org/profile/KokilChachra
ATTENDEE;ROLE=REQ-PARTICIPANT;PARTSTAT=ACCEPTED;RSVP=TRUE;CN=d:http://
 njyp.org/profile/d
ATTENDEE;ROLE=REQ-PARTICIPANT;PARTSTAT=ACCEPTED;RSVP=TRUE;CN="Yvonne Z
 arnitz":http://njyp.org/profile/YvonneZarnitz
ATTENDEE;ROLE=REQ-PARTICIPANT;PARTSTAT=ACCEPTED;RSVP=TRUE;CN=JR:http:/
 /njyp.org/profile/JerilynHansen
ATTENDEE;ROLE=REQ-PARTICIPANT;PARTSTAT=ACCEPTED;RSVP=TRUE;CN="Jenna Cl
 ausen":http://njyp.org/profile/JennaClausen
ATTENDEE;ROLE=REQ-PARTICIPANT;PARTSTAT=ACCEPTED;RSVP=TRUE;CN="Heather 
 Sears":http://njyp.org/profile/HeatherSears
ATTENDEE;ROLE=REQ-PARTICIPANT;PARTSTAT=ACCEPTED;RSVP=TRUE;CN="Nikitas 
 M":http://njyp.org/profile/NikitasM
ATTENDEE;ROLE=REQ-PARTICIPANT;PARTSTAT=ACCEPTED;RSVP=TRUE;CN=Kimberly:
 http://njyp.org/profile/Kimberly35
ATTENDEE;ROLE=REQ-PARTICIPANT;PARTSTAT=ACCEPTED;RSVP=TRUE;CN="Amanda F
 orsburg":http://njyp.org/profile/AmandaF
ATTENDEE;ROLE=REQ-PARTICIPANT;PARTSTAT=ACCEPTED;RSVP=TRUE;CN=Jennie:ht
 tp://njyp.org/profile/junglebunnie
ATTENDEE;ROLE=REQ-PARTICIPANT;PARTSTAT=ACCEPTED;RSVP=TRUE;CN="Nicole F
 ulmino":http://njyp.org/profile/NicoleFulmino
ATTENDEE;ROLE=REQ-PARTICIPANT;PARTSTAT=ACCEPTED;RSVP=TRUE;CN=Vincent:h
 ttp://njyp.org/profile/Vincent
ATTENDEE;ROLE=REQ-PARTICIPANT;PARTSTAT=ACCEPTED;RSVP=TRUE;CN="Robin We
 aver":http://njyp.org/profile/RobinWeaver
ATTENDEE;ROLE=REQ-PARTICIPANT;PARTSTAT=ACCEPTED;RSVP=TRUE;CN="Marc Sem
 enta":http://njyp.org/profile/MarcSementa
ATTENDEE;ROLE=REQ-PARTICIPANT;PARTSTAT=ACCEPTED;RSVP=TRUE;CN=Kirsten:h
 ttp://njyp.org/profile/KirstenSwanson
ATTENDEE;ROLE=REQ-PARTICIPANT;PARTSTAT=ACCEPTED;RSVP=TRUE;CN="Brittany
  Burke":http://njyp.org/profile/BrittanyBurke
ATTENDEE;ROLE=REQ-PARTICIPANT;PARTSTAT=ACCEPTED;RSVP=TRUE;CN="Paul N":
 http://njyp.org/profile/PaulN
ATTENDEE;ROLE=REQ-PARTICIPANT;PARTSTAT=ACCEPTED;RSVP=TRUE;CN="Michael 
 R":http://njyp.org/profile/Rapscallion
ATTENDEE;ROLE=REQ-PARTICIPANT;PARTSTAT=ACCEPTED;RSVP=TRUE;CN=Jessica:h
 ttp://njyp.org/profile/JessicaNatalizio
ATTENDEE;ROLE=REQ-PARTICIPANT;PARTSTAT=ACCEPTED;RSVP=TRUE;CN=Maureen:h
 ttp://njyp.org/profile/Maureen
ATTENDEE;ROLE=REQ-PARTICIPANT;PARTSTAT=ACCEPTED;RSVP=TRUE;CN="JENNIFER
  tURKISH":http://njyp.org/profile/JENNIFERtURKISH
ATTENDEE;ROLE=REQ-PARTICIPANT;PARTSTAT=ACCEPTED;RSVP=TRUE;CN=Caryn:htt
 p://njyp.org/profile/Caryn
ATTENDEE;ROLE=REQ-PARTICIPANT;PARTSTAT=ACCEPTED;RSVP=TRUE;CN="Janice K
 lein":http://njyp.org/profile/JaniceKlein
ATTENDEE;ROLE=REQ-PARTICIPANT;PARTSTAT=ACCEPTED;RSVP=TRUE;CN="NIcole V
 innal":http://njyp.org/profile/NIcoleVinnal
ATTENDEE;ROLE=REQ-PARTICIPANT;PARTSTAT=ACCEPTED;RSVP=TRUE;CN=sarah:htt
 p://njyp.org/profile/sarah84
ATTENDEE;ROLE=REQ-PARTICIPANT;PARTSTAT=ACCEPTED;RSVP=TRUE;CN=Nathan:ht
 tp://njyp.org/profile/NathanMcMillan
ATTENDEE;ROLE=REQ-PARTICIPANT;PARTSTAT=ACCEPTED;RSVP=TRUE;CN=Kim:http:
 //njyp.org/profile/Kim17
ATTENDEE;ROLE=REQ-PARTICIPANT;PARTSTAT=ACCEPTED;RSVP=TRUE;CN=Elona:htt
 p://njyp.org/profile/Elona
ATTENDEE;ROLE=REQ-PARTICIPANT;PARTSTAT=TENTATIVE;RSVP=TRUE;CN=R:http:/
 /njyp.org/profile/RaymondJ
ATTENDEE;ROLE=REQ-PARTICIPANT;PARTSTAT=TENTATIVE;RSVP=TRUE;CN=Laura:ht
 tp://njyp.org/profile/Laura668
ATTENDEE;ROLE=REQ-PARTICIPANT;PARTSTAT=TENTATIVE;RSVP=TRUE;CN=Keira:ht
 tp://njyp.org/profile/Keira
ATTENDEE;ROLE=REQ-PARTICIPANT;PARTSTAT=TENTATIVE;RSVP=TRUE;CN=Olya:htt
 p://njyp.org/profile/Olya
ATTENDEE;ROLE=REQ-PARTICIPANT;PARTSTAT=TENTATIVE;RSVP=TRUE;CN=Holly:ht
 tp://njyp.org/profile/Holly767
ATTENDEE;ROLE=REQ-PARTICIPANT;PARTSTAT=TENTATIVE;RSVP=TRUE;CN="Olga B"
 :http://njyp.org/profile/Olga
ATTENDEE;ROLE=REQ-PARTICIPANT;PARTSTAT=TENTATIVE;RSVP=TRUE;CN=Ade:http
 ://njyp.org/profile/Clement
ATTENDEE;ROLE=REQ-PARTICIPANT;PARTSTAT=TENTATIVE;RSVP=TRUE;CN=kelly:ht
 tp://njyp.org/profile/kelly241
ATTENDEE;ROLE=REQ-PARTICIPANT;PARTSTAT=TENTATIVE;RSVP=TRUE;CN=Larry:ht
 tp://njyp.org/profile/LarryYang
ATTENDEE;ROLE=REQ-PARTICIPANT;PARTSTAT=TENTATIVE;RSVP=TRUE;CN=Diana:ht
 tp://njyp.org/profile/Diana
ATTENDEE;ROLE=REQ-PARTICIPANT;PARTSTAT=TENTATIVE;RSVP=TRUE;CN=Bisha:ht
 tp://njyp.org/profile/Bisha
ATTENDEE;ROLE=REQ-PARTICIPANT;PARTSTAT=TENTATIVE;RSVP=TRUE;CN=Kristina
 :http://njyp.org/profile/Kristina
ATTENDEE;ROLE=REQ-PARTICIPANT;PARTSTAT=TENTATIVE;RSVP=TRUE;CN=Pamela:h
 ttp://njyp.org/profile/Pamela
ATTENDEE;ROLE=REQ-PARTICIPANT;PARTSTAT=TENTATIVE;RSVP=TRUE;CN="Joao-Pi
 erre Ruth":http://njyp.org/profile/JoaoPierreRuth
ATTENDEE;ROLE=REQ-PARTICIPANT;PARTSTAT=TENTATIVE;RSVP=TRUE;CN=Matt:htt
 p://njyp.org/profile/Matt471
ATTENDEE;ROLE=REQ-PARTICIPANT;PARTSTAT=TENTATIVE;RSVP=TRUE;CN=Phil:htt
 p://njyp.org/profile/Phil484
ATTENDEE;ROLE=REQ-PARTICIPANT;PARTSTAT=TENTATIVE;RSVP=TRUE;CN="Deb P."
 :http://njyp.org/profile/DebPassner
ATTENDEE;ROLE=REQ-PARTICIPANT;PARTSTAT=TENTATIVE;RSVP=TRUE;CN="Leora G
 reenhaus":http://njyp.org/profile/LeoraDagani
ATTENDEE;ROLE=REQ-PARTICIPANT;PARTSTAT=TENTATIVE;RSVP=TRUE;CN="Amanda 
 Elizabeth Arena":http://njyp.org/profile/AmandaElizabethArena
ATTENDEE;ROLE=REQ-PARTICIPANT;PARTSTAT=TENTATIVE;RSVP=TRUE;CN=Ravi:htt
 p://njyp.org/profile/Ravi
ATTENDEE;ROLE=REQ-PARTICIPANT;PARTSTAT=TENTATIVE;RSVP=TRUE;CN=Kimberly
 :http://njyp.org/profile/Kimberly
ATTENDEE;ROLE=REQ-PARTICIPANT;PARTSTAT=TENTATIVE;RSVP=TRUE;CN="Jeffrey
  Rieske":http://njyp.org/profile/jwr
ATTENDEE;ROLE=REQ-PARTICIPANT;PARTSTAT=TENTATIVE;RSVP=TRUE;CN=Leah:htt
 p://njyp.org/profile/LeahZ
ATTENDEE;ROLE=REQ-PARTICIPANT;PARTSTAT=TENTATIVE;RSVP=TRUE;CN="Lisa F"
 :http://njyp.org/profile/LisaF
ATTENDEE;ROLE=REQ-PARTICIPANT;PARTSTAT=TENTATIVE;RSVP=TRUE;CN=Angeliqu
 e:http://njyp.org/profile/Angelique
ATTENDEE;ROLE=REQ-PARTICIPANT;PARTSTAT=TENTATIVE;RSVP=TRUE;CN=Brianne:
 http://njyp.org/profile/BrianneSherwood
ATTENDEE;ROLE=REQ-PARTICIPANT;PARTSTAT=TENTATIVE;RSVP=TRUE;CN=Alessand
 ra:http://njyp.org/profile/AlessandraDeCicco
ATTENDEE;ROLE=REQ-PARTICIPANT;PARTSTAT=TENTATIVE;RSVP=TRUE;CN="Jon Ber
 rian":http://njyp.org/profile/JonBerrian
ATTENDEE;ROLE=REQ-PARTICIPANT;PARTSTAT=TENTATIVE;RSVP=TRUE;CN="Judith 
 O":http://njyp.org/profile/JudithO
ATTENDEE;ROLE=REQ-PARTICIPANT;PARTSTAT=TENTATIVE;RSVP=TRUE;CN=Laavanya
 :http://njyp.org/profile/LaavanyaPasupuleti
ATTENDEE;ROLE=REQ-PARTICIPANT;PARTSTAT=TENTATIVE;RSVP=TRUE;CN=Tara:htt
 p://njyp.org/profile/TaraMorey
ATTENDEE;ROLE=REQ-PARTICIPANT;PARTSTAT=TENTATIVE;RSVP=TRUE;CN=Karen:ht
 tp://njyp.org/profile/Karen
ATTENDEE;ROLE=REQ-PARTICIPANT;PARTSTAT=TENTATIVE;RSVP=TRUE;CN=Peter:ht
 tp://njyp.org/profile/Peter778
ATTENDEE;ROLE=REQ-PARTICIPANT;PARTSTAT=TENTATIVE;RSVP=TRUE;CN=Robert:h
 ttp://njyp.org/profile/Robert367
ATTENDEE;ROLE=REQ-PARTICIPANT;PARTSTAT=TENTATIVE;RSVP=TRUE;CN=Lizzie:h
 ttp://njyp.org/profile/ElizabethKuhns
ATTENDEE;ROLE=REQ-PARTICIPANT;PARTSTAT=TENTATIVE;RSVP=TRUE;CN=Katie:ht
 tp://njyp.org/profile/Katie810
END:VEVENT
END:VCALENDAR
