BEGIN:VCALENDAR
PRODID:NingEventWidget-v1
VERSION:2.0
METHOD:PUBLISH
BEGIN:VTIMEZONE
TZID:America/New_York
X-LIC-LOCATION:America/New_York
BEGIN:DAYLIGHT
TZOFFSETFROM:-0500
TZOFFSETTO:-0400
TZNAME:EDT
DTSTART:19700308T020000
RRULE:FREQ=YEARLY;BYMONTH=3;BYDAY=2SU
END:DAYLIGHT
BEGIN:STANDARD
TZOFFSETFROM:-0400
TZOFFSETTO:-0500
TZNAME:EST
DTSTART:19701101T020000
RRULE:FREQ=YEARLY;BYMONTH=11;BYDAY=1SU
END:STANDARD
END:VTIMEZONE
BEGIN:VEVENT
UID:2938326:Event:738727
DTSTAMP:20260420T133200Z
SUMMARY:Halloween Party in Somerville
DESCRIPTION:\r\nJoin us for our 14th Annual Halloween Costume Party at
  Social in Somerville! Enjoy spooky drink specials and all the creativ
 e costumes around you.\r\n\r\nMember Cost: $5 online, $10 at door\r\nN
 on-Member Cost: $10 online, $15 at the door.\r\n\r\nDrink Specials: $2
 .50/$3.50 Beers, $5 Martinis, $5 House Mixed Drinks, $5/6 House Wine.\
 r\n  What to wear: Come in Costume! Traditionally everyone dresses up 
 but you do not have to.\r\n\n\nFor more information visit http://njyp.
 org/events/halloweensomerville101918
DTSTART;TZID=America/New_York:20181019T200000
DTEND;TZID=America/New_York:20181019T220000
CATEGORIES:"middlesex county", social, halloween, party, new, brunswic
 k, costume
LOCATION:Social
WEBSITE:https://www.besocialnj.com
URL:https://www.besocialnj.com
CONTACT:
ORGANIZER;CN="Brian Melnick":http://njyp.org/profile/Brian1218
ATTACH;FMTTYPE="image/jpeg":http://storage.ning.com/topology/rest/1.0/
 file/get/1089170931?profile=original
ATTENDEE;ROLE=REQ-PARTICIPANT;PARTSTAT=ACCEPTED;RSVP=TRUE;CN=Zachary:h
 ttp://njyp.org/profile/Zachary980
ATTENDEE;ROLE=REQ-PARTICIPANT;PARTSTAT=ACCEPTED;RSVP=TRUE;CN=Michelle:
 http://njyp.org/profile/Michelle768
ATTENDEE;ROLE=REQ-PARTICIPANT;PARTSTAT=ACCEPTED;RSVP=TRUE;CN="Robert K
 lipphahn":http://njyp.org/profile/RobertKlipphahn
ATTENDEE;ROLE=REQ-PARTICIPANT;PARTSTAT=ACCEPTED;RSVP=TRUE;CN=Maryam:ht
 tp://njyp.org/profile/MaryamHassas
ATTENDEE;ROLE=REQ-PARTICIPANT;PARTSTAT=ACCEPTED;RSVP=TRUE;CN=Atish:htt
 p://njyp.org/profile/Atish
ATTENDEE;ROLE=REQ-PARTICIPANT;PARTSTAT=ACCEPTED;RSVP=TRUE;CN=Dominique
 :http://njyp.org/profile/Dominique959
ATTENDEE;ROLE=REQ-PARTICIPANT;PARTSTAT=ACCEPTED;RSVP=TRUE;CN="Brian Me
 lnick":http://njyp.org/profile/Brian1218
ATTENDEE;ROLE=REQ-PARTICIPANT;PARTSTAT=TENTATIVE;RSVP=TRUE;CN=Devin:ht
 tp://njyp.org/profile/Devin101
ATTENDEE;ROLE=REQ-PARTICIPANT;PARTSTAT=TENTATIVE;RSVP=TRUE;CN=Joe:http
 ://njyp.org/profile/Joe307
ATTENDEE;ROLE=REQ-PARTICIPANT;PARTSTAT=TENTATIVE;RSVP=TRUE;CN=John:htt
 p://njyp.org/profile/3spc6ah11ln34
END:VEVENT
END:VCALENDAR
