BEGIN:VCALENDAR
PRODID:NingEventWidget-v1
VERSION:2.0
METHOD:PUBLISH
BEGIN:VTIMEZONE
TZID:America/New_York
X-LIC-LOCATION:America/New_York
BEGIN:DAYLIGHT
TZOFFSETFROM:-0500
TZOFFSETTO:-0400
TZNAME:EDT
DTSTART:19700308T020000
RRULE:FREQ=YEARLY;BYMONTH=3;BYDAY=2SU
END:DAYLIGHT
BEGIN:STANDARD
TZOFFSETFROM:-0400
TZOFFSETTO:-0500
TZNAME:EST
DTSTART:19701101T020000
RRULE:FREQ=YEARLY;BYMONTH=11;BYDAY=1SU
END:STANDARD
END:VTIMEZONE
BEGIN:VEVENT
UID:2938326:Event:732368
DTSTAMP:20260420T234316Z
SUMMARY:Halloween Party in Morristown
DESCRIPTION: \r\n\r\nMember Cost: $5 online, $10 at door\r\nNon-Membe
 r Cost: $10 online, $15 at the door.\r\nJoin us for our 13th Annual H
 alloween Costume Party at Sona 13 in Morristown!  Enjoy spooky drink
  specials, ghostly toys, and the creepiest decor while you check out 
 all the creative (and not so creative) costumes around you.  \r\n$5
  Vodka & Cranberry, $3 Miller Lite draft, $3 Coors Light bottles...
  and FREE light buffet of wings, pasta, and salad!\r\nPictures from
  Halloween past, http://www.njyp.org/photo/albums/halloween-costume-p
 arty-oct-2012\r\nThere are a limited number of Tickets for sale. Ticke
 ts are not mailed, but your name will be kept at the door. All sales a
 re final.  What to wear: Come in Costume! Traditionally everyone dre
 sses up but you do not have to.\r\n \r\n\n\nFor more information vis
 it http://njyp.org/events/halloweensomerville102017
DTSTART;TZID=America/New_York:20171020T200000
DTEND;TZID=America/New_York:20171020T220000
CATEGORIES:"middlesex county", social, halloween, party, new, brunswic
 k, costume
LOCATION:Sona Thirteen
WEBSITE:https://www.sonathirteen.com
URL:https://www.sonathirteen.com
CONTACT:
ORGANIZER;CN="Brian Melnick":http://njyp.org/profile/Brian1218
ATTACH;FMTTYPE="image/jpeg":http://storage.ning.com/topology/rest/1.0/
 file/get/1089157482?profile=original
ATTENDEE;ROLE=REQ-PARTICIPANT;PARTSTAT=ACCEPTED;RSVP=TRUE;CN=Ariel:htt
 p://njyp.org/profile/Ariel807
ATTENDEE;ROLE=REQ-PARTICIPANT;PARTSTAT=ACCEPTED;RSVP=TRUE;CN="Michael 
 Park":http://njyp.org/profile/MichaelPark
ATTENDEE;ROLE=REQ-PARTICIPANT;PARTSTAT=ACCEPTED;RSVP=TRUE;CN="Brian Me
 lnick":http://njyp.org/profile/Brian1218
ATTENDEE;ROLE=REQ-PARTICIPANT;PARTSTAT=ACCEPTED;RSVP=TRUE;CN=Nafees:ht
 tp://njyp.org/profile/Nafees
ATTENDEE;ROLE=REQ-PARTICIPANT;PARTSTAT=ACCEPTED;RSVP=TRUE;CN=Kevin:htt
 p://njyp.org/profile/Kevin45
ATTENDEE;ROLE=REQ-PARTICIPANT;PARTSTAT=ACCEPTED;RSVP=TRUE;CN=Casey:htt
 p://njyp.org/profile/Casey895
ATTENDEE;ROLE=REQ-PARTICIPANT;PARTSTAT=TENTATIVE;RSVP=TRUE;CN=Ara:http
 ://njyp.org/profile/Ara
ATTENDEE;ROLE=REQ-PARTICIPANT;PARTSTAT=TENTATIVE;RSVP=TRUE;CN=Diana:ht
 tp://njyp.org/profile/Diana437
ATTENDEE;ROLE=REQ-PARTICIPANT;PARTSTAT=TENTATIVE;RSVP=TRUE;CN=Dan:http
 ://njyp.org/profile/Dan218
ATTENDEE;ROLE=REQ-PARTICIPANT;PARTSTAT=TENTATIVE;RSVP=TRUE;CN="Allison
  Froehlich":http://njyp.org/profile/AllisonFroehlich
ATTENDEE;ROLE=REQ-PARTICIPANT;PARTSTAT=TENTATIVE;RSVP=TRUE;CN=Arielle:
 http://njyp.org/profile/ariellenewman
END:VEVENT
END:VCALENDAR
