BEGIN:VCALENDAR
PRODID:NingEventWidget-v1
VERSION:2.0
METHOD:PUBLISH
BEGIN:VTIMEZONE
TZID:America/New_York
X-LIC-LOCATION:America/New_York
BEGIN:DAYLIGHT
TZOFFSETFROM:-0500
TZOFFSETTO:-0400
TZNAME:EDT
DTSTART:19700308T020000
RRULE:FREQ=YEARLY;BYMONTH=3;BYDAY=2SU
END:DAYLIGHT
BEGIN:STANDARD
TZOFFSETFROM:-0400
TZOFFSETTO:-0500
TZNAME:EST
DTSTART:19701101T020000
RRULE:FREQ=YEARLY;BYMONTH=11;BYDAY=1SU
END:STANDARD
END:VTIMEZONE
BEGIN:VEVENT
UID:2938326:Event:368752
DTSTAMP:20260420T021938Z
SUMMARY:Handicapped People in Their Formal Attire: A Play
DESCRIPTION:Premiere Stages, the professional theatre in residence at 
 Kean University, is excited to present our 2012 Play Festival winner. 
 Set in 1968, Handicapped People in Their Formal Attire takes place at 
 a black tie fundraiser for people with disabilities. The evening's hon
 oree is Agnes Sheehan, a woman with cerebral palsy, who is escorted by
  her non-disabled sister, Theresa. The siblings make the most of the c
 elebration until unforeseen events force them to examine how fragile t
 he bond is between them. Infused with humor, this moving story explore
 s the true meaning of sacrifice. The inclusive cast includes actors wi
 th and without disabilities and features Lori Hammel, David Harrell, J
 ohn McGinty, Rachel Pickup, Roland Sands, and Ed Setrakian.  The produ
 ction runs Thursdays - Sundays from July 12th to July 29th  Who Should
  Attend: This is not an NJYP only event - the performances are open to
  the public and all Premiere Stages facilities are fully accessible.  
 Tickets: Standard Tickets: $30 Get $10 off your ticket for opening wee
 kend if you mention NJYP! Call 908-737-SHOW (7469) or visit http://www
 .kean.edu/premierestages/current.asp For July 13thtickets call 908-737
 -4092.  Opening Weekend Show Dates: July 12, 2012 at 8pm July 13, 2012
  at 8pm **Opening Night** (Dinner Package Special) July 14, 2012 at 3p
 m and 8pm July 15, 2012 at 3pm (The production runs Thursday-Sunday th
 rough July 29)\n\nFor more information visit http://njyp.org/events/ha
 ndicapped-people-in-their-formal-attire-by-kathryn-grant
DTSTART;TZID=America/New_York:20120712T000000
DTEND;TZID=America/New_York:20120715T235900
CATEGORIES:arts, social, "union county"
LOCATION:Zella Fry Theater, Kean University
WEBSITE:http://www.kean.edu/premierestages
URL:http://www.kean.edu/premierestages
CONTACT:
ORGANIZER;CN=Admin:http://njyp.org/profile/Admin
ATTACH;FMTTYPE="image/jpeg":http://storage.ning.com/topology/rest/1.0/
 file/get/1088799206?profile=original
ATTENDEE;ROLE=REQ-PARTICIPANT;PARTSTAT=ACCEPTED;RSVP=TRUE;CN=Millie:ht
 tp://njyp.org/profile/Millie
ATTENDEE;ROLE=REQ-PARTICIPANT;PARTSTAT=ACCEPTED;RSVP=TRUE;CN="Samir A.
  Shah":http://njyp.org/profile/SamirAShah
ATTENDEE;ROLE=REQ-PARTICIPANT;PARTSTAT=ACCEPTED;RSVP=TRUE;CN=Admin:htt
 p://njyp.org/profile/Admin
END:VEVENT
END:VCALENDAR
