BEGIN:VCALENDAR
PRODID:NingEventWidget-v1
VERSION:2.0
METHOD:PUBLISH
BEGIN:VTIMEZONE
TZID:America/New_York
X-LIC-LOCATION:America/New_York
BEGIN:DAYLIGHT
TZOFFSETFROM:-0500
TZOFFSETTO:-0400
TZNAME:EDT
DTSTART:19700308T020000
RRULE:FREQ=YEARLY;BYMONTH=3;BYDAY=2SU
END:DAYLIGHT
BEGIN:STANDARD
TZOFFSETFROM:-0400
TZOFFSETTO:-0500
TZNAME:EST
DTSTART:19701101T020000
RRULE:FREQ=YEARLY;BYMONTH=11;BYDAY=1SU
END:STANDARD
END:VTIMEZONE
BEGIN:VEVENT
UID:2938326:Event:564409
DTSTAMP:20260421T065551Z
SUMMARY:Hike: The Happy Hour Hike
DESCRIPTION:Kick off the summer at sunset with this Happy Hour Hike! 
  Our twilight hike is a rare breed – we almost never do hikes on we
 ekdays.  Plus, If you’ve been dying to try a hike, but weren’t s
 ure of your level, this is a perfect place to start.  Clocking in at
  2 hours with a 1.5 difficulty ranking, this is a perfect trek for beg
 inners.  Afterwards, wind down at a local pub for dinner and drinks 
 with the other hikers.  What better way to welcome the season than w
 ith fresh air and great company.\n Specs: Difficulty level is 1.5, ht
 tp://www.njyp.org/page/hike-ratings This easy hike is good for beginn
 ers! 4.5 miles in 2 hours at an easy pace. As with all hikes you must 
 be in reasonable athletic shape.\n\n\n\n\nMember Cost: $10 online $20 
 at the door the day of(so please register online)  Non-Member Cost: $2
 0 online and at the door  Sweeper: If the group size is larger than 10
 , we are going to look for a volunteer to act as a sweeper. Sweepers w
 ill walk at the end of the hike line and will make sure the group stay
 s together.  Hike Leader: David will be leading this hike. David will 
 not be waiting for late people. In fairness to those who arrive on tim
 e, the hike will start on time.  What to bring: Hiking boots are stron
 gly recommended and 2 liters of water is required. Hiking boots will h
 elp keep the mud out of your feet when hiking as the trail may have a 
 few wet spots. Bug spray is also recommended!  Inclement Weather: Heav
 y precipitation and/or high temps will cancel this hike. Please check 
 your inbox for updates and the NJYP.org calendar. Tickets will be refu
 nded.  Directions: Take 287 North or South to exit 30A. Follow North M
 aple Ave (it will become South Maple Ave) for approx 2.4 -2.6 miles an
 d make a left onto Lord Stirling Rd. Follow that for about 1 mile and 
 the park will be on the left.\nDo not use the entrance on South Maple 
 Ave, as those are only the stables.  For reference Google maps: https
 ://goo.gl/maps/xPJmy\n\nFor more information visit http://njyp.org/eve
 nts/happy-hour-hike
DTSTART;TZID=America/New_York:20140620T190000
DTEND;TZID=America/New_York:20140620T210000
CATEGORIES:"somerset county", athletic
LOCATION:Lord Stirling Park
WEBSITE:https://goo.gl/maps/xPJmy
URL:https://goo.gl/maps/xPJmy
CONTACT:
ORGANIZER;CN="Brian and Mike":http://njyp.org/profile/BrianMike
ATTACH;FMTTYPE="image/jpeg":http://storage.ning.com/topology/rest/1.0/
 file/get/1088595906?profile=original
ATTENDEE;ROLE=REQ-PARTICIPANT;PARTSTAT=ACCEPTED;RSVP=TRUE;CN=Matt:http
 ://njyp.org/profile/Matt176
ATTENDEE;ROLE=REQ-PARTICIPANT;PARTSTAT=ACCEPTED;RSVP=TRUE;CN=Keira:htt
 p://njyp.org/profile/Keira
ATTENDEE;ROLE=REQ-PARTICIPANT;PARTSTAT=ACCEPTED;RSVP=TRUE;CN=Michelle:
 http://njyp.org/profile/Michelle248
ATTENDEE;ROLE=REQ-PARTICIPANT;PARTSTAT=ACCEPTED;RSVP=TRUE;CN=Samantha:
 http://njyp.org/profile/Samantha993
ATTENDEE;ROLE=REQ-PARTICIPANT;PARTSTAT=ACCEPTED;RSVP=TRUE;CN=Lizzie:ht
 tp://njyp.org/profile/ElizabethKuhns
ATTENDEE;ROLE=REQ-PARTICIPANT;PARTSTAT=ACCEPTED;RSVP=TRUE;CN=NorthNJDa
 vid:http://njyp.org/profile/NorthNJDavid
ATTENDEE;ROLE=REQ-PARTICIPANT;PARTSTAT=ACCEPTED;RSVP=TRUE;CN="Brian an
 d Mike":http://njyp.org/profile/BrianMike
ATTENDEE;ROLE=REQ-PARTICIPANT;PARTSTAT=TENTATIVE;RSVP=TRUE;CN="Kevin H
 aughwout":http://njyp.org/profile/KevinHaughwout
ATTENDEE;ROLE=REQ-PARTICIPANT;PARTSTAT=TENTATIVE;RSVP=TRUE;CN=Maren:ht
 tp://njyp.org/profile/Maren160
ATTENDEE;ROLE=REQ-PARTICIPANT;PARTSTAT=TENTATIVE;RSVP=TRUE;CN=Fawn:htt
 p://njyp.org/profile/Fawn
ATTENDEE;ROLE=REQ-PARTICIPANT;PARTSTAT=TENTATIVE;RSVP=TRUE;CN=Laavanya
 :http://njyp.org/profile/LaavanyaPasupuleti
ATTENDEE;ROLE=REQ-PARTICIPANT;PARTSTAT=TENTATIVE;RSVP=TRUE;CN=Peter:ht
 tp://njyp.org/profile/PeterMcDonnell
ATTENDEE;ROLE=REQ-PARTICIPANT;PARTSTAT=TENTATIVE;RSVP=TRUE;CN=Melissa:
 http://njyp.org/profile/Melissa27
ATTENDEE;ROLE=REQ-PARTICIPANT;PARTSTAT=TENTATIVE;RSVP=TRUE;CN=Robert:h
 ttp://njyp.org/profile/Robert882
ATTENDEE;ROLE=REQ-PARTICIPANT;PARTSTAT=TENTATIVE;RSVP=TRUE;CN=James:ht
 tp://njyp.org/profile/JamesShow
END:VEVENT
END:VCALENDAR
