BEGIN:VCALENDAR
PRODID:NingEventWidget-v1
VERSION:2.0
METHOD:PUBLISH
BEGIN:VTIMEZONE
TZID:America/New_York
X-LIC-LOCATION:America/New_York
BEGIN:DAYLIGHT
TZOFFSETFROM:-0500
TZOFFSETTO:-0400
TZNAME:EDT
DTSTART:19700308T020000
RRULE:FREQ=YEARLY;BYMONTH=3;BYDAY=2SU
END:DAYLIGHT
BEGIN:STANDARD
TZOFFSETFROM:-0400
TZOFFSETTO:-0500
TZNAME:EST
DTSTART:19701101T020000
RRULE:FREQ=YEARLY;BYMONTH=11;BYDAY=1SU
END:STANDARD
END:VTIMEZONE
BEGIN:VEVENT
UID:2938326:Event:707646
DTSTAMP:20260422T065028Z
SUMMARY:Happy Hour in Asbury Park
DESCRIPTION:Update: Expecting 25+. Brian will be there and Tara will h
 ost. See you tonight!\n\nMember Cost: $2 online (NO Eventbrite Fee!), 
 $3 at the door\nNon-Member Cost: $3 online (plus $0.99), $5 at the d
 oor\nJoin us for Thursday Happy Hour at Watermark in Asbury Park!\nEve
 nt fee gives you a guaranteed good crowd to mix with in our reserved a
 rea, plus NJYP-only Drink and Food Specials: \n$7 Grilled Cheeses Du 
 Jour $9 Martinis (premium gin or vodka) $7 Watermark Infusion (Blueber
 ry Bourbon, lemon, ginger beer) $7 Cider and Champagne Cocktails, Sang
 ria (Adam and Ava, Apple Champagne Cocktail, Red Sangria) $8 Specialty
  Cocktails (Indian Summer, Rosemary Collins, Mermaid and The Walrus, L
 esbian Priate, Spiced Pear Margarita) $5 Wine Glass (Cabernet, Pinot G
 rigio, Sparkling Brut, Sparkling Spain) $15 Wine Bottle (Cabernet, Pi
 not Grigio, Sparkling Brut, Sparkling Spain) $3 Beer (announced at the
  bar)\n Who can attend: Young professionals, single or married, who a
 re 21-39 years of age.  Tickets: All sales are final. A limited numbe
 r of tickets will be sold.  This event is rain or shine.\nWhat to exp
 ect: Our Happy Hours are very casual. We will have a host check you i
 n. Expect people to walk up to you to introduce themselves and feel fr
 ee to walk up to others who you do not know. Newbies are at EVERY NJYP
  event so if this is your first, you won't be alone.  Directions: htt
 p://watermarkap.com/\n\n\nFor more information visit http://njyp.org/e
 vents/happy-hour-in-asbury-park
DTSTART;TZID=America/New_York:20151210T183000
DTEND;TZID=America/New_York:20151210T203000
CATEGORIES:monmouthcounty, social, members, happy, hour
LOCATION:Watermark
WEBSITE:http://watermarkap.com/
URL:http://watermarkap.com/
CONTACT:Brian Melnick, Tara
ORGANIZER;CN="Michael Park":http://njyp.org/profile/MichaelPark
ATTACH;FMTTYPE="image/jpeg":http://storage.ning.com/topology/rest/1.0/
 file/get/1089090712?profile=original
ATTENDEE;ROLE=REQ-PARTICIPANT;PARTSTAT=ACCEPTED;RSVP=TRUE;CN=John:http
 ://njyp.org/profile/John141
ATTENDEE;ROLE=REQ-PARTICIPANT;PARTSTAT=ACCEPTED;RSVP=TRUE;CN=Lauren:ht
 tp://njyp.org/profile/Lauren278
ATTENDEE;ROLE=REQ-PARTICIPANT;PARTSTAT=ACCEPTED;RSVP=TRUE;CN="Craig Wa
 ll":http://njyp.org/profile/CraigWall
ATTENDEE;ROLE=REQ-PARTICIPANT;PARTSTAT=ACCEPTED;RSVP=TRUE;CN=Mike:http
 ://njyp.org/profile/Mike568
ATTENDEE;ROLE=REQ-PARTICIPANT;PARTSTAT=ACCEPTED;RSVP=TRUE;CN=Erick:htt
 p://njyp.org/profile/Erick994
ATTENDEE;ROLE=REQ-PARTICIPANT;PARTSTAT=ACCEPTED;RSVP=TRUE;CN=Tara:http
 ://njyp.org/profile/TaraGeraghty
ATTENDEE;ROLE=REQ-PARTICIPANT;PARTSTAT=ACCEPTED;RSVP=TRUE;CN=Alexis:ht
 tp://njyp.org/profile/Alexis658
ATTENDEE;ROLE=REQ-PARTICIPANT;PARTSTAT=ACCEPTED;RSVP=TRUE;CN=Brian:htt
 p://njyp.org/profile/Brian502
ATTENDEE;ROLE=REQ-PARTICIPANT;PARTSTAT=ACCEPTED;RSVP=TRUE;CN="Bryan Ku
 derna":http://njyp.org/profile/BryanKuderna
ATTENDEE;ROLE=REQ-PARTICIPANT;PARTSTAT=ACCEPTED;RSVP=TRUE;CN=Kimberly:
 http://njyp.org/profile/Kimberly35
ATTENDEE;ROLE=REQ-PARTICIPANT;PARTSTAT=ACCEPTED;RSVP=TRUE;CN=Meg:http:
 //njyp.org/profile/Meg427
ATTENDEE;ROLE=REQ-PARTICIPANT;PARTSTAT=ACCEPTED;RSVP=TRUE;CN=Janet:htt
 p://njyp.org/profile/Janet
ATTENDEE;ROLE=REQ-PARTICIPANT;PARTSTAT=ACCEPTED;RSVP=TRUE;CN=Tony:http
 ://njyp.org/profile/Tony938
ATTENDEE;ROLE=REQ-PARTICIPANT;PARTSTAT=ACCEPTED;RSVP=TRUE;CN="Brian Me
 lnick":http://njyp.org/profile/Brian1218
ATTENDEE;ROLE=REQ-PARTICIPANT;PARTSTAT=ACCEPTED;RSVP=TRUE;CN="Michael 
 Park":http://njyp.org/profile/MichaelPark
ATTENDEE;ROLE=REQ-PARTICIPANT;PARTSTAT=TENTATIVE;RSVP=TRUE;CN=Tony:htt
 p://njyp.org/profile/Tony609
ATTENDEE;ROLE=REQ-PARTICIPANT;PARTSTAT=TENTATIVE;RSVP=TRUE;CN=Kevin:ht
 tp://njyp.org/profile/Kevin164
ATTENDEE;ROLE=REQ-PARTICIPANT;PARTSTAT=TENTATIVE;RSVP=TRUE;CN=Liz:http
 ://njyp.org/profile/Liz744
ATTENDEE;ROLE=REQ-PARTICIPANT;PARTSTAT=TENTATIVE;RSVP=TRUE;CN=Kelly:ht
 tp://njyp.org/profile/Kelly23
END:VEVENT
END:VCALENDAR
