BEGIN:VCALENDAR
PRODID:NingEventWidget-v1
VERSION:2.0
METHOD:PUBLISH
BEGIN:VTIMEZONE
TZID:America/New_York
X-LIC-LOCATION:America/New_York
BEGIN:DAYLIGHT
TZOFFSETFROM:-0500
TZOFFSETTO:-0400
TZNAME:EDT
DTSTART:19700308T020000
RRULE:FREQ=YEARLY;BYMONTH=3;BYDAY=2SU
END:DAYLIGHT
BEGIN:STANDARD
TZOFFSETFROM:-0400
TZOFFSETTO:-0500
TZNAME:EST
DTSTART:19701101T020000
RRULE:FREQ=YEARLY;BYMONTH=11;BYDAY=1SU
END:STANDARD
END:VTIMEZONE
BEGIN:VEVENT
UID:2938326:Event:107527
DTSTAMP:20260421T060606Z
SUMMARY:Harvest Wine Festival
DESCRIPTION:Bring your palette and your smile to this annual event and
  you will be sure to have a great time. Try full-bodied and rich red w
 ines, and taste many specialty wines. The Wine Library has selected ov
 er 100 wines for every palette's pleasure. Also enjoy a first class se
 lection of hors d'oeuvres, antipasto, cheese, breads and pasta from th
 e Hilton's award-winning culinary experts. Mix and mingle with other w
 ine lovers while enjoying the sounds of LIVE JAZZ. This is the 5th Ann
 ual Harvest Wine Festival at the Hilton, and they get more fabulous ev
 ery year!\n\nTICKET PRICES 10% off with promo code \"NJYP\"\nEarly Bir
 d: $69.00 (until Oct. 15)\nStandard: $75.00 (until Nov. 1)\nFinal Week
 : $84.00 (11/1 - 11/5)\n\nWINE & FOOD:\nThe connoisseurs from The Wine
  Library have selected over 100 wines for every palette's pleasure. To
  pair with the wine, the Hilton's AAA Four Diamond award-winning culin
 ary experts will provide a first class selection of hors d'oeuvres, an
 tipasto, cheese, breads and pasta.\n\nWINE CLASSES:\nThree (3) wine cl
 asses will be conducted in a special tasting area at 7:15PM, 8:15PM & 
 9:15. The instructor will conduct a side by side tasting of 5 special 
 wines, explaining the grape varietal origins and tasting notes for eac
 h. Class cost is an additional $20 per person and advance reservations
  must be made online or by phone during ticket purchase. This is an op
 portunity to attend a 30-40 minute small group session during the even
 t to expand your knowledge of wine. Class sizes are limited, so reserv
 e early!\n\nDISCOUNT HOTEL ROOMS:\nThe Hilton Short Hills, New Jersey'
 s premiere urban resort, is offering special accommodations for attend
 ees of this year's festival. Enjoy an overnight stay for a discounted 
 rate of $159 for Deluxe Accommodations, or just $209 in the private Ex
 ecutive Level which includes continental breakfast in The Terrace Rest
 aurant.\n\nMUSIC:\nGil Parris will perform live at the event. Gil is a
  Grammy Award nominated blues, jazz and pop guitarist. He has released
  five solo albums and played collaboratively with many notable artists
 , including Chris Botti, Toni Braxton, David Sanborn, Bob James, Cissy
  Houston, Dr. John, Blood Sweat and Tears, Paul Schaeffer, Bernie Will
 iams, and Bobby Caldwell just to name a few.\n\nPURCHASE TICKETS BY PH
 ONE: 866-811-4111 or ONLINE.\n\nSend questions by email: info@marqueec
 oncerts.com\n\nHOW TO FIND NJYP:\nThis is NOT a group event per se. If
  you wish to attend please organize your own way to meet up with frien
 ds and fellow Members.\n\nFor more information visit http://njyp.org/e
 vents/harvest-wine-festival
DTSTART;TZID=America/New_York:20101105T190000
DTEND;TZID=America/New_York:20101105T220000
CATEGORIES:"essex county", social
LOCATION:The Hilton Short Hills
WEBSITE:https://www.ovationtix.com/trs/pe/8428245
URL:https://www.ovationtix.com/trs/pe/8428245
CONTACT:
ORGANIZER;CN="Brian and Mike":http://njyp.org/profile/BrianMike
ATTACH;FMTTYPE="image/jpeg":http://storage.ning.com/topology/rest/1.0/
 file/get/1088650847?profile=original
ATTENDEE;ROLE=REQ-PARTICIPANT;PARTSTAT=ACCEPTED;RSVP=TRUE;CN="JENNIFER
  tURKISH":http://njyp.org/profile/JENNIFERtURKISH
ATTENDEE;ROLE=REQ-PARTICIPANT;PARTSTAT=ACCEPTED;RSVP=TRUE;CN=Krystal:h
 ttp://njyp.org/profile/KrystalWorthington
ATTENDEE;ROLE=REQ-PARTICIPANT;PARTSTAT=ACCEPTED;RSVP=TRUE;CN=Olya:http
 ://njyp.org/profile/Olya
ATTENDEE;ROLE=REQ-PARTICIPANT;PARTSTAT=ACCEPTED;RSVP=TRUE;CN="Brian an
 d Mike":http://njyp.org/profile/BrianMike
ATTENDEE;ROLE=REQ-PARTICIPANT;PARTSTAT=TENTATIVE;RSVP=TRUE;CN=Tim:http
 ://njyp.org/profile/Tim11
ATTENDEE;ROLE=REQ-PARTICIPANT;PARTSTAT=TENTATIVE;RSVP=TRUE;CN=Angeliqu
 e:http://njyp.org/profile/Angelique
ATTENDEE;ROLE=REQ-PARTICIPANT;PARTSTAT=TENTATIVE;RSVP=TRUE;CN=Lizzie:h
 ttp://njyp.org/profile/ElizabethKuhns
END:VEVENT
END:VCALENDAR
